BEGIN:VCALENDAR
VERSION:2.0
PRODID:-//UUFCC - ECPv6.15.17//NONSGML v1.0//EN
CALSCALE:GREGORIAN
METHOD:PUBLISH
X-WR-CALNAME:UUFCC
X-ORIGINAL-URL:https://uufcc.com
X-WR-CALDESC:Events for UUFCC
REFRESH-INTERVAL;VALUE=DURATION:PT1H
X-Robots-Tag:noindex
X-PUBLISHED-TTL:PT1H
BEGIN:VTIMEZONE
TZID:America/New_York
BEGIN:DAYLIGHT
TZOFFSETFROM:-0500
TZOFFSETTO:-0400
TZNAME:EDT
DTSTART:20240310T070000
END:DAYLIGHT
BEGIN:STANDARD
TZOFFSETFROM:-0400
TZOFFSETTO:-0500
TZNAME:EST
DTSTART:20241103T060000
END:STANDARD
BEGIN:DAYLIGHT
TZOFFSETFROM:-0500
TZOFFSETTO:-0400
TZNAME:EDT
DTSTART:20250309T070000
END:DAYLIGHT
BEGIN:STANDARD
TZOFFSETFROM:-0400
TZOFFSETTO:-0500
TZNAME:EST
DTSTART:20251102T060000
END:STANDARD
BEGIN:DAYLIGHT
TZOFFSETFROM:-0500
TZOFFSETTO:-0400
TZNAME:EDT
DTSTART:20260308T070000
END:DAYLIGHT
BEGIN:STANDARD
TZOFFSETFROM:-0400
TZOFFSETTO:-0500
TZNAME:EST
DTSTART:20261101T060000
END:STANDARD
END:VTIMEZONE
BEGIN:VEVENT
DTSTART;TZID=America/New_York:20250316T093000
DTEND;TZID=America/New_York:20250316T130000
DTSTAMP:20260424T083638
CREATED:20231128T173327Z
LAST-MODIFIED:20231128T173552Z
UID:10003546-1742117400-1742130000@uufcc.com
SUMMARY:Child Care
DESCRIPTION:
URL:https://uufcc.com/event/child-care-2/2025-03-16/
LOCATION:UUFCC – Room C\, 780 Waupelani Drive\, State College\, PA\, 16801\, United States
CATEGORIES:Lifespan Religious Exploration,RE Kids & Youth,Young Kids
ORGANIZER;CN="Unitarian Universalist Fellowship of Centre County":MAILTO:office@uufcc.com
END:VEVENT
BEGIN:VEVENT
DTSTART;TZID=America/New_York:20250316T100000
DTEND;TZID=America/New_York:20250316T110000
DTSTAMP:20260424T083638
CREATED:20241202T164535Z
LAST-MODIFIED:20250119T155611Z
UID:10007755-1742119200-1742122800@uufcc.com
SUMMARY:RE 1st-5th Grade: "Justice; stronger when we work together"
DESCRIPTION:LEGO ValUUes Workshop 8 Value: Justice Title: We are stronger when we work together.
URL:https://uufcc.com/event/re-1st-5th-grade-class-5-4/
LOCATION:UUFCC – Gathering Space\, 780 Waupelani Drive\, State College\, PA\, 16801\, United States
CATEGORIES:Lifespan Religious Exploration,RE Kids & Youth,Young Kids
ATTACH;FMTTYPE=image/png:https://uufcc.com/wp-content/uploads/2024/01/RE-Kids.png
END:VEVENT
BEGIN:VEVENT
DTSTART;TZID=America/New_York:20250316T100000
DTEND;TZID=America/New_York:20250316T110000
DTSTAMP:20260424T083638
CREATED:20241203T234738Z
LAST-MODIFIED:20241203T234738Z
UID:10007774-1742119200-1742122800@uufcc.com
SUMMARY:RE Middle School Class (6th-8th Grade)
DESCRIPTION:Soul Matters – In the Middle – The Practice of Repair 4 Session One: Democracy (The Tool to Repair Not Having a Say) from November packet
URL:https://uufcc.com/event/re-middle-school-class-6th-8th-grade-8/
LOCATION:UUFCC – Gathering Space\, 780 Waupelani Drive\, State College\, PA\, 16801\, United States
CATEGORIES:Lifespan Religious Exploration,Middle School Youth,RE Kids & Youth
ATTACH;FMTTYPE=image/png:https://uufcc.com/wp-content/uploads/2024/12/Middle-School-Youth.png
END:VEVENT
BEGIN:VEVENT
DTSTART;TZID=America/New_York:20250316T100000
DTEND;TZID=America/New_York:20250316T110000
DTSTAMP:20260424T083638
CREATED:20250119T153538Z
LAST-MODIFIED:20250119T153538Z
UID:10007734-1742119200-1742122800@uufcc.com
SUMMARY:RE Pre-K/K: "Seeing"
DESCRIPTION:Each week our kids will gather to explore our world in light of our UU values. \nPre-K/K friends will engage in guided exploration of various topics with their wonderful teachers. Sue Smith and Rocky Landers\, downstairs in Room D.
URL:https://uufcc.com/event/re-pre-k-k-seeing/
LOCATION:UUFCC – Gathering Space and Room D\, 780 Waupelani Drive\, State College\, PA\, 16801\, United States
CATEGORIES:Lifespan Religious Exploration,RE Kids & Youth,Young Kids
ATTACH;FMTTYPE=image/png:https://uufcc.com/wp-content/uploads/2024/01/RE-Pre-KK-Kids.png
ORGANIZER;CN="Unitarian Universalist Fellowship of Centre County":MAILTO:office@uufcc.com
END:VEVENT
BEGIN:VEVENT
DTSTART;TZID=America/New_York:20250316T111500
DTEND;TZID=America/New_York:20250316T121500
DTSTAMP:20260424T083638
CREATED:20250219T183734Z
LAST-MODIFIED:20250219T183734Z
UID:10008298-1742123700-1742127300@uufcc.com
SUMMARY:Music & Play
DESCRIPTION:New Music and Play class for elementary ages\, led by Karen Maynard. Class will meet downstairs in room B\, or the Gathering Space some weeks. Sign up here. Any questions\, please email Karen Maynard.
URL:https://uufcc.com/event/music-play/2025-03-16/
LOCATION:UUFCC – Gathering Space\, 780 Waupelani Drive\, State College\, PA\, 16801\, United States
CATEGORIES:Lifespan Religious Exploration,RE Kids & Youth,Young Kids
ATTACH;FMTTYPE=image/jpeg:https://uufcc.com/wp-content/uploads/2025/02/Music-Play.jpg
ORGANIZER;CN="Unitarian Universalist Fellowship of Centre County":MAILTO:office@uufcc.com
END:VEVENT
BEGIN:VEVENT
DTSTART;TZID=America/New_York:20250316T113000
DTEND;TZID=America/New_York:20250316T124500
DTSTAMP:20260424T083638
CREATED:20250212T163608Z
LAST-MODIFIED:20250212T163611Z
UID:10008172-1742124600-1742129100@uufcc.com
SUMMARY:Mosaic: Fostering Belonging and Liberation - "Mixing and Huddling"
DESCRIPTION:Session 1: “Mixing and Huddling” \nIf you are able to\, please read the following before attending this session: \n\nThe Wisdom of Caucusing for People of Color\nA Love Letter to White Unitarian Universalists regarding Cultural Competence and Appropriation\n\n\nThis is a new anti-racism curriculum curated by the UUA to help Unitarian Universalist congregations further their work of dismantling oppression. The 3 sessions will address identity caucusing\, the history of racism in Unitarian Universalism\, anti-racism\, and white entitlement. Led by trained facilitators and organized by the Racial Justice Committee. Contact Suzanne Weinstein or Laura Liermann for more information. \nSign-up for any of the Mosaic sessions here! \n 
URL:https://uufcc.com/event/adult-re-class-mosaic-fostering-belonging-and-liberation-3/
LOCATION:UUFCC – Room 6\, 780 Waupelani Drive\, State College\, PA\, 16801\, United States
CATEGORIES:Adult RE,Lifespan Religious Exploration
ATTACH;FMTTYPE=image/png:https://uufcc.com/wp-content/uploads/2024/09/Mosaic.png
END:VEVENT
BEGIN:VEVENT
DTSTART;TZID=America/New_York:20250317T123000
DTEND;TZID=America/New_York:20250317T130000
DTSTAMP:20260424T083638
CREATED:20231021T021336Z
LAST-MODIFIED:20250419T193312Z
UID:10000087-1742214600-1742216400@uufcc.com
SUMMARY:Meditation Monday
DESCRIPTION:Open to the public.\nJoin Kelle Kersten on Zoom for a guided meditation during your lunch to center yourself for the coming week!\nClick here to join the Zoom meeting.
URL:https://uufcc.com/event/meditation-monday/2025-03-17/
LOCATION:PA
CATEGORIES:Adult RE,Lifespan Religious Exploration
ATTACH;FMTTYPE=image/png:https://uufcc.com/wp-content/uploads/2023/10/UUFCC-Meditation-Mondays-540.png
END:VEVENT
BEGIN:VEVENT
DTSTART;TZID=America/New_York:20250320T143000
DTEND;TZID=America/New_York:20250320T160000
DTSTAMP:20260424T083638
CREATED:20240430T185149Z
LAST-MODIFIED:20240430T185151Z
UID:10005521-1742481000-1742486400@uufcc.com
SUMMARY:Memoirs Group
DESCRIPTION:
URL:https://uufcc.com/event/memoirs-group-2-2-2/2025-03-20/
LOCATION:UUFCC – Fellowship Hall\, 780 Waupelani Drive\, State College\, PA\, 16801\, United States
CATEGORIES:Adult RE,Lifespan Religious Exploration
END:VEVENT
BEGIN:VEVENT
DTSTART;TZID=America/New_York:20250322T170000
DTEND;TZID=America/New_York:20250322T200000
DTSTAMP:20260424T083638
CREATED:20240430T174124Z
LAST-MODIFIED:20241120T175130Z
UID:10005437-1742662800-1742673600@uufcc.com
SUMMARY:Starting Point Spring 2025
DESCRIPTION:Are you new to UUFCC or to Unitarian Universalism? Are you wanting to find your way into community here? Or\, have you been coming a long time and desiring to go deeper into your UU journey? Explore Starting Point with us! \nThis first session focuses on our personal spiritual journey and the historical journey of Unitarian Universalism. \nOn Mar 30\, we’ll move into the shared journey that fellowship members travel together and end by helping us discern which of the many “journey groups” in our congregation will be your “next step.” \nSign up on here: https://uufcc.breezechms.com/form/StartingPoint25
URL:https://uufcc.com/event/starting-point-spring-2025/
LOCATION:UUFCC – Room 6\, 780 Waupelani Drive\, State College\, PA\, 16801\, United States
CATEGORIES:Adult RE,Lifespan Religious Exploration
ATTACH;FMTTYPE=image/png:https://uufcc.com/wp-content/uploads/2024/04/Starting-Point.png
ORGANIZER;CN="Unitarian Universalist Fellowship of Centre County":MAILTO:office@uufcc.com
END:VEVENT
BEGIN:VEVENT
DTSTART;TZID=America/New_York:20250322T170000
DTEND;TZID=America/New_York:20250322T200000
DTSTAMP:20260424T083638
CREATED:20241028T193411Z
LAST-MODIFIED:20241028T193411Z
UID:10007355-1742662800-1742673600@uufcc.com
SUMMARY:Parents' Night Out - Toddler through 5th Grade
DESCRIPTION:Parents\, drop your kids off with our childcare providers for an evening of fun games\, dinner\, and a movie while you have some time for you! Sign up here for March: https://uufcc.breezechms.com/form/PNOMar2025
URL:https://uufcc.com/event/parents-night-out-toddler-through-5th-grade-6/
LOCATION:UUFCC – Fellowship Hall\, 780 Waupelani Drive\, State College\, PA\, 16801\, United States
CATEGORIES:Lifespan Religious Exploration,RE Kids & Youth,Young Kids
ATTACH;FMTTYPE=image/png:https://uufcc.com/wp-content/uploads/2024/09/Parents-Night-Out.png
ORGANIZER;CN="Unitarian Universalist Fellowship of Centre County":MAILTO:office@uufcc.com
END:VEVENT
END:VCALENDAR