BEGIN:VCALENDAR
VERSION:2.0
PRODID:-//UUFCC - ECPv6.15.17//NONSGML v1.0//EN
CALSCALE:GREGORIAN
METHOD:PUBLISH
X-WR-CALNAME:UUFCC
X-ORIGINAL-URL:https://uufcc.com
X-WR-CALDESC:Events for UUFCC
REFRESH-INTERVAL;VALUE=DURATION:PT1H
X-Robots-Tag:noindex
X-PUBLISHED-TTL:PT1H
BEGIN:VTIMEZONE
TZID:America/New_York
BEGIN:DAYLIGHT
TZOFFSETFROM:-0500
TZOFFSETTO:-0400
TZNAME:EDT
DTSTART:20220313T070000
END:DAYLIGHT
BEGIN:STANDARD
TZOFFSETFROM:-0400
TZOFFSETTO:-0500
TZNAME:EST
DTSTART:20221106T060000
END:STANDARD
BEGIN:DAYLIGHT
TZOFFSETFROM:-0500
TZOFFSETTO:-0400
TZNAME:EDT
DTSTART:20230312T070000
END:DAYLIGHT
BEGIN:STANDARD
TZOFFSETFROM:-0400
TZOFFSETTO:-0500
TZNAME:EST
DTSTART:20231105T060000
END:STANDARD
BEGIN:DAYLIGHT
TZOFFSETFROM:-0500
TZOFFSETTO:-0400
TZNAME:EDT
DTSTART:20240310T070000
END:DAYLIGHT
BEGIN:STANDARD
TZOFFSETFROM:-0400
TZOFFSETTO:-0500
TZNAME:EST
DTSTART:20241103T060000
END:STANDARD
END:VTIMEZONE
BEGIN:VEVENT
DTSTART;TZID=America/New_York:20231101T180000
DTEND;TZID=America/New_York:20231101T210000
DTSTAMP:20260420T160113
CREATED:20231105T152820Z
LAST-MODIFIED:20240313T161106Z
UID:10002318-1698861600-1698872400@uufcc.com
SUMMARY:Game Nights
DESCRIPTION:
URL:https://uufcc.com/event/game-nights/2023-11-01/
LOCATION:UUFCC – Fellowship Hall\, 780 Waupelani Drive\, State College\, PA\, 16801\, United States
CATEGORIES:Meeting
END:VEVENT
BEGIN:VEVENT
DTSTART;TZID=America/New_York:20231102T143000
DTEND;TZID=America/New_York:20231102T160000
DTSTAMP:20260420T160113
CREATED:20231021T165342Z
LAST-MODIFIED:20231025T170121Z
UID:10000540-1698935400-1698940800@uufcc.com
SUMMARY:Memoirs Group
DESCRIPTION:Each attendee is free to share a memory with the group or just listen. Our purpose is to encourage people to record their memories to share with friends and family and to develop a sense of fellowship with one another. Any and all are welcome. Contact Mike Bourgo.
URL:https://uufcc.com/event/memoirs-group/2023-11-02/
LOCATION:UUFCC – Fellowship Hall\, 780 Waupelani Drive\, State College\, PA\, 16801\, United States
CATEGORIES:Adult RE,Event,Meeting
ATTACH;FMTTYPE=image/png:https://uufcc.com/wp-content/uploads/2023/10/Memoirs-Group.png
END:VEVENT
BEGIN:VEVENT
DTSTART;TZID=America/New_York:20231104T100000
DTEND;TZID=America/New_York:20231104T120000
DTSTAMP:20260420T160113
CREATED:20231103T141056Z
LAST-MODIFIED:20231105T151117Z
UID:10001867-1699092000-1699099200@uufcc.com
SUMMARY:Educational Justice League
DESCRIPTION:EJL’s mission is to establish a powerful social justice coalition that actively advocates for and promotes equity for marginalized populations. \nWe are committed to addressing the unique challenges faced by communities of color\, individuals who identify as women\, LGBTQ+ individuals\, promoting accessibility for people with disabilities\, respecting and supporting individuals of all religions\, and bridging the socioeconomic gap through equitable education.
URL:https://uufcc.com/event/educational-justice-league/2023-11-04/
LOCATION:UUFCC – Room B\, 780 Waupelani Drive\, State College\, PA\, 16801\, United States
CATEGORIES:Meeting
END:VEVENT
BEGIN:VEVENT
DTSTART;TZID=America/New_York:20231105T113000
DTEND;TZID=America/New_York:20231105T130000
DTSTAMP:20260420T160113
CREATED:20231022T162558Z
LAST-MODIFIED:20231022T162706Z
UID:10000671-1699183800-1699189200@uufcc.com
SUMMARY:Midyear Meeting 2023
DESCRIPTION:Vote on important matters such as changes to the bylaws\, 1st Sunday Plate charities\, and the winner for the Chili Cookoff!
URL:https://uufcc.com/event/midyear-meeting-2023/
LOCATION:UUFCC – Sanctuary\, 780 Waupelani Drive\, State College\, PA\, 16801\, United States
CATEGORIES:Meeting
ATTACH;FMTTYPE=image/png:https://uufcc.com/wp-content/uploads/2023/10/Congregational-meeting.png
ORGANIZER;CN="Unitarian Universalist Fellowship of Centre County":MAILTO:office@uufcc.com
END:VEVENT
BEGIN:VEVENT
DTSTART;TZID=America/New_York:20231108T180000
DTEND;TZID=America/New_York:20231108T210000
DTSTAMP:20260420T160113
CREATED:20231105T152820Z
LAST-MODIFIED:20240313T161106Z
UID:10002319-1699466400-1699477200@uufcc.com
SUMMARY:Game Nights
DESCRIPTION:
URL:https://uufcc.com/event/game-nights/2023-11-08/
LOCATION:UUFCC – Fellowship Hall\, 780 Waupelani Drive\, State College\, PA\, 16801\, United States
CATEGORIES:Meeting
END:VEVENT
BEGIN:VEVENT
DTSTART;TZID=America/New_York:20231108T190000
DTEND;TZID=America/New_York:20231108T210000
DTSTAMP:20260420T160113
CREATED:20231105T151950Z
LAST-MODIFIED:20231105T154519Z
UID:10001988-1699470000-1699477200@uufcc.com
SUMMARY:Worship Committee Meeting
DESCRIPTION:
URL:https://uufcc.com/event/worship-committee-meeting/2023-11-08/
LOCATION:PA
CATEGORIES:Meeting,UUFCC Committee
ORGANIZER;CN="Unitarian Universalist Fellowship of Centre County":MAILTO:office@uufcc.com
END:VEVENT
BEGIN:VEVENT
DTSTART;TZID=America/New_York:20231111T100000
DTEND;TZID=America/New_York:20231111T120000
DTSTAMP:20260420T160113
CREATED:20231103T141056Z
LAST-MODIFIED:20231105T151117Z
UID:10001868-1699696800-1699704000@uufcc.com
SUMMARY:Educational Justice League
DESCRIPTION:EJL’s mission is to establish a powerful social justice coalition that actively advocates for and promotes equity for marginalized populations. \nWe are committed to addressing the unique challenges faced by communities of color\, individuals who identify as women\, LGBTQ+ individuals\, promoting accessibility for people with disabilities\, respecting and supporting individuals of all religions\, and bridging the socioeconomic gap through equitable education.
URL:https://uufcc.com/event/educational-justice-league/2023-11-11/
LOCATION:UUFCC – Room B\, 780 Waupelani Drive\, State College\, PA\, 16801\, United States
CATEGORIES:Meeting
END:VEVENT
BEGIN:VEVENT
DTSTART;TZID=America/New_York:20231114T180000
DTEND;TZID=America/New_York:20231114T190000
DTSTAMP:20260420T160113
CREATED:20231105T153317Z
LAST-MODIFIED:20231105T153344Z
UID:10002581-1699984800-1699988400@uufcc.com
SUMMARY:Music Committee
DESCRIPTION:
URL:https://uufcc.com/event/music-committee/2023-11-14/
LOCATION:UUFCC – Room 6\, 780 Waupelani Drive\, State College\, PA\, 16801\, United States
CATEGORIES:Meeting,UUFCC Committee
ORGANIZER;CN="Unitarian Universalist Fellowship of Centre County":MAILTO:office@uufcc.com
END:VEVENT
BEGIN:VEVENT
DTSTART;TZID=America/New_York:20231114T190000
DTEND;TZID=America/New_York:20231114T200000
DTSTAMP:20260420T160113
CREATED:20231105T153554Z
LAST-MODIFIED:20231105T153554Z
UID:10002642-1699988400-1699992000@uufcc.com
SUMMARY:Caring Committee
DESCRIPTION:
URL:https://uufcc.com/event/caring-committee/2023-11-14/
LOCATION:PA
CATEGORIES:Meeting,UUFCC Committee
ORGANIZER;CN="Unitarian Universalist Fellowship of Centre County":MAILTO:office@uufcc.com
END:VEVENT
BEGIN:VEVENT
DTSTART;TZID=America/New_York:20231115T173000
DTEND;TZID=America/New_York:20231115T183000
DTSTAMP:20260420T160113
CREATED:20231114T201844Z
LAST-MODIFIED:20231114T201908Z
UID:10002892-1700069400-1700073000@uufcc.com
SUMMARY:Racial Justice Committee
DESCRIPTION:Contact Janet Irons for the Zoom information.
URL:https://uufcc.com/event/racial-justice-committee/2023-11-15/
LOCATION:Unitarian Universalist Fellowship of Centre County\, 780 Waupelani Drive\, State College\, PA\, 16801\, United States
CATEGORIES:Meeting,UUFCC Committee
END:VEVENT
BEGIN:VEVENT
DTSTART;TZID=America/New_York:20231115T180000
DTEND;TZID=America/New_York:20231115T210000
DTSTAMP:20260420T160113
CREATED:20231105T152820Z
LAST-MODIFIED:20240313T161106Z
UID:10002320-1700071200-1700082000@uufcc.com
SUMMARY:Game Nights
DESCRIPTION:
URL:https://uufcc.com/event/game-nights/2023-11-15/
LOCATION:UUFCC – Fellowship Hall\, 780 Waupelani Drive\, State College\, PA\, 16801\, United States
CATEGORIES:Meeting
END:VEVENT
BEGIN:VEVENT
DTSTART;TZID=America/New_York:20231116T130000
DTEND;TZID=America/New_York:20231116T150000
DTSTAMP:20260420T160113
CREATED:20231105T154414Z
LAST-MODIFIED:20231105T154907Z
UID:10002764-1700139600-1700146800@uufcc.com
SUMMARY:Finance and Stewardship Committee
DESCRIPTION:
URL:https://uufcc.com/event/finance-and-stewardship-committee/2023-11-16/
LOCATION:UUFCC – Room 6\, 780 Waupelani Drive\, State College\, PA\, 16801\, United States
CATEGORIES:Meeting,UUFCC Committee
ORGANIZER;CN="Unitarian Universalist Fellowship of Centre County":MAILTO:office@uufcc.com
END:VEVENT
BEGIN:VEVENT
DTSTART;TZID=America/New_York:20231116T143000
DTEND;TZID=America/New_York:20231116T160000
DTSTAMP:20260420T160113
CREATED:20231213T185516Z
LAST-MODIFIED:20231213T185654Z
UID:10000541-1700145000-1700150400@uufcc.com
SUMMARY:Memoirs Group
DESCRIPTION:Each attendee is free to share a memory with the group or just listen. Our purpose is to encourage people to record their memories to share with friends and family and to develop a sense of fellowship with one another. Any and all are welcome. Contact Mike Bourgo.
URL:https://uufcc.com/event/memoirs-group-11-16-2023/
LOCATION:UUFCC – Fellowship Hall\, 780 Waupelani Drive\, State College\, PA\, 16801\, United States
CATEGORIES:Adult RE,Event,Meeting
ATTACH;FMTTYPE=image/png:https://uufcc.com/wp-content/uploads/2023/10/Memoirs-Group.png
END:VEVENT
BEGIN:VEVENT
DTSTART;TZID=America/New_York:20231122T180000
DTEND;TZID=America/New_York:20231122T210000
DTSTAMP:20260420T160113
CREATED:20231105T152820Z
LAST-MODIFIED:20240313T161106Z
UID:10002321-1700676000-1700686800@uufcc.com
SUMMARY:Game Nights
DESCRIPTION:
URL:https://uufcc.com/event/game-nights/2023-11-22/
LOCATION:UUFCC – Fellowship Hall\, 780 Waupelani Drive\, State College\, PA\, 16801\, United States
CATEGORIES:Meeting
END:VEVENT
BEGIN:VEVENT
DTSTART;TZID=America/New_York:20231122T190000
DTEND;TZID=America/New_York:20231122T210000
DTSTAMP:20260420T160113
CREATED:20231105T155401Z
LAST-MODIFIED:20231105T155401Z
UID:10002825-1700679600-1700686800@uufcc.com
SUMMARY:Board of Trustees
DESCRIPTION:
URL:https://uufcc.com/event/board-of-trustees/2023-11-22/
LOCATION:UUFCC – Room 6\, 780 Waupelani Drive\, State College\, PA\, 16801\, United States
CATEGORIES:Meeting
ORGANIZER;CN="Unitarian Universalist Fellowship of Centre County":MAILTO:office@uufcc.com
END:VEVENT
BEGIN:VEVENT
DTSTART;TZID=America/New_York:20231129T180000
DTEND;TZID=America/New_York:20231129T210000
DTSTAMP:20260420T160113
CREATED:20231105T152820Z
LAST-MODIFIED:20240313T161106Z
UID:10002322-1701280800-1701291600@uufcc.com
SUMMARY:Game Nights
DESCRIPTION:
URL:https://uufcc.com/event/game-nights/2023-11-29/
LOCATION:UUFCC – Fellowship Hall\, 780 Waupelani Drive\, State College\, PA\, 16801\, United States
CATEGORIES:Meeting
END:VEVENT
END:VCALENDAR