BEGIN:VCALENDAR
VERSION:2.0
PRODID:-//UUFCC - ECPv6.15.17//NONSGML v1.0//EN
CALSCALE:GREGORIAN
METHOD:PUBLISH
X-WR-CALNAME:UUFCC
X-ORIGINAL-URL:https://uufcc.com
X-WR-CALDESC:Events for UUFCC
REFRESH-INTERVAL;VALUE=DURATION:PT1H
X-Robots-Tag:noindex
X-PUBLISHED-TTL:PT1H
BEGIN:VTIMEZONE
TZID:America/New_York
BEGIN:DAYLIGHT
TZOFFSETFROM:-0500
TZOFFSETTO:-0400
TZNAME:EDT
DTSTART:20290311T070000
END:DAYLIGHT
BEGIN:STANDARD
TZOFFSETFROM:-0400
TZOFFSETTO:-0500
TZNAME:EST
DTSTART:20291104T060000
END:STANDARD
BEGIN:DAYLIGHT
TZOFFSETFROM:-0500
TZOFFSETTO:-0400
TZNAME:EDT
DTSTART:20300310T070000
END:DAYLIGHT
BEGIN:STANDARD
TZOFFSETFROM:-0400
TZOFFSETTO:-0500
TZNAME:EST
DTSTART:20301103T060000
END:STANDARD
BEGIN:DAYLIGHT
TZOFFSETFROM:-0500
TZOFFSETTO:-0400
TZNAME:EDT
DTSTART:20310309T070000
END:DAYLIGHT
BEGIN:STANDARD
TZOFFSETFROM:-0400
TZOFFSETTO:-0500
TZNAME:EST
DTSTART:20311102T060000
END:STANDARD
END:VTIMEZONE
BEGIN:VEVENT
DTSTART;TZID=America/New_York:20300405T153000
DTEND;TZID=America/New_York:20300405T180000
DTSTAMP:20260421T072201
CREATED:20250412T183626Z
LAST-MODIFIED:20250412T183644Z
UID:10008965-1901633400-1901642400@uufcc.com
SUMMARY:Folk Dancers
DESCRIPTION:Please join this group of folks passionate about dancing to international folk music. Explore different cultures through music and dance.
URL:https://uufcc.com/event/folk-dancers-2/2030-04-05/
LOCATION:UUFCC – Community Room\, 780 Waupelani Drive\, State College\, PA\, 16801\, United States
CATEGORIES:Meeting
ORGANIZER;CN="Unitarian Universalist Fellowship of Centre County":MAILTO:office@uufcc.com
END:VEVENT
BEGIN:VEVENT
DTSTART;TZID=America/New_York:20300405T193000
DTEND;TZID=America/New_York:20300405T210000
DTSTAMP:20260421T072201
CREATED:20250604T150226Z
LAST-MODIFIED:20250611T180339Z
UID:10009697-1901647800-1901653200@uufcc.com
SUMMARY:Justice Singers
DESCRIPTION:The Justice Singers of Centre County are an open community gathering for those who find power\, healing\, and connection through song in the face of injustice. The group sings songs of protest\, resilience\, and hope\, drawing from resources like Rise Up Singing. Participants are encouraged to bring themselves\, a friend\, and an instrument if they like\, but no experience is required—just a willingness to lift your voice. The circle also explores opportunities to sing at local actions and events\, such as the May Day Strong Day of Action\, Pride\, and other protests.
URL:https://uufcc.com/event/justice-singers/2030-04-05/
LOCATION:UUFCC – Room 6\, 780 Waupelani Drive\, State College\, PA\, 16801\, United States
CATEGORIES:Meeting,Music
END:VEVENT
BEGIN:VEVENT
DTSTART;TZID=America/New_York:20300407T113000
DTEND;TZID=America/New_York:20300407T123000
DTSTAMP:20260421T072201
CREATED:20250226T175011Z
LAST-MODIFIED:20250226T175015Z
UID:10009202-1901791800-1901795400@uufcc.com
SUMMARY:Green Sanctuary
DESCRIPTION:Our goal is to maintain and enhance the UUFCC’s green sanctuary certification by promoting ecojustice and the environmental practices that make ecojustice possible. We do this through projects at the UUFCC and in the broader community\, focusing on renewable energy\, and promoting the use of sustainable food\, green transportation\, and clean water.
URL:https://uufcc.com/event/green-sanctuary-2/2030-04-07/
LOCATION:UUFCC – Room B\, 780 Waupelani Drive\, State College\, PA\, 16801\, United States
CATEGORIES:Meeting,UUFCC Committee
END:VEVENT
BEGIN:VEVENT
DTSTART;TZID=America/New_York:20300407T120000
DTEND;TZID=America/New_York:20300407T133000
DTSTAMP:20260421T072201
CREATED:20240911T175727Z
LAST-MODIFIED:20240911T175728Z
UID:10008972-1901793600-1901799000@uufcc.com
SUMMARY:UUFCC Jazz Band Rehearsal
DESCRIPTION:The UUFCC Jazz Band is open to all. Rehearsals occur on Sundays in the Sanctuary\, although occasionally the band may rehearse in Room 6 due to major church events. \nContact David Morris if interested.
URL:https://uufcc.com/event/uufcc-jazz-band-rehearsal-3/2030-04-07/
LOCATION:UUFCC – Sanctuary\, 780 Waupelani Drive\, State College\, PA\, 16801\, United States
CATEGORIES:Meeting,Music
ORGANIZER;CN="Unitarian Universalist Fellowship of Centre County":MAILTO:office@uufcc.com
END:VEVENT
BEGIN:VEVENT
DTSTART;TZID=America/New_York:20300409T190000
DTEND;TZID=America/New_York:20300409T200000
DTSTAMP:20260421T072201
CREATED:20231105T153554Z
LAST-MODIFIED:20231105T153554Z
UID:10010325-1901991600-1901995200@uufcc.com
SUMMARY:Caring Committee
DESCRIPTION:
URL:https://uufcc.com/event/caring-committee/2030-04-09/
LOCATION:PA
CATEGORIES:Meeting,UUFCC Committee
ORGANIZER;CN="Unitarian Universalist Fellowship of Centre County":MAILTO:office@uufcc.com
END:VEVENT
BEGIN:VEVENT
DTSTART;TZID=America/New_York:20300410T153000
DTEND;TZID=America/New_York:20300410T180000
DTSTAMP:20260421T072201
CREATED:20250412T183626Z
LAST-MODIFIED:20250412T183644Z
UID:10008966-1902065400-1902074400@uufcc.com
SUMMARY:Folk Dancers
DESCRIPTION:Please join this group of folks passionate about dancing to international folk music. Explore different cultures through music and dance.
URL:https://uufcc.com/event/folk-dancers-2/2030-04-10/
LOCATION:UUFCC – Community Room\, 780 Waupelani Drive\, State College\, PA\, 16801\, United States
CATEGORIES:Meeting
ORGANIZER;CN="Unitarian Universalist Fellowship of Centre County":MAILTO:office@uufcc.com
END:VEVENT
BEGIN:VEVENT
DTSTART;TZID=America/New_York:20300412T153000
DTEND;TZID=America/New_York:20300412T180000
DTSTAMP:20260421T072201
CREATED:20250412T183626Z
LAST-MODIFIED:20250412T183644Z
UID:10008967-1902238200-1902247200@uufcc.com
SUMMARY:Folk Dancers
DESCRIPTION:Please join this group of folks passionate about dancing to international folk music. Explore different cultures through music and dance.
URL:https://uufcc.com/event/folk-dancers-2/2030-04-12/
LOCATION:UUFCC – Community Room\, 780 Waupelani Drive\, State College\, PA\, 16801\, United States
CATEGORIES:Meeting
ORGANIZER;CN="Unitarian Universalist Fellowship of Centre County":MAILTO:office@uufcc.com
END:VEVENT
BEGIN:VEVENT
DTSTART;TZID=America/New_York:20300414T120000
DTEND;TZID=America/New_York:20300414T133000
DTSTAMP:20260421T072201
CREATED:20240911T175727Z
LAST-MODIFIED:20240911T175728Z
UID:10008973-1902398400-1902403800@uufcc.com
SUMMARY:UUFCC Jazz Band Rehearsal
DESCRIPTION:The UUFCC Jazz Band is open to all. Rehearsals occur on Sundays in the Sanctuary\, although occasionally the band may rehearse in Room 6 due to major church events. \nContact David Morris if interested.
URL:https://uufcc.com/event/uufcc-jazz-band-rehearsal-3/2030-04-14/
LOCATION:UUFCC – Sanctuary\, 780 Waupelani Drive\, State College\, PA\, 16801\, United States
CATEGORIES:Meeting,Music
ORGANIZER;CN="Unitarian Universalist Fellowship of Centre County":MAILTO:office@uufcc.com
END:VEVENT
BEGIN:VEVENT
DTSTART;TZID=America/New_York:20300421T120000
DTEND;TZID=America/New_York:20300421T133000
DTSTAMP:20260421T072201
CREATED:20240911T175727Z
LAST-MODIFIED:20240911T175728Z
UID:10009203-1903003200-1903008600@uufcc.com
SUMMARY:UUFCC Jazz Band Rehearsal
DESCRIPTION:The UUFCC Jazz Band is open to all. Rehearsals occur on Sundays in the Sanctuary\, although occasionally the band may rehearse in Room 6 due to major church events. \nContact David Morris if interested.
URL:https://uufcc.com/event/uufcc-jazz-band-rehearsal-3/2030-04-21/
LOCATION:UUFCC – Sanctuary\, 780 Waupelani Drive\, State College\, PA\, 16801\, United States
CATEGORIES:Meeting,Music
ORGANIZER;CN="Unitarian Universalist Fellowship of Centre County":MAILTO:office@uufcc.com
END:VEVENT
BEGIN:VEVENT
DTSTART;TZID=America/New_York:20300425T180000
DTEND;TZID=America/New_York:20300425T190000
DTSTAMP:20260421T072201
CREATED:20231105T153317Z
LAST-MODIFIED:20231105T153344Z
UID:10010504-1903370400-1903374000@uufcc.com
SUMMARY:Music Committee
DESCRIPTION:
URL:https://uufcc.com/event/music-committee/2030-04-25/
LOCATION:UUFCC – Room 6\, 780 Waupelani Drive\, State College\, PA\, 16801\, United States
CATEGORIES:Meeting,UUFCC Committee
ORGANIZER;CN="Unitarian Universalist Fellowship of Centre County":MAILTO:office@uufcc.com
END:VEVENT
BEGIN:VEVENT
DTSTART;TZID=America/New_York:20300428T120000
DTEND;TZID=America/New_York:20300428T133000
DTSTAMP:20260421T072201
CREATED:20240911T175727Z
LAST-MODIFIED:20240911T175728Z
UID:10009204-1903608000-1903613400@uufcc.com
SUMMARY:UUFCC Jazz Band Rehearsal
DESCRIPTION:The UUFCC Jazz Band is open to all. Rehearsals occur on Sundays in the Sanctuary\, although occasionally the band may rehearse in Room 6 due to major church events. \nContact David Morris if interested.
URL:https://uufcc.com/event/uufcc-jazz-band-rehearsal-3/2030-04-28/
LOCATION:UUFCC – Sanctuary\, 780 Waupelani Drive\, State College\, PA\, 16801\, United States
CATEGORIES:Meeting,Music
ORGANIZER;CN="Unitarian Universalist Fellowship of Centre County":MAILTO:office@uufcc.com
END:VEVENT
BEGIN:VEVENT
DTSTART;TZID=America/New_York:20300501T190000
DTEND;TZID=America/New_York:20300501T210000
DTSTAMP:20260421T072201
CREATED:20241023T183250Z
LAST-MODIFIED:20241023T183252Z
UID:10010418-1903892400-1903899600@uufcc.com
SUMMARY:Worship Committee Meeting
DESCRIPTION:
URL:https://uufcc.com/event/worship-committee-meeting-3/2030-05-01/
LOCATION:PA
CATEGORIES:Meeting,UUFCC Committee
ORGANIZER;CN="Unitarian Universalist Fellowship of Centre County":MAILTO:office@uufcc.com
END:VEVENT
BEGIN:VEVENT
DTSTART;TZID=America/New_York:20300503T193000
DTEND;TZID=America/New_York:20300503T210000
DTSTAMP:20260421T072201
CREATED:20250604T150226Z
LAST-MODIFIED:20250611T180339Z
UID:10009698-1904067000-1904072400@uufcc.com
SUMMARY:Justice Singers
DESCRIPTION:The Justice Singers of Centre County are an open community gathering for those who find power\, healing\, and connection through song in the face of injustice. The group sings songs of protest\, resilience\, and hope\, drawing from resources like Rise Up Singing. Participants are encouraged to bring themselves\, a friend\, and an instrument if they like\, but no experience is required—just a willingness to lift your voice. The circle also explores opportunities to sing at local actions and events\, such as the May Day Strong Day of Action\, Pride\, and other protests.
URL:https://uufcc.com/event/justice-singers/2030-05-03/
LOCATION:UUFCC – Room 6\, 780 Waupelani Drive\, State College\, PA\, 16801\, United States
CATEGORIES:Meeting,Music
END:VEVENT
BEGIN:VEVENT
DTSTART;TZID=America/New_York:20300505T113000
DTEND;TZID=America/New_York:20300505T123000
DTSTAMP:20260421T072201
CREATED:20250226T175011Z
LAST-MODIFIED:20250226T175015Z
UID:10009577-1904211000-1904214600@uufcc.com
SUMMARY:Green Sanctuary
DESCRIPTION:Our goal is to maintain and enhance the UUFCC’s green sanctuary certification by promoting ecojustice and the environmental practices that make ecojustice possible. We do this through projects at the UUFCC and in the broader community\, focusing on renewable energy\, and promoting the use of sustainable food\, green transportation\, and clean water.
URL:https://uufcc.com/event/green-sanctuary-2/2030-05-05/
LOCATION:UUFCC – Room B\, 780 Waupelani Drive\, State College\, PA\, 16801\, United States
CATEGORIES:Meeting,UUFCC Committee
END:VEVENT
BEGIN:VEVENT
DTSTART;TZID=America/New_York:20300505T120000
DTEND;TZID=America/New_York:20300505T133000
DTSTAMP:20260421T072201
CREATED:20240911T175727Z
LAST-MODIFIED:20240911T175728Z
UID:10012257-1904212800-1904218200@uufcc.com
SUMMARY:UUFCC Jazz Band Rehearsal
DESCRIPTION:The UUFCC Jazz Band is open to all. Rehearsals occur on Sundays in the Sanctuary\, although occasionally the band may rehearse in Room 6 due to major church events. \nContact David Morris if interested.
URL:https://uufcc.com/event/uufcc-jazz-band-rehearsal-3/2030-05-05/
LOCATION:UUFCC – Sanctuary\, 780 Waupelani Drive\, State College\, PA\, 16801\, United States
CATEGORIES:Meeting,Music
ORGANIZER;CN="Unitarian Universalist Fellowship of Centre County":MAILTO:office@uufcc.com
END:VEVENT
BEGIN:VEVENT
DTSTART;TZID=America/New_York:20300512T120000
DTEND;TZID=America/New_York:20300512T133000
DTSTAMP:20260421T072201
CREATED:20240911T175727Z
LAST-MODIFIED:20240911T175728Z
UID:10012258-1904817600-1904823000@uufcc.com
SUMMARY:UUFCC Jazz Band Rehearsal
DESCRIPTION:The UUFCC Jazz Band is open to all. Rehearsals occur on Sundays in the Sanctuary\, although occasionally the band may rehearse in Room 6 due to major church events. \nContact David Morris if interested.
URL:https://uufcc.com/event/uufcc-jazz-band-rehearsal-3/2030-05-12/
LOCATION:UUFCC – Sanctuary\, 780 Waupelani Drive\, State College\, PA\, 16801\, United States
CATEGORIES:Meeting,Music
ORGANIZER;CN="Unitarian Universalist Fellowship of Centre County":MAILTO:office@uufcc.com
END:VEVENT
BEGIN:VEVENT
DTSTART;TZID=America/New_York:20300514T190000
DTEND;TZID=America/New_York:20300514T200000
DTSTAMP:20260421T072201
CREATED:20231105T153554Z
LAST-MODIFIED:20231105T153554Z
UID:10010326-1905015600-1905019200@uufcc.com
SUMMARY:Caring Committee
DESCRIPTION:
URL:https://uufcc.com/event/caring-committee/2030-05-14/
LOCATION:PA
CATEGORIES:Meeting,UUFCC Committee
ORGANIZER;CN="Unitarian Universalist Fellowship of Centre County":MAILTO:office@uufcc.com
END:VEVENT
BEGIN:VEVENT
DTSTART;TZID=America/New_York:20300519T120000
DTEND;TZID=America/New_York:20300519T133000
DTSTAMP:20260421T072201
CREATED:20240911T175727Z
LAST-MODIFIED:20240911T175728Z
UID:10012259-1905422400-1905427800@uufcc.com
SUMMARY:UUFCC Jazz Band Rehearsal
DESCRIPTION:The UUFCC Jazz Band is open to all. Rehearsals occur on Sundays in the Sanctuary\, although occasionally the band may rehearse in Room 6 due to major church events. \nContact David Morris if interested.
URL:https://uufcc.com/event/uufcc-jazz-band-rehearsal-3/2030-05-19/
LOCATION:UUFCC – Sanctuary\, 780 Waupelani Drive\, State College\, PA\, 16801\, United States
CATEGORIES:Meeting,Music
ORGANIZER;CN="Unitarian Universalist Fellowship of Centre County":MAILTO:office@uufcc.com
END:VEVENT
BEGIN:VEVENT
DTSTART;TZID=America/New_York:20300523T180000
DTEND;TZID=America/New_York:20300523T190000
DTSTAMP:20260421T072201
CREATED:20231105T153317Z
LAST-MODIFIED:20231105T153344Z
UID:10010505-1905789600-1905793200@uufcc.com
SUMMARY:Music Committee
DESCRIPTION:
URL:https://uufcc.com/event/music-committee/2030-05-23/
LOCATION:UUFCC – Room 6\, 780 Waupelani Drive\, State College\, PA\, 16801\, United States
CATEGORIES:Meeting,UUFCC Committee
ORGANIZER;CN="Unitarian Universalist Fellowship of Centre County":MAILTO:office@uufcc.com
END:VEVENT
BEGIN:VEVENT
DTSTART;TZID=America/New_York:20300526T120000
DTEND;TZID=America/New_York:20300526T133000
DTSTAMP:20260421T072201
CREATED:20240911T175727Z
LAST-MODIFIED:20240911T175728Z
UID:10012260-1906027200-1906032600@uufcc.com
SUMMARY:UUFCC Jazz Band Rehearsal
DESCRIPTION:The UUFCC Jazz Band is open to all. Rehearsals occur on Sundays in the Sanctuary\, although occasionally the band may rehearse in Room 6 due to major church events. \nContact David Morris if interested.
URL:https://uufcc.com/event/uufcc-jazz-band-rehearsal-3/2030-05-26/
LOCATION:UUFCC – Sanctuary\, 780 Waupelani Drive\, State College\, PA\, 16801\, United States
CATEGORIES:Meeting,Music
ORGANIZER;CN="Unitarian Universalist Fellowship of Centre County":MAILTO:office@uufcc.com
END:VEVENT
BEGIN:VEVENT
DTSTART;TZID=America/New_York:20300602T120000
DTEND;TZID=America/New_York:20300602T133000
DTSTAMP:20260421T072201
CREATED:20240911T175727Z
LAST-MODIFIED:20240911T175728Z
UID:10012261-1906632000-1906637400@uufcc.com
SUMMARY:UUFCC Jazz Band Rehearsal
DESCRIPTION:The UUFCC Jazz Band is open to all. Rehearsals occur on Sundays in the Sanctuary\, although occasionally the band may rehearse in Room 6 due to major church events. \nContact David Morris if interested.
URL:https://uufcc.com/event/uufcc-jazz-band-rehearsal-3/2030-06-02/
LOCATION:UUFCC – Sanctuary\, 780 Waupelani Drive\, State College\, PA\, 16801\, United States
CATEGORIES:Meeting,Music
ORGANIZER;CN="Unitarian Universalist Fellowship of Centre County":MAILTO:office@uufcc.com
END:VEVENT
BEGIN:VEVENT
DTSTART;TZID=America/New_York:20300605T190000
DTEND;TZID=America/New_York:20300605T210000
DTSTAMP:20260421T072201
CREATED:20241023T183250Z
LAST-MODIFIED:20241023T183252Z
UID:10010419-1906916400-1906923600@uufcc.com
SUMMARY:Worship Committee Meeting
DESCRIPTION:
URL:https://uufcc.com/event/worship-committee-meeting-3/2030-06-05/
LOCATION:PA
CATEGORIES:Meeting,UUFCC Committee
ORGANIZER;CN="Unitarian Universalist Fellowship of Centre County":MAILTO:office@uufcc.com
END:VEVENT
BEGIN:VEVENT
DTSTART;TZID=America/New_York:20300607T193000
DTEND;TZID=America/New_York:20300607T210000
DTSTAMP:20260421T072201
CREATED:20250604T150226Z
LAST-MODIFIED:20250611T180339Z
UID:10009701-1907091000-1907096400@uufcc.com
SUMMARY:Justice Singers
DESCRIPTION:The Justice Singers of Centre County are an open community gathering for those who find power\, healing\, and connection through song in the face of injustice. The group sings songs of protest\, resilience\, and hope\, drawing from resources like Rise Up Singing. Participants are encouraged to bring themselves\, a friend\, and an instrument if they like\, but no experience is required—just a willingness to lift your voice. The circle also explores opportunities to sing at local actions and events\, such as the May Day Strong Day of Action\, Pride\, and other protests.
URL:https://uufcc.com/event/justice-singers/2030-06-07/
LOCATION:UUFCC – Room 6\, 780 Waupelani Drive\, State College\, PA\, 16801\, United States
CATEGORIES:Meeting,Music
END:VEVENT
BEGIN:VEVENT
DTSTART;TZID=America/New_York:20300609T120000
DTEND;TZID=America/New_York:20300609T133000
DTSTAMP:20260421T072201
CREATED:20240911T175727Z
LAST-MODIFIED:20240911T175728Z
UID:10012262-1907236800-1907242200@uufcc.com
SUMMARY:UUFCC Jazz Band Rehearsal
DESCRIPTION:The UUFCC Jazz Band is open to all. Rehearsals occur on Sundays in the Sanctuary\, although occasionally the band may rehearse in Room 6 due to major church events. \nContact David Morris if interested.
URL:https://uufcc.com/event/uufcc-jazz-band-rehearsal-3/2030-06-09/
LOCATION:UUFCC – Sanctuary\, 780 Waupelani Drive\, State College\, PA\, 16801\, United States
CATEGORIES:Meeting,Music
ORGANIZER;CN="Unitarian Universalist Fellowship of Centre County":MAILTO:office@uufcc.com
END:VEVENT
BEGIN:VEVENT
DTSTART;TZID=America/New_York:20300611T190000
DTEND;TZID=America/New_York:20300611T200000
DTSTAMP:20260421T072201
CREATED:20231105T153554Z
LAST-MODIFIED:20231105T153554Z
UID:10010327-1907434800-1907438400@uufcc.com
SUMMARY:Caring Committee
DESCRIPTION:
URL:https://uufcc.com/event/caring-committee/2030-06-11/
LOCATION:PA
CATEGORIES:Meeting,UUFCC Committee
ORGANIZER;CN="Unitarian Universalist Fellowship of Centre County":MAILTO:office@uufcc.com
END:VEVENT
BEGIN:VEVENT
DTSTART;TZID=America/New_York:20300616T120000
DTEND;TZID=America/New_York:20300616T133000
DTSTAMP:20260421T072201
CREATED:20240911T175727Z
LAST-MODIFIED:20240911T175728Z
UID:10012263-1907841600-1907847000@uufcc.com
SUMMARY:UUFCC Jazz Band Rehearsal
DESCRIPTION:The UUFCC Jazz Band is open to all. Rehearsals occur on Sundays in the Sanctuary\, although occasionally the band may rehearse in Room 6 due to major church events. \nContact David Morris if interested.
URL:https://uufcc.com/event/uufcc-jazz-band-rehearsal-3/2030-06-16/
LOCATION:UUFCC – Sanctuary\, 780 Waupelani Drive\, State College\, PA\, 16801\, United States
CATEGORIES:Meeting,Music
ORGANIZER;CN="Unitarian Universalist Fellowship of Centre County":MAILTO:office@uufcc.com
END:VEVENT
BEGIN:VEVENT
DTSTART;TZID=America/New_York:20300623T120000
DTEND;TZID=America/New_York:20300623T133000
DTSTAMP:20260421T072201
CREATED:20240911T175727Z
LAST-MODIFIED:20240911T175728Z
UID:10012264-1908446400-1908451800@uufcc.com
SUMMARY:UUFCC Jazz Band Rehearsal
DESCRIPTION:The UUFCC Jazz Band is open to all. Rehearsals occur on Sundays in the Sanctuary\, although occasionally the band may rehearse in Room 6 due to major church events. \nContact David Morris if interested.
URL:https://uufcc.com/event/uufcc-jazz-band-rehearsal-3/2030-06-23/
LOCATION:UUFCC – Sanctuary\, 780 Waupelani Drive\, State College\, PA\, 16801\, United States
CATEGORIES:Meeting,Music
ORGANIZER;CN="Unitarian Universalist Fellowship of Centre County":MAILTO:office@uufcc.com
END:VEVENT
BEGIN:VEVENT
DTSTART;TZID=America/New_York:20300627T180000
DTEND;TZID=America/New_York:20300627T190000
DTSTAMP:20260421T072201
CREATED:20231105T153317Z
LAST-MODIFIED:20231105T153344Z
UID:10010506-1908813600-1908817200@uufcc.com
SUMMARY:Music Committee
DESCRIPTION:
URL:https://uufcc.com/event/music-committee/2030-06-27/
LOCATION:UUFCC – Room 6\, 780 Waupelani Drive\, State College\, PA\, 16801\, United States
CATEGORIES:Meeting,UUFCC Committee
ORGANIZER;CN="Unitarian Universalist Fellowship of Centre County":MAILTO:office@uufcc.com
END:VEVENT
BEGIN:VEVENT
DTSTART;TZID=America/New_York:20300630T120000
DTEND;TZID=America/New_York:20300630T133000
DTSTAMP:20260421T072201
CREATED:20240911T175727Z
LAST-MODIFIED:20240911T175728Z
UID:10012265-1909051200-1909056600@uufcc.com
SUMMARY:UUFCC Jazz Band Rehearsal
DESCRIPTION:The UUFCC Jazz Band is open to all. Rehearsals occur on Sundays in the Sanctuary\, although occasionally the band may rehearse in Room 6 due to major church events. \nContact David Morris if interested.
URL:https://uufcc.com/event/uufcc-jazz-band-rehearsal-3/2030-06-30/
LOCATION:UUFCC – Sanctuary\, 780 Waupelani Drive\, State College\, PA\, 16801\, United States
CATEGORIES:Meeting,Music
ORGANIZER;CN="Unitarian Universalist Fellowship of Centre County":MAILTO:office@uufcc.com
END:VEVENT
BEGIN:VEVENT
DTSTART;TZID=America/New_York:20300703T190000
DTEND;TZID=America/New_York:20300703T210000
DTSTAMP:20260421T072201
CREATED:20241023T183250Z
LAST-MODIFIED:20241023T183252Z
UID:10010420-1909335600-1909342800@uufcc.com
SUMMARY:Worship Committee Meeting
DESCRIPTION:
URL:https://uufcc.com/event/worship-committee-meeting-3/2030-07-03/
LOCATION:PA
CATEGORIES:Meeting,UUFCC Committee
ORGANIZER;CN="Unitarian Universalist Fellowship of Centre County":MAILTO:office@uufcc.com
END:VEVENT
END:VCALENDAR