BEGIN:VCALENDAR
VERSION:2.0
PRODID:-//UUFCC - ECPv6.15.17//NONSGML v1.0//EN
CALSCALE:GREGORIAN
METHOD:PUBLISH
X-ORIGINAL-URL:https://uufcc.com
X-WR-CALDESC:Events for UUFCC
REFRESH-INTERVAL;VALUE=DURATION:PT1H
X-Robots-Tag:noindex
X-PUBLISHED-TTL:PT1H
BEGIN:VTIMEZONE
TZID:America/New_York
BEGIN:DAYLIGHT
TZOFFSETFROM:-0500
TZOFFSETTO:-0400
TZNAME:EDT
DTSTART:20240310T070000
END:DAYLIGHT
BEGIN:STANDARD
TZOFFSETFROM:-0400
TZOFFSETTO:-0500
TZNAME:EST
DTSTART:20241103T060000
END:STANDARD
BEGIN:DAYLIGHT
TZOFFSETFROM:-0500
TZOFFSETTO:-0400
TZNAME:EDT
DTSTART:20250309T070000
END:DAYLIGHT
BEGIN:STANDARD
TZOFFSETFROM:-0400
TZOFFSETTO:-0500
TZNAME:EST
DTSTART:20251102T060000
END:STANDARD
BEGIN:DAYLIGHT
TZOFFSETFROM:-0500
TZOFFSETTO:-0400
TZNAME:EDT
DTSTART:20260308T070000
END:DAYLIGHT
BEGIN:STANDARD
TZOFFSETFROM:-0400
TZOFFSETTO:-0500
TZNAME:EST
DTSTART:20261101T060000
END:STANDARD
END:VTIMEZONE
BEGIN:VEVENT
DTSTART;TZID=America/New_York:20250302T113000
DTEND;TZID=America/New_York:20250302T123000
DTSTAMP:20260421T165356
CREATED:20250226T175011Z
LAST-MODIFIED:20250226T175015Z
UID:10005304-1740915000-1740918600@uufcc.com
SUMMARY:Green Sanctuary
DESCRIPTION:Our goal is to maintain and enhance the UUFCC’s green sanctuary certification by promoting ecojustice and the environmental practices that make ecojustice possible. We do this through projects at the UUFCC and in the broader community\, focusing on renewable energy\, and promoting the use of sustainable food\, green transportation\, and clean water.
URL:https://uufcc.com/event/green-sanctuary-2/2025-03-02/
LOCATION:UUFCC – Room B\, 780 Waupelani Drive\, State College\, PA\, 16801\, United States
CATEGORIES:Meeting,UUFCC Committee
END:VEVENT
BEGIN:VEVENT
DTSTART;TZID=America/New_York:20250305T190000
DTEND;TZID=America/New_York:20250305T210000
DTSTAMP:20260421T165356
CREATED:20241023T183250Z
LAST-MODIFIED:20241023T183252Z
UID:10007284-1741201200-1741208400@uufcc.com
SUMMARY:Worship Committee Meeting
DESCRIPTION:
URL:https://uufcc.com/event/worship-committee-meeting-3/2025-03-05/
CATEGORIES:Meeting,UUFCC Committee
ORGANIZER;CN="Unitarian Universalist Fellowship of Centre County":MAILTO:office@uufcc.com
END:VEVENT
BEGIN:VEVENT
DTSTART;TZID=America/New_York:20250311T190000
DTEND;TZID=America/New_York:20250311T200000
DTSTAMP:20260421T165356
CREATED:20231105T153554Z
LAST-MODIFIED:20231105T153554Z
UID:10002658-1741719600-1741723200@uufcc.com
SUMMARY:Caring Committee
DESCRIPTION:
URL:https://uufcc.com/event/caring-committee/2025-03-11/
CATEGORIES:Meeting,UUFCC Committee
ORGANIZER;CN="Unitarian Universalist Fellowship of Centre County":MAILTO:office@uufcc.com
END:VEVENT
BEGIN:VEVENT
DTSTART;TZID=America/New_York:20250313T130000
DTEND;TZID=America/New_York:20250313T150000
DTSTAMP:20260421T165356
CREATED:20240903T175952Z
LAST-MODIFIED:20240903T175953Z
UID:10006769-1741870800-1741878000@uufcc.com
SUMMARY:Finance and Stewardship Committee
DESCRIPTION:
URL:https://uufcc.com/event/finance-and-stewardship-committee-3/2025-03-13/
LOCATION:UUFCC – Room 6\, 780 Waupelani Drive\, State College\, PA\, 16801\, United States
CATEGORIES:Meeting,UUFCC Committee
ORGANIZER;CN="Unitarian Universalist Fellowship of Centre County":MAILTO:office@uufcc.com
END:VEVENT
BEGIN:VEVENT
DTSTART;TZID=America/New_York:20250319T173000
DTEND;TZID=America/New_York:20250319T183000
DTSTAMP:20260421T165356
CREATED:20231114T201844Z
LAST-MODIFIED:20231114T201908Z
UID:10002908-1742405400-1742409000@uufcc.com
SUMMARY:Racial Justice Committee
DESCRIPTION:Contact Janet Irons for the Zoom information.
URL:https://uufcc.com/event/racial-justice-committee/2025-03-19/
LOCATION:Unitarian Universalist Fellowship of Centre County\, 780 Waupelani Drive\, State College\, PA\, 16801\, United States
CATEGORIES:Meeting,UUFCC Committee
END:VEVENT
BEGIN:VEVENT
DTSTART;TZID=America/New_York:20250327T180000
DTEND;TZID=America/New_York:20250327T190000
DTSTAMP:20260421T165356
CREATED:20231105T153317Z
LAST-MODIFIED:20231105T153344Z
UID:10002597-1743098400-1743102000@uufcc.com
SUMMARY:Music Committee
DESCRIPTION:
URL:https://uufcc.com/event/music-committee/2025-03-27/
LOCATION:UUFCC – Room 6\, 780 Waupelani Drive\, State College\, PA\, 16801\, United States
CATEGORIES:Meeting,UUFCC Committee
ORGANIZER;CN="Unitarian Universalist Fellowship of Centre County":MAILTO:office@uufcc.com
END:VEVENT
END:VCALENDAR