BEGIN:VCALENDAR
VERSION:2.0
PRODID:-//UUFCC - ECPv6.15.17//NONSGML v1.0//EN
CALSCALE:GREGORIAN
METHOD:PUBLISH
X-ORIGINAL-URL:https://uufcc.com
X-WR-CALDESC:Events for UUFCC
REFRESH-INTERVAL;VALUE=DURATION:PT1H
X-Robots-Tag:noindex
X-PUBLISHED-TTL:PT1H
BEGIN:VTIMEZONE
TZID:America/New_York
BEGIN:DAYLIGHT
TZOFFSETFROM:-0500
TZOFFSETTO:-0400
TZNAME:EDT
DTSTART:20280312T070000
END:DAYLIGHT
BEGIN:STANDARD
TZOFFSETFROM:-0400
TZOFFSETTO:-0500
TZNAME:EST
DTSTART:20281105T060000
END:STANDARD
BEGIN:DAYLIGHT
TZOFFSETFROM:-0500
TZOFFSETTO:-0400
TZNAME:EDT
DTSTART:20290311T070000
END:DAYLIGHT
BEGIN:STANDARD
TZOFFSETFROM:-0400
TZOFFSETTO:-0500
TZNAME:EST
DTSTART:20291104T060000
END:STANDARD
BEGIN:DAYLIGHT
TZOFFSETFROM:-0500
TZOFFSETTO:-0400
TZNAME:EDT
DTSTART:20300310T070000
END:DAYLIGHT
BEGIN:STANDARD
TZOFFSETFROM:-0400
TZOFFSETTO:-0500
TZNAME:EST
DTSTART:20301103T060000
END:STANDARD
END:VTIMEZONE
BEGIN:VEVENT
DTSTART;TZID=America/New_York:20290103T190000
DTEND;TZID=America/New_York:20290103T210000
DTSTAMP:20260423T001810
CREATED:20241023T183250Z
LAST-MODIFIED:20241023T183252Z
UID:10007330-1862161200-1862168400@uufcc.com
SUMMARY:Worship Committee Meeting
DESCRIPTION:
URL:https://uufcc.com/event/worship-committee-meeting-3/2029-01-03/
CATEGORIES:Meeting,UUFCC Committee
ORGANIZER;CN="Unitarian Universalist Fellowship of Centre County":MAILTO:office@uufcc.com
END:VEVENT
BEGIN:VEVENT
DTSTART;TZID=America/New_York:20290107T113000
DTEND;TZID=America/New_York:20290107T123000
DTSTAMP:20260423T001810
CREATED:20250226T175011Z
LAST-MODIFIED:20250226T175015Z
UID:10005350-1862479800-1862483400@uufcc.com
SUMMARY:Green Sanctuary
DESCRIPTION:Our goal is to maintain and enhance the UUFCC’s green sanctuary certification by promoting ecojustice and the environmental practices that make ecojustice possible. We do this through projects at the UUFCC and in the broader community\, focusing on renewable energy\, and promoting the use of sustainable food\, green transportation\, and clean water.
URL:https://uufcc.com/event/green-sanctuary-2/2029-01-07/
LOCATION:UUFCC – Room B\, 780 Waupelani Drive\, State College\, PA\, 16801\, United States
CATEGORIES:Meeting,UUFCC Committee
END:VEVENT
BEGIN:VEVENT
DTSTART;TZID=America/New_York:20290109T190000
DTEND;TZID=America/New_York:20290109T200000
DTSTAMP:20260423T001810
CREATED:20231105T153554Z
LAST-MODIFIED:20231105T153554Z
UID:10010310-1862679600-1862683200@uufcc.com
SUMMARY:Caring Committee
DESCRIPTION:
URL:https://uufcc.com/event/caring-committee/2029-01-09/
CATEGORIES:Meeting,UUFCC Committee
ORGANIZER;CN="Unitarian Universalist Fellowship of Centre County":MAILTO:office@uufcc.com
END:VEVENT
BEGIN:VEVENT
DTSTART;TZID=America/New_York:20290125T180000
DTEND;TZID=America/New_York:20290125T190000
DTSTAMP:20260423T001810
CREATED:20231105T153317Z
LAST-MODIFIED:20231105T153344Z
UID:10005717-1864058400-1864062000@uufcc.com
SUMMARY:Music Committee
DESCRIPTION:
URL:https://uufcc.com/event/music-committee/2029-01-25/
LOCATION:UUFCC – Room 6\, 780 Waupelani Drive\, State College\, PA\, 16801\, United States
CATEGORIES:Meeting,UUFCC Committee
ORGANIZER;CN="Unitarian Universalist Fellowship of Centre County":MAILTO:office@uufcc.com
END:VEVENT
BEGIN:VEVENT
DTSTART;TZID=America/New_York:20290204T113000
DTEND;TZID=America/New_York:20290204T123000
DTSTAMP:20260423T001810
CREATED:20250226T175011Z
LAST-MODIFIED:20250226T175015Z
UID:10005351-1864899000-1864902600@uufcc.com
SUMMARY:Green Sanctuary
DESCRIPTION:Our goal is to maintain and enhance the UUFCC’s green sanctuary certification by promoting ecojustice and the environmental practices that make ecojustice possible. We do this through projects at the UUFCC and in the broader community\, focusing on renewable energy\, and promoting the use of sustainable food\, green transportation\, and clean water.
URL:https://uufcc.com/event/green-sanctuary-2/2029-02-04/
LOCATION:UUFCC – Room B\, 780 Waupelani Drive\, State College\, PA\, 16801\, United States
CATEGORIES:Meeting,UUFCC Committee
END:VEVENT
BEGIN:VEVENT
DTSTART;TZID=America/New_York:20290207T190000
DTEND;TZID=America/New_York:20290207T210000
DTSTAMP:20260423T001810
CREATED:20241023T183250Z
LAST-MODIFIED:20241023T183252Z
UID:10007331-1865185200-1865192400@uufcc.com
SUMMARY:Worship Committee Meeting
DESCRIPTION:
URL:https://uufcc.com/event/worship-committee-meeting-3/2029-02-07/
CATEGORIES:Meeting,UUFCC Committee
ORGANIZER;CN="Unitarian Universalist Fellowship of Centre County":MAILTO:office@uufcc.com
END:VEVENT
BEGIN:VEVENT
DTSTART;TZID=America/New_York:20290213T190000
DTEND;TZID=America/New_York:20290213T200000
DTSTAMP:20260423T001810
CREATED:20231105T153554Z
LAST-MODIFIED:20231105T153554Z
UID:10010311-1865703600-1865707200@uufcc.com
SUMMARY:Caring Committee
DESCRIPTION:
URL:https://uufcc.com/event/caring-committee/2029-02-13/
CATEGORIES:Meeting,UUFCC Committee
ORGANIZER;CN="Unitarian Universalist Fellowship of Centre County":MAILTO:office@uufcc.com
END:VEVENT
BEGIN:VEVENT
DTSTART;TZID=America/New_York:20290222T180000
DTEND;TZID=America/New_York:20290222T190000
DTSTAMP:20260423T001810
CREATED:20231105T153317Z
LAST-MODIFIED:20231105T153344Z
UID:10005718-1866477600-1866481200@uufcc.com
SUMMARY:Music Committee
DESCRIPTION:
URL:https://uufcc.com/event/music-committee/2029-02-22/
LOCATION:UUFCC – Room 6\, 780 Waupelani Drive\, State College\, PA\, 16801\, United States
CATEGORIES:Meeting,UUFCC Committee
ORGANIZER;CN="Unitarian Universalist Fellowship of Centre County":MAILTO:office@uufcc.com
END:VEVENT
BEGIN:VEVENT
DTSTART;TZID=America/New_York:20290304T113000
DTEND;TZID=America/New_York:20290304T123000
DTSTAMP:20260423T001810
CREATED:20250226T175011Z
LAST-MODIFIED:20250226T175015Z
UID:10005352-1867318200-1867321800@uufcc.com
SUMMARY:Green Sanctuary
DESCRIPTION:Our goal is to maintain and enhance the UUFCC’s green sanctuary certification by promoting ecojustice and the environmental practices that make ecojustice possible. We do this through projects at the UUFCC and in the broader community\, focusing on renewable energy\, and promoting the use of sustainable food\, green transportation\, and clean water.
URL:https://uufcc.com/event/green-sanctuary-2/2029-03-04/
LOCATION:UUFCC – Room B\, 780 Waupelani Drive\, State College\, PA\, 16801\, United States
CATEGORIES:Meeting,UUFCC Committee
END:VEVENT
BEGIN:VEVENT
DTSTART;TZID=America/New_York:20290307T190000
DTEND;TZID=America/New_York:20290307T210000
DTSTAMP:20260423T001810
CREATED:20241023T183250Z
LAST-MODIFIED:20241023T183252Z
UID:10007332-1867604400-1867611600@uufcc.com
SUMMARY:Worship Committee Meeting
DESCRIPTION:
URL:https://uufcc.com/event/worship-committee-meeting-3/2029-03-07/
CATEGORIES:Meeting,UUFCC Committee
ORGANIZER;CN="Unitarian Universalist Fellowship of Centre County":MAILTO:office@uufcc.com
END:VEVENT
BEGIN:VEVENT
DTSTART;TZID=America/New_York:20290313T190000
DTEND;TZID=America/New_York:20290313T200000
DTSTAMP:20260423T001810
CREATED:20231105T153554Z
LAST-MODIFIED:20231105T153554Z
UID:10010312-1868122800-1868126400@uufcc.com
SUMMARY:Caring Committee
DESCRIPTION:
URL:https://uufcc.com/event/caring-committee/2029-03-13/
CATEGORIES:Meeting,UUFCC Committee
ORGANIZER;CN="Unitarian Universalist Fellowship of Centre County":MAILTO:office@uufcc.com
END:VEVENT
BEGIN:VEVENT
DTSTART;TZID=America/New_York:20290322T180000
DTEND;TZID=America/New_York:20290322T190000
DTSTAMP:20260423T001810
CREATED:20231105T153317Z
LAST-MODIFIED:20231105T153344Z
UID:10005719-1868896800-1868900400@uufcc.com
SUMMARY:Music Committee
DESCRIPTION:
URL:https://uufcc.com/event/music-committee/2029-03-22/
LOCATION:UUFCC – Room 6\, 780 Waupelani Drive\, State College\, PA\, 16801\, United States
CATEGORIES:Meeting,UUFCC Committee
ORGANIZER;CN="Unitarian Universalist Fellowship of Centre County":MAILTO:office@uufcc.com
END:VEVENT
BEGIN:VEVENT
DTSTART;TZID=America/New_York:20290401T113000
DTEND;TZID=America/New_York:20290401T123000
DTSTAMP:20260423T001810
CREATED:20250226T175011Z
LAST-MODIFIED:20250226T175015Z
UID:10005353-1869737400-1869741000@uufcc.com
SUMMARY:Green Sanctuary
DESCRIPTION:Our goal is to maintain and enhance the UUFCC’s green sanctuary certification by promoting ecojustice and the environmental practices that make ecojustice possible. We do this through projects at the UUFCC and in the broader community\, focusing on renewable energy\, and promoting the use of sustainable food\, green transportation\, and clean water.
URL:https://uufcc.com/event/green-sanctuary-2/2029-04-01/
LOCATION:UUFCC – Room B\, 780 Waupelani Drive\, State College\, PA\, 16801\, United States
CATEGORIES:Meeting,UUFCC Committee
END:VEVENT
BEGIN:VEVENT
DTSTART;TZID=America/New_York:20290404T190000
DTEND;TZID=America/New_York:20290404T210000
DTSTAMP:20260423T001810
CREATED:20241023T183250Z
LAST-MODIFIED:20241023T183252Z
UID:10007333-1870023600-1870030800@uufcc.com
SUMMARY:Worship Committee Meeting
DESCRIPTION:
URL:https://uufcc.com/event/worship-committee-meeting-3/2029-04-04/
CATEGORIES:Meeting,UUFCC Committee
ORGANIZER;CN="Unitarian Universalist Fellowship of Centre County":MAILTO:office@uufcc.com
END:VEVENT
BEGIN:VEVENT
DTSTART;TZID=America/New_York:20290410T190000
DTEND;TZID=America/New_York:20290410T200000
DTSTAMP:20260423T001810
CREATED:20231105T153554Z
LAST-MODIFIED:20231105T153554Z
UID:10010313-1870542000-1870545600@uufcc.com
SUMMARY:Caring Committee
DESCRIPTION:
URL:https://uufcc.com/event/caring-committee/2029-04-10/
CATEGORIES:Meeting,UUFCC Committee
ORGANIZER;CN="Unitarian Universalist Fellowship of Centre County":MAILTO:office@uufcc.com
END:VEVENT
BEGIN:VEVENT
DTSTART;TZID=America/New_York:20290426T180000
DTEND;TZID=America/New_York:20290426T190000
DTSTAMP:20260423T001810
CREATED:20231105T153317Z
LAST-MODIFIED:20231105T153344Z
UID:10005720-1871920800-1871924400@uufcc.com
SUMMARY:Music Committee
DESCRIPTION:
URL:https://uufcc.com/event/music-committee/2029-04-26/
LOCATION:UUFCC – Room 6\, 780 Waupelani Drive\, State College\, PA\, 16801\, United States
CATEGORIES:Meeting,UUFCC Committee
ORGANIZER;CN="Unitarian Universalist Fellowship of Centre County":MAILTO:office@uufcc.com
END:VEVENT
BEGIN:VEVENT
DTSTART;TZID=America/New_York:20290502T190000
DTEND;TZID=America/New_York:20290502T210000
DTSTAMP:20260423T001810
CREATED:20241023T183250Z
LAST-MODIFIED:20241023T183252Z
UID:10007334-1872442800-1872450000@uufcc.com
SUMMARY:Worship Committee Meeting
DESCRIPTION:
URL:https://uufcc.com/event/worship-committee-meeting-3/2029-05-02/
CATEGORIES:Meeting,UUFCC Committee
ORGANIZER;CN="Unitarian Universalist Fellowship of Centre County":MAILTO:office@uufcc.com
END:VEVENT
BEGIN:VEVENT
DTSTART;TZID=America/New_York:20290506T113000
DTEND;TZID=America/New_York:20290506T123000
DTSTAMP:20260423T001810
CREATED:20250226T175011Z
LAST-MODIFIED:20250226T175015Z
UID:10005725-1872761400-1872765000@uufcc.com
SUMMARY:Green Sanctuary
DESCRIPTION:Our goal is to maintain and enhance the UUFCC’s green sanctuary certification by promoting ecojustice and the environmental practices that make ecojustice possible. We do this through projects at the UUFCC and in the broader community\, focusing on renewable energy\, and promoting the use of sustainable food\, green transportation\, and clean water.
URL:https://uufcc.com/event/green-sanctuary-2/2029-05-06/
LOCATION:UUFCC – Room B\, 780 Waupelani Drive\, State College\, PA\, 16801\, United States
CATEGORIES:Meeting,UUFCC Committee
END:VEVENT
BEGIN:VEVENT
DTSTART;TZID=America/New_York:20290508T190000
DTEND;TZID=America/New_York:20290508T200000
DTSTAMP:20260423T001810
CREATED:20231105T153554Z
LAST-MODIFIED:20231105T153554Z
UID:10010314-1872961200-1872964800@uufcc.com
SUMMARY:Caring Committee
DESCRIPTION:
URL:https://uufcc.com/event/caring-committee/2029-05-08/
CATEGORIES:Meeting,UUFCC Committee
ORGANIZER;CN="Unitarian Universalist Fellowship of Centre County":MAILTO:office@uufcc.com
END:VEVENT
BEGIN:VEVENT
DTSTART;TZID=America/New_York:20290524T180000
DTEND;TZID=America/New_York:20290524T190000
DTSTAMP:20260423T001810
CREATED:20231105T153317Z
LAST-MODIFIED:20231105T153344Z
UID:10005721-1874340000-1874343600@uufcc.com
SUMMARY:Music Committee
DESCRIPTION:
URL:https://uufcc.com/event/music-committee/2029-05-24/
LOCATION:UUFCC – Room 6\, 780 Waupelani Drive\, State College\, PA\, 16801\, United States
CATEGORIES:Meeting,UUFCC Committee
ORGANIZER;CN="Unitarian Universalist Fellowship of Centre County":MAILTO:office@uufcc.com
END:VEVENT
BEGIN:VEVENT
DTSTART;TZID=America/New_York:20290603T113000
DTEND;TZID=America/New_York:20290603T123000
DTSTAMP:20260423T001810
CREATED:20250226T175011Z
LAST-MODIFIED:20250226T175015Z
UID:10007368-1875180600-1875184200@uufcc.com
SUMMARY:Green Sanctuary
DESCRIPTION:Our goal is to maintain and enhance the UUFCC’s green sanctuary certification by promoting ecojustice and the environmental practices that make ecojustice possible. We do this through projects at the UUFCC and in the broader community\, focusing on renewable energy\, and promoting the use of sustainable food\, green transportation\, and clean water.
URL:https://uufcc.com/event/green-sanctuary-2/2029-06-03/
LOCATION:UUFCC – Room B\, 780 Waupelani Drive\, State College\, PA\, 16801\, United States
CATEGORIES:Meeting,UUFCC Committee
END:VEVENT
BEGIN:VEVENT
DTSTART;TZID=America/New_York:20290606T190000
DTEND;TZID=America/New_York:20290606T210000
DTSTAMP:20260423T001810
CREATED:20241023T183250Z
LAST-MODIFIED:20241023T183252Z
UID:10007335-1875466800-1875474000@uufcc.com
SUMMARY:Worship Committee Meeting
DESCRIPTION:
URL:https://uufcc.com/event/worship-committee-meeting-3/2029-06-06/
CATEGORIES:Meeting,UUFCC Committee
ORGANIZER;CN="Unitarian Universalist Fellowship of Centre County":MAILTO:office@uufcc.com
END:VEVENT
BEGIN:VEVENT
DTSTART;TZID=America/New_York:20290612T190000
DTEND;TZID=America/New_York:20290612T200000
DTSTAMP:20260423T001810
CREATED:20231105T153554Z
LAST-MODIFIED:20231105T153554Z
UID:10010315-1875985200-1875988800@uufcc.com
SUMMARY:Caring Committee
DESCRIPTION:
URL:https://uufcc.com/event/caring-committee/2029-06-12/
CATEGORIES:Meeting,UUFCC Committee
ORGANIZER;CN="Unitarian Universalist Fellowship of Centre County":MAILTO:office@uufcc.com
END:VEVENT
BEGIN:VEVENT
DTSTART;TZID=America/New_York:20290628T180000
DTEND;TZID=America/New_York:20290628T190000
DTSTAMP:20260423T001810
CREATED:20231105T153317Z
LAST-MODIFIED:20231105T153344Z
UID:10007710-1877364000-1877367600@uufcc.com
SUMMARY:Music Committee
DESCRIPTION:
URL:https://uufcc.com/event/music-committee/2029-06-28/
LOCATION:UUFCC – Room 6\, 780 Waupelani Drive\, State College\, PA\, 16801\, United States
CATEGORIES:Meeting,UUFCC Committee
ORGANIZER;CN="Unitarian Universalist Fellowship of Centre County":MAILTO:office@uufcc.com
END:VEVENT
BEGIN:VEVENT
DTSTART;TZID=America/New_York:20290701T113000
DTEND;TZID=America/New_York:20290701T123000
DTSTAMP:20260423T001810
CREATED:20250226T175011Z
LAST-MODIFIED:20250226T175015Z
UID:10007369-1877599800-1877603400@uufcc.com
SUMMARY:Green Sanctuary
DESCRIPTION:Our goal is to maintain and enhance the UUFCC’s green sanctuary certification by promoting ecojustice and the environmental practices that make ecojustice possible. We do this through projects at the UUFCC and in the broader community\, focusing on renewable energy\, and promoting the use of sustainable food\, green transportation\, and clean water.
URL:https://uufcc.com/event/green-sanctuary-2/2029-07-01/
LOCATION:UUFCC – Room B\, 780 Waupelani Drive\, State College\, PA\, 16801\, United States
CATEGORIES:Meeting,UUFCC Committee
END:VEVENT
BEGIN:VEVENT
DTSTART;TZID=America/New_York:20290704T190000
DTEND;TZID=America/New_York:20290704T210000
DTSTAMP:20260423T001810
CREATED:20241023T183250Z
LAST-MODIFIED:20241023T183252Z
UID:10007336-1877886000-1877893200@uufcc.com
SUMMARY:Worship Committee Meeting
DESCRIPTION:
URL:https://uufcc.com/event/worship-committee-meeting-3/2029-07-04/
CATEGORIES:Meeting,UUFCC Committee
ORGANIZER;CN="Unitarian Universalist Fellowship of Centre County":MAILTO:office@uufcc.com
END:VEVENT
BEGIN:VEVENT
DTSTART;TZID=America/New_York:20290710T190000
DTEND;TZID=America/New_York:20290710T200000
DTSTAMP:20260423T001810
CREATED:20231105T153554Z
LAST-MODIFIED:20231105T153554Z
UID:10010316-1878404400-1878408000@uufcc.com
SUMMARY:Caring Committee
DESCRIPTION:
URL:https://uufcc.com/event/caring-committee/2029-07-10/
CATEGORIES:Meeting,UUFCC Committee
ORGANIZER;CN="Unitarian Universalist Fellowship of Centre County":MAILTO:office@uufcc.com
END:VEVENT
BEGIN:VEVENT
DTSTART;TZID=America/New_York:20290726T180000
DTEND;TZID=America/New_York:20290726T190000
DTSTAMP:20260423T001810
CREATED:20231105T153317Z
LAST-MODIFIED:20231105T153344Z
UID:10007711-1879783200-1879786800@uufcc.com
SUMMARY:Music Committee
DESCRIPTION:
URL:https://uufcc.com/event/music-committee/2029-07-26/
LOCATION:UUFCC – Room 6\, 780 Waupelani Drive\, State College\, PA\, 16801\, United States
CATEGORIES:Meeting,UUFCC Committee
ORGANIZER;CN="Unitarian Universalist Fellowship of Centre County":MAILTO:office@uufcc.com
END:VEVENT
BEGIN:VEVENT
DTSTART;TZID=America/New_York:20290801T190000
DTEND;TZID=America/New_York:20290801T210000
DTSTAMP:20260423T001810
CREATED:20241023T183250Z
LAST-MODIFIED:20241023T183252Z
UID:10007337-1880305200-1880312400@uufcc.com
SUMMARY:Worship Committee Meeting
DESCRIPTION:
URL:https://uufcc.com/event/worship-committee-meeting-3/2029-08-01/
CATEGORIES:Meeting,UUFCC Committee
ORGANIZER;CN="Unitarian Universalist Fellowship of Centre County":MAILTO:office@uufcc.com
END:VEVENT
BEGIN:VEVENT
DTSTART;TZID=America/New_York:20290805T113000
DTEND;TZID=America/New_York:20290805T123000
DTSTAMP:20260423T001810
CREATED:20250226T175011Z
LAST-MODIFIED:20250226T175015Z
UID:10007370-1880623800-1880627400@uufcc.com
SUMMARY:Green Sanctuary
DESCRIPTION:Our goal is to maintain and enhance the UUFCC’s green sanctuary certification by promoting ecojustice and the environmental practices that make ecojustice possible. We do this through projects at the UUFCC and in the broader community\, focusing on renewable energy\, and promoting the use of sustainable food\, green transportation\, and clean water.
URL:https://uufcc.com/event/green-sanctuary-2/2029-08-05/
LOCATION:UUFCC – Room B\, 780 Waupelani Drive\, State College\, PA\, 16801\, United States
CATEGORIES:Meeting,UUFCC Committee
END:VEVENT
END:VCALENDAR