BEGIN:VCALENDAR
VERSION:2.0
PRODID:-//UUFCC - ECPv6.15.17//NONSGML v1.0//EN
CALSCALE:GREGORIAN
METHOD:PUBLISH
X-WR-CALNAME:UUFCC
X-ORIGINAL-URL:https://uufcc.com
X-WR-CALDESC:Events for UUFCC
REFRESH-INTERVAL;VALUE=DURATION:PT1H
X-Robots-Tag:noindex
X-PUBLISHED-TTL:PT1H
BEGIN:VTIMEZONE
TZID:America/New_York
BEGIN:DAYLIGHT
TZOFFSETFROM:-0500
TZOFFSETTO:-0400
TZNAME:EDT
DTSTART:20220313T070000
END:DAYLIGHT
BEGIN:STANDARD
TZOFFSETFROM:-0400
TZOFFSETTO:-0500
TZNAME:EST
DTSTART:20221106T060000
END:STANDARD
BEGIN:DAYLIGHT
TZOFFSETFROM:-0500
TZOFFSETTO:-0400
TZNAME:EDT
DTSTART:20230312T070000
END:DAYLIGHT
BEGIN:STANDARD
TZOFFSETFROM:-0400
TZOFFSETTO:-0500
TZNAME:EST
DTSTART:20231105T060000
END:STANDARD
BEGIN:DAYLIGHT
TZOFFSETFROM:-0500
TZOFFSETTO:-0400
TZNAME:EDT
DTSTART:20240310T070000
END:DAYLIGHT
BEGIN:STANDARD
TZOFFSETFROM:-0400
TZOFFSETTO:-0500
TZNAME:EST
DTSTART:20241103T060000
END:STANDARD
END:VTIMEZONE
BEGIN:VEVENT
DTSTART;TZID=America/New_York:20231018T180000
DTEND;TZID=America/New_York:20231018T210000
DTSTAMP:20260421T193538
CREATED:20231105T152820Z
LAST-MODIFIED:20240313T161106Z
UID:10002316-1697652000-1697662800@uufcc.com
SUMMARY:Game Nights
DESCRIPTION:
URL:https://uufcc.com/event/game-nights/2023-10-18/
LOCATION:UUFCC – Fellowship Hall\, 780 Waupelani Drive\, State College\, PA\, 16801\, United States
CATEGORIES:Meeting
END:VEVENT
BEGIN:VEVENT
DTSTART;TZID=America/New_York:20231019T130000
DTEND;TZID=America/New_York:20231019T150000
DTSTAMP:20260421T193538
CREATED:20231105T154414Z
LAST-MODIFIED:20231105T154907Z
UID:10002763-1697720400-1697727600@uufcc.com
SUMMARY:Finance and Stewardship Committee
DESCRIPTION:
URL:https://uufcc.com/event/finance-and-stewardship-committee/2023-10-19/
LOCATION:UUFCC – Room 6\, 780 Waupelani Drive\, State College\, PA\, 16801\, United States
CATEGORIES:Meeting,UUFCC Committee
ORGANIZER;CN="Unitarian Universalist Fellowship of Centre County":MAILTO:office@uufcc.com
END:VEVENT
BEGIN:VEVENT
DTSTART;TZID=America/New_York:20231019T143000
DTEND;TZID=America/New_York:20231019T160000
DTSTAMP:20260421T193538
CREATED:20231021T165342Z
LAST-MODIFIED:20231025T170121Z
UID:10000539-1697725800-1697731200@uufcc.com
SUMMARY:Memoirs Group
DESCRIPTION:Each attendee is free to share a memory with the group or just listen. Our purpose is to encourage people to record their memories to share with friends and family and to develop a sense of fellowship with one another. Any and all are welcome. Contact Mike Bourgo.
URL:https://uufcc.com/event/memoirs-group/2023-10-19/
LOCATION:UUFCC – Fellowship Hall\, 780 Waupelani Drive\, State College\, PA\, 16801\, United States
CATEGORIES:Adult RE,Event,Meeting
ATTACH;FMTTYPE=image/png:https://uufcc.com/wp-content/uploads/2023/10/Memoirs-Group.png
END:VEVENT
END:VCALENDAR