BEGIN:VCALENDAR
VERSION:2.0
PRODID:-//UUFCC - ECPv6.15.17//NONSGML v1.0//EN
CALSCALE:GREGORIAN
METHOD:PUBLISH
X-ORIGINAL-URL:https://uufcc.com
X-WR-CALDESC:Events for UUFCC
REFRESH-INTERVAL;VALUE=DURATION:PT1H
X-Robots-Tag:noindex
X-PUBLISHED-TTL:PT1H
BEGIN:VTIMEZONE
TZID:America/New_York
BEGIN:DAYLIGHT
TZOFFSETFROM:-0500
TZOFFSETTO:-0400
TZNAME:EDT
DTSTART:20230312T070000
END:DAYLIGHT
BEGIN:STANDARD
TZOFFSETFROM:-0400
TZOFFSETTO:-0500
TZNAME:EST
DTSTART:20231105T060000
END:STANDARD
BEGIN:DAYLIGHT
TZOFFSETFROM:-0500
TZOFFSETTO:-0400
TZNAME:EDT
DTSTART:20240310T070000
END:DAYLIGHT
BEGIN:STANDARD
TZOFFSETFROM:-0400
TZOFFSETTO:-0500
TZNAME:EST
DTSTART:20241103T060000
END:STANDARD
BEGIN:DAYLIGHT
TZOFFSETFROM:-0500
TZOFFSETTO:-0400
TZNAME:EDT
DTSTART:20250309T070000
END:DAYLIGHT
BEGIN:STANDARD
TZOFFSETFROM:-0400
TZOFFSETTO:-0500
TZNAME:EST
DTSTART:20251102T060000
END:STANDARD
END:VTIMEZONE
BEGIN:VEVENT
DTSTART;TZID=America/New_York:20240620T080000
DTEND;TZID=America/New_York:20240623T170000
DTSTAMP:20260420T213200
CREATED:20240402T182622Z
LAST-MODIFIED:20240402T184224Z
UID:10005284-1718870400-1719162000@uufcc.com
SUMMARY:UUA General Assembly 2024
DESCRIPTION:General Assembly is coming up June 20-23. General Assembly (GA) is the annual meeting of our Unitarian Universalist Association (UUA). Participants worship\, witness\, learn\, connect\, and make policy for the Association through democratic process. Join thousands of other UUs from around the country. Anyone may attend! GA is virtual only this year.\nFor more information go to https://www.uua.org/ga
URL:https://uufcc.com/event/ga-2024/
LOCATION:PA
CATEGORIES:Event,Meeting
ATTACH;FMTTYPE=image/png:https://uufcc.com/wp-content/uploads/2024/04/GA_2024_logo_horizontal.png
END:VEVENT
BEGIN:VEVENT
DTSTART;TZID=America/New_York:20240623T113000
DTEND;TZID=America/New_York:20240623T130000
DTSTAMP:20260420T213200
CREATED:20240109T160344Z
LAST-MODIFIED:20240109T160344Z
UID:10004430-1719142200-1719147600@uufcc.com
SUMMARY:UUFCC Jazz Band Rehearsal
DESCRIPTION:The UUFCC Jazz Band is open to all. Rehearsals occur on Sundays in the Sanctuary\, although occasionally the band may rehearse in Room 6 due to major church events. \nContact David Morris if interested.
URL:https://uufcc.com/event/uufcc-jazz-band-rehearsal/2024-06-23/
LOCATION:UUFCC – Sanctuary\, 780 Waupelani Drive\, State College\, PA\, 16801\, United States
CATEGORIES:Meeting,Music
ORGANIZER;CN="Unitarian Universalist Fellowship of Centre County":MAILTO:office@uufcc.com
END:VEVENT
BEGIN:VEVENT
DTSTART;TZID=America/New_York:20240625T153000
DTEND;TZID=America/New_York:20240625T180000
DTSTAMP:20260420T213200
CREATED:20240718T161006Z
LAST-MODIFIED:20240718T161006Z
UID:10005951-1719329400-1719338400@uufcc.com
SUMMARY:Folk Dancers
DESCRIPTION:Please join this group of folks passionate about dancing to international folk music. Explore different cultures through music and dance. \n*On 3rd Thursdays we ends at 5:30PM (in time for Fellowship Supper).
URL:https://uufcc.com/event/folk-dancers/2024-06-25/
LOCATION:UUFCC – Community Room\, 780 Waupelani Drive\, State College\, PA\, 16801\, United States
CATEGORIES:Meeting
ORGANIZER;CN="Unitarian Universalist Fellowship of Centre County":MAILTO:office@uufcc.com
END:VEVENT
BEGIN:VEVENT
DTSTART;TZID=America/New_York:20240625T180000
DTEND;TZID=America/New_York:20240625T203000
DTSTAMP:20260420T213200
CREATED:20240605T155317Z
LAST-MODIFIED:20240605T155317Z
UID:10005758-1719338400-1719347400@uufcc.com
SUMMARY:Diving Deep Potluck & Annual Meeting
DESCRIPTION:June 25\, 2024\, is the 4th Tuesday of the month and the time Diving Deep has traditionally met for more than 30 years. Diving Deep is UUFCC’s women’s book discussion group founded in 1992 by Marian Dornell. This month we will return to our customary potluck prior to the annual meeting where we pitch our favorite reads and select the book titles for the coming year. We will also engage in some organizational housekeeping such as calendaring\, deciding on meeting format\, and leadership. Please bring a dish/finger food to share\, a book title to pitch\, and join us at the Fellowship at 6:00 pm to visit before we get down to business at 7:00 pm. Questions? Contact Monena Hall or Ann Snowman
URL:https://uufcc.com/event/diving-deep-potluck-annual-meeting/
LOCATION:UUFCC – Fellowship Hall\, 780 Waupelani Drive\, State College\, PA\, 16801\, United States
CATEGORIES:Meeting,UUFCC Committee
ORGANIZER;CN="Unitarian Universalist Fellowship of Centre County":MAILTO:office@uufcc.com
END:VEVENT
BEGIN:VEVENT
DTSTART;TZID=America/New_York:20240626T180000
DTEND;TZID=America/New_York:20240626T210000
DTSTAMP:20260420T213200
CREATED:20231105T152820Z
LAST-MODIFIED:20240313T161106Z
UID:10002352-1719424800-1719435600@uufcc.com
SUMMARY:Game Nights
DESCRIPTION:
URL:https://uufcc.com/event/game-nights/2024-06-26/
LOCATION:UUFCC – Fellowship Hall\, 780 Waupelani Drive\, State College\, PA\, 16801\, United States
CATEGORIES:Meeting
END:VEVENT
BEGIN:VEVENT
DTSTART;TZID=America/New_York:20240627T153000
DTEND;TZID=America/New_York:20240627T180000
DTSTAMP:20260420T213200
CREATED:20240718T161006Z
LAST-MODIFIED:20240718T161006Z
UID:10005952-1719502200-1719511200@uufcc.com
SUMMARY:Folk Dancers
DESCRIPTION:Please join this group of folks passionate about dancing to international folk music. Explore different cultures through music and dance. \n*On 3rd Thursdays we ends at 5:30PM (in time for Fellowship Supper).
URL:https://uufcc.com/event/folk-dancers/2024-06-27/
LOCATION:UUFCC – Community Room\, 780 Waupelani Drive\, State College\, PA\, 16801\, United States
CATEGORIES:Meeting
ORGANIZER;CN="Unitarian Universalist Fellowship of Centre County":MAILTO:office@uufcc.com
END:VEVENT
BEGIN:VEVENT
DTSTART;TZID=America/New_York:20240627T190000
DTEND;TZID=America/New_York:20240627T200000
DTSTAMP:20260420T213200
CREATED:20240529T142957Z
LAST-MODIFIED:20240529T143008Z
UID:10002588-1719514800-1719518400@uufcc.com
SUMMARY:Music Committee
DESCRIPTION:
URL:https://uufcc.com/event/music-committee-3/
LOCATION:UUFCC – Room 6\, 780 Waupelani Drive\, State College\, PA\, 16801\, United States
CATEGORIES:Meeting,UUFCC Committee
ORGANIZER;CN="Unitarian Universalist Fellowship of Centre County":MAILTO:office@uufcc.com
END:VEVENT
END:VCALENDAR