BEGIN:VCALENDAR
VERSION:2.0
PRODID:-//UUFCC - ECPv6.15.17//NONSGML v1.0//EN
CALSCALE:GREGORIAN
METHOD:PUBLISH
X-ORIGINAL-URL:https://uufcc.com
X-WR-CALDESC:Events for UUFCC
REFRESH-INTERVAL;VALUE=DURATION:PT1H
X-Robots-Tag:noindex
X-PUBLISHED-TTL:PT1H
BEGIN:VTIMEZONE
TZID:America/New_York
BEGIN:DAYLIGHT
TZOFFSETFROM:-0500
TZOFFSETTO:-0400
TZNAME:EDT
DTSTART:20230312T070000
END:DAYLIGHT
BEGIN:STANDARD
TZOFFSETFROM:-0400
TZOFFSETTO:-0500
TZNAME:EST
DTSTART:20231105T060000
END:STANDARD
BEGIN:DAYLIGHT
TZOFFSETFROM:-0500
TZOFFSETTO:-0400
TZNAME:EDT
DTSTART:20240310T070000
END:DAYLIGHT
BEGIN:STANDARD
TZOFFSETFROM:-0400
TZOFFSETTO:-0500
TZNAME:EST
DTSTART:20241103T060000
END:STANDARD
BEGIN:DAYLIGHT
TZOFFSETFROM:-0500
TZOFFSETTO:-0400
TZNAME:EDT
DTSTART:20250309T070000
END:DAYLIGHT
BEGIN:STANDARD
TZOFFSETFROM:-0400
TZOFFSETTO:-0500
TZNAME:EST
DTSTART:20251102T060000
END:STANDARD
END:VTIMEZONE
BEGIN:VEVENT
DTSTART;TZID=America/New_York:20241215T120000
DTEND;TZID=America/New_York:20241215T133000
DTSTAMP:20260419T114342
CREATED:20240911T175727Z
LAST-MODIFIED:20240911T175728Z
UID:10006985-1734264000-1734269400@uufcc.com
SUMMARY:UUFCC Jazz Band Rehearsal
DESCRIPTION:The UUFCC Jazz Band is open to all. Rehearsals occur on Sundays in the Sanctuary\, although occasionally the band may rehearse in Room 6 due to major church events. \nContact David Morris if interested.
URL:https://uufcc.com/event/uufcc-jazz-band-rehearsal-3/2024-12-15/
LOCATION:UUFCC – Sanctuary\, 780 Waupelani Drive\, State College\, PA\, 16801\, United States
CATEGORIES:Meeting,Music
ORGANIZER;CN="Unitarian Universalist Fellowship of Centre County":MAILTO:office@uufcc.com
END:VEVENT
BEGIN:VEVENT
DTSTART;TZID=America/New_York:20241217T153000
DTEND;TZID=America/New_York:20241217T180000
DTSTAMP:20260419T114342
CREATED:20240718T161006Z
LAST-MODIFIED:20240718T161006Z
UID:10006001-1734449400-1734458400@uufcc.com
SUMMARY:Folk Dancers
DESCRIPTION:Please join this group of folks passionate about dancing to international folk music. Explore different cultures through music and dance. \n*On 3rd Thursdays we ends at 5:30PM (in time for Fellowship Supper).
URL:https://uufcc.com/event/folk-dancers/2024-12-17/
LOCATION:UUFCC – Community Room\, 780 Waupelani Drive\, State College\, PA\, 16801\, United States
CATEGORIES:Meeting
ORGANIZER;CN="Unitarian Universalist Fellowship of Centre County":MAILTO:office@uufcc.com
END:VEVENT
BEGIN:VEVENT
DTSTART;TZID=America/New_York:20241217T190000
DTEND;TZID=America/New_York:20241217T210000
DTSTAMP:20260419T114342
CREATED:20240618T175644Z
LAST-MODIFIED:20240618T175645Z
UID:10005769-1734462000-1734469200@uufcc.com
SUMMARY:Board of Trustees
DESCRIPTION:
URL:https://uufcc.com/event/board-of-trustees-3/2024-12-17/
LOCATION:UUFCC – Room 6\, 780 Waupelani Drive\, State College\, PA\, 16801\, United States
CATEGORIES:Meeting
ORGANIZER;CN="Unitarian Universalist Fellowship of Centre County":MAILTO:office@uufcc.com
END:VEVENT
BEGIN:VEVENT
DTSTART;TZID=America/New_York:20241218T173000
DTEND;TZID=America/New_York:20241218T183000
DTSTAMP:20260419T114342
CREATED:20231114T201844Z
LAST-MODIFIED:20231114T201908Z
UID:10002905-1734543000-1734546600@uufcc.com
SUMMARY:Racial Justice Committee
DESCRIPTION:Contact Janet Irons for the Zoom information.
URL:https://uufcc.com/event/racial-justice-committee/2024-12-18/
LOCATION:Unitarian Universalist Fellowship of Centre County\, 780 Waupelani Drive\, State College\, PA\, 16801\, United States
CATEGORIES:Meeting,UUFCC Committee
END:VEVENT
BEGIN:VEVENT
DTSTART;TZID=America/New_York:20241218T180000
DTEND;TZID=America/New_York:20241218T210000
DTSTAMP:20260419T114342
CREATED:20231105T152820Z
LAST-MODIFIED:20240313T161106Z
UID:10002377-1734544800-1734555600@uufcc.com
SUMMARY:Game Nights
DESCRIPTION:
URL:https://uufcc.com/event/game-nights/2024-12-18/
LOCATION:UUFCC – Fellowship Hall\, 780 Waupelani Drive\, State College\, PA\, 16801\, United States
CATEGORIES:Meeting
END:VEVENT
BEGIN:VEVENT
DTSTART;TZID=America/New_York:20241219T153000
DTEND;TZID=America/New_York:20241219T180000
DTSTAMP:20260419T114342
CREATED:20240718T161006Z
LAST-MODIFIED:20240718T161006Z
UID:10006002-1734622200-1734631200@uufcc.com
SUMMARY:Folk Dancers
DESCRIPTION:Please join this group of folks passionate about dancing to international folk music. Explore different cultures through music and dance. \n*On 3rd Thursdays we ends at 5:30PM (in time for Fellowship Supper).
URL:https://uufcc.com/event/folk-dancers/2024-12-19/
LOCATION:UUFCC – Community Room\, 780 Waupelani Drive\, State College\, PA\, 16801\, United States
CATEGORIES:Meeting
ORGANIZER;CN="Unitarian Universalist Fellowship of Centre County":MAILTO:office@uufcc.com
END:VEVENT
BEGIN:VEVENT
DTSTART;TZID=America/New_York:20241220T103000
DTEND;TZID=America/New_York:20241220T113000
DTSTAMP:20260419T114342
CREATED:20241217T170113Z
LAST-MODIFIED:20241219T165417Z
UID:10007848-1734690600-1734694200@uufcc.com
SUMMARY:Rev. Tracy at Foxdale
DESCRIPTION:Rev. Tracy visits with the residents of Foxdale on the third Friday of each month. The meetings are free-flowing conversations on topics ranging from Unitarian Universalism to local news and world issues.
URL:https://uufcc.com/event/rev-tracy-at-foxdale/2024-12-20/
LOCATION:Foxdale Living Room\, 500 E Marylyn Ave\, State College\, PA\, 16801\, United States
CATEGORIES:Event,Meeting
END:VEVENT
BEGIN:VEVENT
DTSTART;TZID=America/New_York:20241221T100000
DTEND;TZID=America/New_York:20241221T120000
DTSTAMP:20260419T114342
CREATED:20240129T190714Z
LAST-MODIFIED:20240129T190714Z
UID:10004940-1734775200-1734782400@uufcc.com
SUMMARY:Educational Justice League
DESCRIPTION:EJL’s mission is to establish a powerful social justice coalition that actively advocates for and promotes equity for marginalized populations. \nWe are committed to addressing the unique challenges faced by communities of color\, individuals who identify as women\, LGBTQ+ individuals\, promoting accessibility for people with disabilities\, respecting and supporting individuals of all religions\, and bridging the socioeconomic gap through equitable education.
URL:https://uufcc.com/event/educational-justice-league-2/2024-12-21/
LOCATION:UUFCC – Room B\, 780 Waupelani Drive\, State College\, PA\, 16801\, United States
CATEGORIES:Meeting
END:VEVENT
END:VCALENDAR