BEGIN:VCALENDAR
VERSION:2.0
PRODID:-//UUFCC - ECPv6.15.17//NONSGML v1.0//EN
CALSCALE:GREGORIAN
METHOD:PUBLISH
X-ORIGINAL-URL:https://uufcc.com
X-WR-CALDESC:Events for UUFCC
REFRESH-INTERVAL;VALUE=DURATION:PT1H
X-Robots-Tag:noindex
X-PUBLISHED-TTL:PT1H
BEGIN:VTIMEZONE
TZID:America/New_York
BEGIN:DAYLIGHT
TZOFFSETFROM:-0500
TZOFFSETTO:-0400
TZNAME:EDT
DTSTART:20240310T070000
END:DAYLIGHT
BEGIN:STANDARD
TZOFFSETFROM:-0400
TZOFFSETTO:-0500
TZNAME:EST
DTSTART:20241103T060000
END:STANDARD
BEGIN:DAYLIGHT
TZOFFSETFROM:-0500
TZOFFSETTO:-0400
TZNAME:EDT
DTSTART:20250309T070000
END:DAYLIGHT
BEGIN:STANDARD
TZOFFSETFROM:-0400
TZOFFSETTO:-0500
TZNAME:EST
DTSTART:20251102T060000
END:STANDARD
BEGIN:DAYLIGHT
TZOFFSETFROM:-0500
TZOFFSETTO:-0400
TZNAME:EDT
DTSTART:20260308T070000
END:DAYLIGHT
BEGIN:STANDARD
TZOFFSETFROM:-0400
TZOFFSETTO:-0500
TZNAME:EST
DTSTART:20261101T060000
END:STANDARD
END:VTIMEZONE
BEGIN:VEVENT
DTSTART;TZID=America/New_York:20251019T120000
DTEND;TZID=America/New_York:20251019T133000
DTSTAMP:20260420T192044
CREATED:20240911T175727Z
LAST-MODIFIED:20240911T175728Z
UID:10007029-1760875200-1760880600@uufcc.com
SUMMARY:UUFCC Jazz Band Rehearsal
DESCRIPTION:The UUFCC Jazz Band is open to all. Rehearsals occur on Sundays in the Sanctuary\, although occasionally the band may rehearse in Room 6 due to major church events. \nContact David Morris if interested.
URL:https://uufcc.com/event/uufcc-jazz-band-rehearsal-3/2025-10-19/
LOCATION:UUFCC – Sanctuary\, 780 Waupelani Drive\, State College\, PA\, 16801\, United States
CATEGORIES:Meeting,Music
ORGANIZER;CN="Unitarian Universalist Fellowship of Centre County":MAILTO:office@uufcc.com
END:VEVENT
BEGIN:VEVENT
DTSTART;TZID=America/New_York:20251021T190000
DTEND;TZID=America/New_York:20251021T210000
DTSTAMP:20260420T192044
CREATED:20240618T175644Z
LAST-MODIFIED:20240618T175645Z
UID:10005779-1761073200-1761080400@uufcc.com
SUMMARY:Board of Trustees
DESCRIPTION:
URL:https://uufcc.com/event/board-of-trustees-3/2025-10-21/
LOCATION:UUFCC – Room 6\, 780 Waupelani Drive\, State College\, PA\, 16801\, United States
CATEGORIES:Meeting
ORGANIZER;CN="Unitarian Universalist Fellowship of Centre County":MAILTO:office@uufcc.com
END:VEVENT
BEGIN:VEVENT
DTSTART;TZID=America/New_York:20251022T153000
DTEND;TZID=America/New_York:20251022T180000
DTSTAMP:20260420T192044
CREATED:20250412T183626Z
LAST-MODIFIED:20250412T183644Z
UID:10008500-1761147000-1761156000@uufcc.com
SUMMARY:Folk Dancers
DESCRIPTION:Please join this group of folks passionate about dancing to international folk music. Explore different cultures through music and dance.
URL:https://uufcc.com/event/folk-dancers-2/2025-10-22/
LOCATION:UUFCC – Community Room\, 780 Waupelani Drive\, State College\, PA\, 16801\, United States
CATEGORIES:Meeting
ORGANIZER;CN="Unitarian Universalist Fellowship of Centre County":MAILTO:office@uufcc.com
END:VEVENT
BEGIN:VEVENT
DTSTART;TZID=America/New_York:20251022T180000
DTEND;TZID=America/New_York:20251022T210000
DTSTAMP:20260420T192044
CREATED:20231105T152820Z
LAST-MODIFIED:20240313T161106Z
UID:10002421-1761156000-1761166800@uufcc.com
SUMMARY:Game Nights
DESCRIPTION:
URL:https://uufcc.com/event/game-nights/2025-10-22/
LOCATION:UUFCC – Fellowship Hall\, 780 Waupelani Drive\, State College\, PA\, 16801\, United States
CATEGORIES:Meeting
END:VEVENT
BEGIN:VEVENT
DTSTART;TZID=America/New_York:20251023T180000
DTEND;TZID=America/New_York:20251023T190000
DTSTAMP:20260420T192044
CREATED:20231105T153317Z
LAST-MODIFIED:20231105T153344Z
UID:10002604-1761242400-1761246000@uufcc.com
SUMMARY:Music Committee
DESCRIPTION:
URL:https://uufcc.com/event/music-committee/2025-10-23/
LOCATION:UUFCC – Room 6\, 780 Waupelani Drive\, State College\, PA\, 16801\, United States
CATEGORIES:Meeting,UUFCC Committee
ORGANIZER;CN="Unitarian Universalist Fellowship of Centre County":MAILTO:office@uufcc.com
END:VEVENT
BEGIN:VEVENT
DTSTART;TZID=America/New_York:20251024T153000
DTEND;TZID=America/New_York:20251024T180000
DTSTAMP:20260420T192044
CREATED:20250412T183626Z
LAST-MODIFIED:20250412T183644Z
UID:10008501-1761319800-1761328800@uufcc.com
SUMMARY:Folk Dancers
DESCRIPTION:Please join this group of folks passionate about dancing to international folk music. Explore different cultures through music and dance.
URL:https://uufcc.com/event/folk-dancers-2/2025-10-24/
LOCATION:UUFCC – Community Room\, 780 Waupelani Drive\, State College\, PA\, 16801\, United States
CATEGORIES:Meeting
ORGANIZER;CN="Unitarian Universalist Fellowship of Centre County":MAILTO:office@uufcc.com
END:VEVENT
END:VCALENDAR