BEGIN:VCALENDAR
VERSION:2.0
PRODID:-//UUFCC - ECPv6.15.17//NONSGML v1.0//EN
CALSCALE:GREGORIAN
METHOD:PUBLISH
X-ORIGINAL-URL:https://uufcc.com
X-WR-CALDESC:Events for UUFCC
REFRESH-INTERVAL;VALUE=DURATION:PT1H
X-Robots-Tag:noindex
X-PUBLISHED-TTL:PT1H
BEGIN:VTIMEZONE
TZID:America/New_York
BEGIN:DAYLIGHT
TZOFFSETFROM:-0500
TZOFFSETTO:-0400
TZNAME:EDT
DTSTART:20240310T070000
END:DAYLIGHT
BEGIN:STANDARD
TZOFFSETFROM:-0400
TZOFFSETTO:-0500
TZNAME:EST
DTSTART:20241103T060000
END:STANDARD
BEGIN:DAYLIGHT
TZOFFSETFROM:-0500
TZOFFSETTO:-0400
TZNAME:EDT
DTSTART:20250309T070000
END:DAYLIGHT
BEGIN:STANDARD
TZOFFSETFROM:-0400
TZOFFSETTO:-0500
TZNAME:EST
DTSTART:20251102T060000
END:STANDARD
BEGIN:DAYLIGHT
TZOFFSETFROM:-0500
TZOFFSETTO:-0400
TZNAME:EDT
DTSTART:20260308T070000
END:DAYLIGHT
BEGIN:STANDARD
TZOFFSETFROM:-0400
TZOFFSETTO:-0500
TZNAME:EST
DTSTART:20261101T060000
END:STANDARD
END:VTIMEZONE
BEGIN:VEVENT
DTSTART;TZID=America/New_York:20250302T100000
DTEND;TZID=America/New_York:20250302T110000
DTSTAMP:20260421T215956
CREATED:20250226T171222Z
LAST-MODIFIED:20250226T171630Z
UID:10007413-1740909600-1740913200@uufcc.com
SUMMARY:Sunday Service - "What Do People Need to Heal? (Part 2)"
DESCRIPTION:…with Rev. Tracy Sprowls. Music : UUFCC Choir. \nLast Sunday\, we looked at the role of truth telling or naming the harm as part of the process of healing. This week we look at some of the other steps that can lead to healing as individuals and as a nation.
URL:https://uufcc.com/event/sunday-service-what-do-people-need-to-heal-part-2/
LOCATION:UUFCC – Sanctuary\, 780 Waupelani Drive\, State College\, PA\, 16801\, United States
CATEGORIES:Sunday Worship Service,Worship Service
ATTACH;FMTTYPE=image/png:https://uufcc.com/wp-content/uploads/2025/02/Feb-23-What-do-People-Need-to-Heal.png
ORGANIZER;CN="Unitarian Universalist Fellowship of Centre County":MAILTO:office@uufcc.com
END:VEVENT
BEGIN:VEVENT
DTSTART;TZID=America/New_York:20250305T190000
DTEND;TZID=America/New_York:20250305T200000
DTSTAMP:20260421T215956
CREATED:20250226T173322Z
LAST-MODIFIED:20250226T173831Z
UID:10008017-1741201200-1741204800@uufcc.com
SUMMARY:Soulful Sundown - "Just Another Wednesday?"
DESCRIPTION:…with Caroline Pierce.\nFor those of us who do not observe Ash Wednesday\, it may seem like just another Wednesday. However\, on this first day of Lent\, are there spiritual practices from the Lenten season that we can apply to our lives this spring? In this service\, we will ponder three questions to help us consider the possibilities.
URL:https://uufcc.com/event/soulful-sundown-33/
LOCATION:PA
CATEGORIES:Soulful Sundown,Worship Service
ATTACH;FMTTYPE=image/png:https://uufcc.com/wp-content/uploads/2023/09/Soulful-Sundown-square.png
END:VEVENT
BEGIN:VEVENT
DTSTART;TZID=America/New_York:20250309T100000
DTEND;TZID=America/New_York:20250309T110000
DTSTAMP:20260421T215956
CREATED:20250305T173934Z
LAST-MODIFIED:20250305T173934Z
UID:10007414-1741514400-1741518000@uufcc.com
SUMMARY:Sunday Service - "Women who Shook the World: Ida B Wells"
DESCRIPTION:…with Rev. Tracy Sprowls. Music: UUFCC Choir.\nOur theme this month is transformation and so with a nod to women’s history month we’ll take a look at Ida B Wells\, a transformational figure in journalism and civil rights. How does her life guide us today?
URL:https://uufcc.com/event/sunday-service-women-who-shook-the-world-ida-b-wells/
LOCATION:UUFCC – Sanctuary\, 780 Waupelani Drive\, State College\, PA\, 16801\, United States
CATEGORIES:Sunday Worship Service,Worship Service
ATTACH;FMTTYPE=image/png:https://uufcc.com/wp-content/uploads/2025/02/March-9-Ida-B-Wells.png
ORGANIZER;CN="Unitarian Universalist Fellowship of Centre County":MAILTO:office@uufcc.com
END:VEVENT
BEGIN:VEVENT
DTSTART;TZID=America/New_York:20250316T100000
DTEND;TZID=America/New_York:20250316T110000
DTSTAMP:20260421T215956
CREATED:20250310T181221Z
LAST-MODIFIED:20250312T164609Z
UID:10007416-1742119200-1742122800@uufcc.com
SUMMARY:Sunday Service - "Celebrating UU Women in History"
DESCRIPTION:with the Worship Committee. Music: UUFCC Choir\nLong before women were permitted to vote or to be ordained as ministers\, many of them played important roles in building the faith we know today as Unitarian Universalism.  Activists\, suffragettes\, religious educators\, journalists\, formerly enslaved people\, many of them ultimately found their way to the pulpit.  We will share the lives of several of them\, including Sophia Lyon Fahs\, Frances Barrier Williams\, Maja Capek\, Sofia Betancourt\, and Susan Frederick-Grey\, who have contributed\, each in their own way\, to the tradition of our liberal religion.
URL:https://uufcc.com/event/sunday-service-celebrating-uu-women-in-history/
LOCATION:UUFCC – Sanctuary\, 780 Waupelani Drive\, State College\, PA\, 16801\, United States
CATEGORIES:Sunday Worship Service,Worship Service
ATTACH;FMTTYPE=image/jpeg:https://uufcc.com/wp-content/uploads/2025/03/celebrating_uuwomen.jpg
ORGANIZER;CN="Unitarian Universalist Fellowship of Centre County":MAILTO:office@uufcc.com
END:VEVENT
BEGIN:VEVENT
DTSTART;TZID=America/New_York:20250319T190000
DTEND;TZID=America/New_York:20250319T200000
DTSTAMP:20260421T215956
CREATED:20250312T143921Z
LAST-MODIFIED:20250312T144117Z
UID:10008018-1742410800-1742414400@uufcc.com
SUMMARY:Soulful Sundown - "Song Wisdom"
DESCRIPTION:…with Chas Brua.\nAfter listening to three insightful\, strikingly different songs\, we’ll reflect on how they challenge and/or confirm our perspectives about life.
URL:https://uufcc.com/event/soulful-sundown-34/
LOCATION:PA
CATEGORIES:Soulful Sundown,Worship Service
ATTACH;FMTTYPE=image/png:https://uufcc.com/wp-content/uploads/2023/09/Soulful-Sundown-square.png
END:VEVENT
BEGIN:VEVENT
DTSTART;TZID=America/New_York:20250323T100000
DTEND;TZID=America/New_York:20250323T110000
DTSTAMP:20260421T215956
CREATED:20250319T164736Z
LAST-MODIFIED:20250319T172652Z
UID:10008320-1742724000-1742727600@uufcc.com
SUMMARY:Sunday Service - "Spirit of Life/Pledge Drive Kickoff"
DESCRIPTION:…with Rev. Tracy Sprowls. Music by: UUFCC Choir\nJoin Rev. Tracy Sprowls and Cathi Alloway this morning to kick off our season of giving otherwise known as the pledge drive. This is not an old school sermon on why to financially support your faith community (you know why!) but rather a recommitment to community in difficult times. Join us!
URL:https://uufcc.com/event/sunday-service-19/
LOCATION:UUFCC – Sanctuary\, 780 Waupelani Drive\, State College\, PA\, 16801\, United States
CATEGORIES:Sunday Worship Service,Worship Service
ATTACH;FMTTYPE=image/png:https://uufcc.com/wp-content/uploads/2025/03/Pledge-Logo-2025-fancy.png
ORGANIZER;CN="Unitarian Universalist Fellowship of Centre County":MAILTO:office@uufcc.com
END:VEVENT
BEGIN:VEVENT
DTSTART;TZID=America/New_York:20250330T100000
DTEND;TZID=America/New_York:20250330T110000
DTSTAMP:20260421T215956
CREATED:20250319T165036Z
LAST-MODIFIED:20250326T184304Z
UID:10007418-1743328800-1743332400@uufcc.com
SUMMARY:Sunday Service - "Celebrating Transgender Day of Visibility"
DESCRIPTION:…with Elaine Jurs\, Michel Lee Garrett. Speakers: Roberta Dostal\, Sebastion Mickle\, Theo Newbold Castro\, Emory Kade\nMcKenna.\nAs Unitarian Universalists\, we honor the inherent worth and dignity of every person. We affirm the diversity of gender and work to create communities where people of all genders and no gender are free to be themselves. We also recognize that transgender and non-binary youth have particular needs\, and that there is more work to do to make sure that our circle is open to every person\, of whatever age or gender\, called to our faith. This is part of our sacred work. \nFor our service today\, members and friends of our Fellowship will read their own poems and stories about their experiences of being transgender.  We will celebrate them and others who may not yet be ready to share their stories. \nWe hope you will join us and wear your colors to show support! The Jazz Band will play.
URL:https://uufcc.com/event/sunday-service-20/
LOCATION:UUFCC – Sanctuary\, 780 Waupelani Drive\, State College\, PA\, 16801\, United States
CATEGORIES:Sunday Worship Service,Worship Service
ATTACH;FMTTYPE=image/jpeg:https://uufcc.com/wp-content/uploads/2025/03/trans-day-of-visibility.jpg
ORGANIZER;CN="Unitarian Universalist Fellowship of Centre County":MAILTO:office@uufcc.com
END:VEVENT
END:VCALENDAR