BEGIN:VCALENDAR
VERSION:2.0
PRODID:-//UUFCC - ECPv6.15.17//NONSGML v1.0//EN
CALSCALE:GREGORIAN
METHOD:PUBLISH
X-WR-CALNAME:UUFCC
X-ORIGINAL-URL:https://uufcc.com
X-WR-CALDESC:Events for UUFCC
REFRESH-INTERVAL;VALUE=DURATION:PT1H
X-Robots-Tag:noindex
X-PUBLISHED-TTL:PT1H
BEGIN:VTIMEZONE
TZID:America/New_York
BEGIN:DAYLIGHT
TZOFFSETFROM:-0500
TZOFFSETTO:-0400
TZNAME:EDT
DTSTART:20250309T070000
END:DAYLIGHT
BEGIN:STANDARD
TZOFFSETFROM:-0400
TZOFFSETTO:-0500
TZNAME:EST
DTSTART:20251102T060000
END:STANDARD
BEGIN:DAYLIGHT
TZOFFSETFROM:-0500
TZOFFSETTO:-0400
TZNAME:EDT
DTSTART:20260308T070000
END:DAYLIGHT
BEGIN:STANDARD
TZOFFSETFROM:-0400
TZOFFSETTO:-0500
TZNAME:EST
DTSTART:20261101T060000
END:STANDARD
BEGIN:DAYLIGHT
TZOFFSETFROM:-0500
TZOFFSETTO:-0400
TZNAME:EDT
DTSTART:20270314T070000
END:DAYLIGHT
BEGIN:STANDARD
TZOFFSETFROM:-0400
TZOFFSETTO:-0500
TZNAME:EST
DTSTART:20271107T060000
END:STANDARD
END:VTIMEZONE
BEGIN:VEVENT
DTSTART;TZID=America/New_York:20260301T100000
DTEND;TZID=America/New_York:20260301T110000
DTSTAMP:20260425T130548
CREATED:20260225T184635Z
LAST-MODIFIED:20260225T191342Z
UID:10010014-1772359200-1772362800@uufcc.com
SUMMARY:Sunday Service - "If We Must Err"
DESCRIPTION:with. Rev. Misha Sanders. Music: Ji\, piano. \nAs the Islamic holy month of Ramadan comes to a close\, let’s reflect on how our pluralistic values can help us reach across theological and cultural divides to foster true friendships.
URL:https://uufcc.com/event/sunday-service-53/
LOCATION:UUFCC – Sanctuary\, 780 Waupelani Drive\, State College\, PA\, 16801\, United States
CATEGORIES:Sunday Worship Service,Worship Service
ATTACH;FMTTYPE=image/jpeg:https://uufcc.com/wp-content/uploads/2026/02/mar1.jpg
ORGANIZER;CN="Unitarian Universalist Fellowship of Centre County":MAILTO:office@uufcc.com
END:VEVENT
BEGIN:VEVENT
DTSTART;TZID=America/New_York:20260304T190000
DTEND;TZID=America/New_York:20260304T200000
DTSTAMP:20260425T130548
CREATED:20260225T191644Z
LAST-MODIFIED:20260225T191714Z
UID:10012508-1772650800-1772654400@uufcc.com
SUMMARY:Soulful Sundown - "The Narrow Bridge"
DESCRIPTION:with Chas Brua.\n \n\nThe great Hasidic teacher Rabbi Nachman of Breslov said\, “The whole world is a narrow bridge; the important thing is to not make yourself afraid.” We’ll explore the sources of courage in our lives.
URL:https://uufcc.com/event/soulful-sundown-59/
CATEGORIES:Soulful Sundown,Worship Service
ATTACH;FMTTYPE=image/png:https://uufcc.com/wp-content/uploads/2023/09/Soulful-Sundown-square.png
END:VEVENT
BEGIN:VEVENT
DTSTART;TZID=America/New_York:20260308T100000
DTEND;TZID=America/New_York:20260308T110000
DTSTAMP:20260425T130548
CREATED:20260225T184639Z
LAST-MODIFIED:20260304T192232Z
UID:10010015-1772964000-1772967600@uufcc.com
SUMMARY:Sunday Service - "Mary White Ovington: The Founding of the NAACP"
DESCRIPTION:with Rev. Rosemarie Newberry. Music: UUFCC Choir. \nRev. Rosemarie Newberry (Xe/xe\, pronounced “zhee”) is a retired UU minister that lives in New Jersey. Xe has served congregations in Ohio\, New Jersey\, and New York. Xe also worked as a hospice chaplain and a chaplain for adults with developmental disabilities. \nFrom Rev. Tracy: We have two themes this month\, women’s history month and paying attention. So as we explore these themes in the Sunday services\, I invite you to follow Mary Oliver’s instructions in your daily life: Pay attention. Be astonished.Tell about it. I would love to hear about what you discover!
URL:https://uufcc.com/event/sunday-service-54/
LOCATION:UUFCC – Sanctuary\, 780 Waupelani Drive\, State College\, PA\, 16801\, United States
CATEGORIES:Sunday Worship Service,Worship Service
ATTACH;FMTTYPE=image/jpeg:https://uufcc.com/wp-content/uploads/2026/02/mwosquare.jpg
ORGANIZER;CN="Unitarian Universalist Fellowship of Centre County":MAILTO:office@uufcc.com
END:VEVENT
BEGIN:VEVENT
DTSTART;TZID=America/New_York:20260315T100000
DTEND;TZID=America/New_York:20260315T110000
DTSTAMP:20260425T130548
CREATED:20260225T184643Z
LAST-MODIFIED:20260304T231227Z
UID:10010016-1773568800-1773572400@uufcc.com
SUMMARY:Sunday Service - "Centre Safe: A Domestic Violence Sanctuary"
DESCRIPTION:with Cathi Alloway and speaker Jennifer Pencek. Music: Hannah Bingman\n\nJoin Centre Safe Executive Director Jennifer Pencek to learn about empowering victims of domestic and sexual violence in our community. \nHannah Bingman is a local State College folksinger musician.
URL:https://uufcc.com/event/sunday-service-55/
LOCATION:UUFCC – Sanctuary\, 780 Waupelani Drive\, State College\, PA\, 16801\, United States
CATEGORIES:Sunday Worship Service,Worship Service
ATTACH;FMTTYPE=image/jpeg:https://uufcc.com/wp-content/uploads/2026/02/mar15.jpg
ORGANIZER;CN="Unitarian Universalist Fellowship of Centre County":MAILTO:office@uufcc.com
END:VEVENT
BEGIN:VEVENT
DTSTART;TZID=America/New_York:20260318T190000
DTEND;TZID=America/New_York:20260318T200000
DTSTAMP:20260425T130548
CREATED:20260311T164949Z
LAST-MODIFIED:20260311T165017Z
UID:10012509-1773860400-1773864000@uufcc.com
SUMMARY:Soulful Sundown - "Synchronicity"
DESCRIPTION:…with Virginia Hubbs. \n\nexplore the experience and gifts of synchronicity\n\nSoulful Sundown contemplative services are held biweekly on Wednesdays from 7:00 PM to 8:00 PM on Zoom. \nEach gathering considers a topic offered by that evening’s presenter\, who also suggests one or two related questions for silent reflection or meditation. After the quiet\, all who wish are invited to share their experiences and insights. Topics vary.
URL:https://uufcc.com/event/soulful-sundown-60/
CATEGORIES:Soulful Sundown,Worship Service
ATTACH;FMTTYPE=image/png:https://uufcc.com/wp-content/uploads/2023/09/Soulful-Sundown-square.png
END:VEVENT
BEGIN:VEVENT
DTSTART;TZID=America/New_York:20260322T100000
DTEND;TZID=America/New_York:20260322T110000
DTSTAMP:20260425T130548
CREATED:20260225T184647Z
LAST-MODIFIED:20260317T151727Z
UID:10010017-1774173600-1774177200@uufcc.com
SUMMARY:Sunday Service - "Listening Our Way Into Community"
DESCRIPTION:with Rev. Tracy Sprowls. Music: Jazz Band. \nThe jazz band will play gathering music for about 20 minutes before the service begins. The service music planned is: 1) Let The Good Times Roll – arr: Mike Sweeney; 2) Get Up And Make It Happen – arr: David S Morris; 3) Takin It To The Streets – arr: David S Morris. \nWe have two themes this month\, women’s history month and paying attention. So as we explore these themes in the Sunday services\, I invite you to follow Mary Oliver’s instructions in your daily life: Pay attention. Be astonished.Tell about it. I would love to hear about what you discover!
URL:https://uufcc.com/event/sunday-service-56/
LOCATION:UUFCC – Sanctuary\, 780 Waupelani Drive\, State College\, PA\, 16801\, United States
CATEGORIES:Sunday Worship Service,Worship Service
ATTACH;FMTTYPE=image/jpeg:https://uufcc.com/wp-content/uploads/2026/02/mar22.jpg
ORGANIZER;CN="Unitarian Universalist Fellowship of Centre County":MAILTO:office@uufcc.com
END:VEVENT
BEGIN:VEVENT
DTSTART;TZID=America/New_York:20260329T100000
DTEND;TZID=America/New_York:20260329T110000
DTSTAMP:20260425T130548
CREATED:20260225T184651Z
LAST-MODIFIED:20260225T185233Z
UID:10010018-1774778400-1774782000@uufcc.com
SUMMARY:Sunday Service - "A Sacred Attentiveness to the Absurd"
DESCRIPTION:with Rev. Tracy Sprowls. Music: UUFCC Choir.\nWe have two themes this month\, women’s history month and paying attention. So as we explore these themes in the Sunday services\, I invite you to follow Mary Oliver’s instructions in your daily life: Pay attention. Be astonished.Tell about it. I would love to hear about what you discover!
URL:https://uufcc.com/event/sunday-service-57/
LOCATION:UUFCC – Sanctuary\, 780 Waupelani Drive\, State College\, PA\, 16801\, United States
CATEGORIES:Sunday Worship Service,Worship Service
ATTACH;FMTTYPE=image/jpeg:https://uufcc.com/wp-content/uploads/2026/02/mar29.jpg
ORGANIZER;CN="Unitarian Universalist Fellowship of Centre County":MAILTO:office@uufcc.com
END:VEVENT
END:VCALENDAR