BEGIN:VCALENDAR
VERSION:2.0
PRODID:-//UUFCC - ECPv6.15.17//NONSGML v1.0//EN
CALSCALE:GREGORIAN
METHOD:PUBLISH
X-ORIGINAL-URL:https://uufcc.com
X-WR-CALDESC:Events for UUFCC
REFRESH-INTERVAL;VALUE=DURATION:PT1H
X-Robots-Tag:noindex
X-PUBLISHED-TTL:PT1H
BEGIN:VTIMEZONE
TZID:America/New_York
BEGIN:DAYLIGHT
TZOFFSETFROM:-0500
TZOFFSETTO:-0400
TZNAME:EDT
DTSTART:20260308T070000
END:DAYLIGHT
BEGIN:STANDARD
TZOFFSETFROM:-0400
TZOFFSETTO:-0500
TZNAME:EST
DTSTART:20261101T060000
END:STANDARD
BEGIN:DAYLIGHT
TZOFFSETFROM:-0500
TZOFFSETTO:-0400
TZNAME:EDT
DTSTART:20270314T070000
END:DAYLIGHT
BEGIN:STANDARD
TZOFFSETFROM:-0400
TZOFFSETTO:-0500
TZNAME:EST
DTSTART:20271107T060000
END:STANDARD
BEGIN:DAYLIGHT
TZOFFSETFROM:-0500
TZOFFSETTO:-0400
TZNAME:EDT
DTSTART:20280312T070000
END:DAYLIGHT
BEGIN:STANDARD
TZOFFSETFROM:-0400
TZOFFSETTO:-0500
TZNAME:EST
DTSTART:20281105T060000
END:STANDARD
END:VTIMEZONE
BEGIN:VEVENT
DTSTART;TZID=America/New_York:20270804T190000
DTEND;TZID=America/New_York:20270804T200000
DTSTAMP:20260422T202844
CREATED:20260114T173447Z
LAST-MODIFIED:20260421T145622Z
UID:10012545-1817406000-1817409600@uufcc.com
SUMMARY:Soulful Sundown
DESCRIPTION:Soulful Sundown contemplative services are held biweekly on Wednesdays from 7:00 PM to 8:00 PM on Zoom. \nEach gathering considers a topic offered by that evening’s presenter\, who also suggests one or two related questions for silent reflection or meditation. After the quiet\, all who wish are invited to share their experiences and insights. Topics vary.
URL:https://uufcc.com/event/soulful-sundown/2027-08-04/
CATEGORIES:Soulful Sundown
ATTACH;FMTTYPE=image/png:https://uufcc.com/wp-content/uploads/2023/09/Soulful-Sundown-square.png
END:VEVENT
BEGIN:VEVENT
DTSTART;TZID=America/New_York:20270808T100000
DTEND;TZID=America/New_York:20270808T110000
DTSTAMP:20260422T202844
CREATED:20250702T160757Z
LAST-MODIFIED:20250702T160757Z
UID:10010151-1817719200-1817722800@uufcc.com
SUMMARY:Sunday Service
DESCRIPTION:More information to come.
URL:https://uufcc.com/event/sunday-service/2027-08-08/
LOCATION:UUFCC – Sanctuary\, 780 Waupelani Drive\, State College\, PA\, 16801\, United States
CATEGORIES:Sunday Worship Service,Worship Service
ORGANIZER;CN="Unitarian Universalist Fellowship of Centre County":MAILTO:office@uufcc.com
END:VEVENT
BEGIN:VEVENT
DTSTART;TZID=America/New_York:20270815T100000
DTEND;TZID=America/New_York:20270815T110000
DTSTAMP:20260422T202844
CREATED:20250702T160757Z
LAST-MODIFIED:20250702T160757Z
UID:10010152-1818324000-1818327600@uufcc.com
SUMMARY:Sunday Service
DESCRIPTION:More information to come.
URL:https://uufcc.com/event/sunday-service/2027-08-15/
LOCATION:UUFCC – Sanctuary\, 780 Waupelani Drive\, State College\, PA\, 16801\, United States
CATEGORIES:Sunday Worship Service,Worship Service
ORGANIZER;CN="Unitarian Universalist Fellowship of Centre County":MAILTO:office@uufcc.com
END:VEVENT
BEGIN:VEVENT
DTSTART;TZID=America/New_York:20270818T190000
DTEND;TZID=America/New_York:20270818T200000
DTSTAMP:20260422T202844
CREATED:20260114T173447Z
LAST-MODIFIED:20260421T145622Z
UID:10012546-1818615600-1818619200@uufcc.com
SUMMARY:Soulful Sundown
DESCRIPTION:Soulful Sundown contemplative services are held biweekly on Wednesdays from 7:00 PM to 8:00 PM on Zoom. \nEach gathering considers a topic offered by that evening’s presenter\, who also suggests one or two related questions for silent reflection or meditation. After the quiet\, all who wish are invited to share their experiences and insights. Topics vary.
URL:https://uufcc.com/event/soulful-sundown/2027-08-18/
CATEGORIES:Soulful Sundown
ATTACH;FMTTYPE=image/png:https://uufcc.com/wp-content/uploads/2023/09/Soulful-Sundown-square.png
END:VEVENT
BEGIN:VEVENT
DTSTART;TZID=America/New_York:20270822T100000
DTEND;TZID=America/New_York:20270822T110000
DTSTAMP:20260422T202844
CREATED:20250702T160757Z
LAST-MODIFIED:20250702T160757Z
UID:10010153-1818928800-1818932400@uufcc.com
SUMMARY:Sunday Service
DESCRIPTION:More information to come.
URL:https://uufcc.com/event/sunday-service/2027-08-22/
LOCATION:UUFCC – Sanctuary\, 780 Waupelani Drive\, State College\, PA\, 16801\, United States
CATEGORIES:Sunday Worship Service,Worship Service
ORGANIZER;CN="Unitarian Universalist Fellowship of Centre County":MAILTO:office@uufcc.com
END:VEVENT
BEGIN:VEVENT
DTSTART;TZID=America/New_York:20270829T100000
DTEND;TZID=America/New_York:20270829T110000
DTSTAMP:20260422T202844
CREATED:20250702T160757Z
LAST-MODIFIED:20250702T160757Z
UID:10010154-1819533600-1819537200@uufcc.com
SUMMARY:Sunday Service
DESCRIPTION:More information to come.
URL:https://uufcc.com/event/sunday-service/2027-08-29/
LOCATION:UUFCC – Sanctuary\, 780 Waupelani Drive\, State College\, PA\, 16801\, United States
CATEGORIES:Sunday Worship Service,Worship Service
ORGANIZER;CN="Unitarian Universalist Fellowship of Centre County":MAILTO:office@uufcc.com
END:VEVENT
BEGIN:VEVENT
DTSTART;TZID=America/New_York:20270901T190000
DTEND;TZID=America/New_York:20270901T200000
DTSTAMP:20260422T202844
CREATED:20260114T173447Z
LAST-MODIFIED:20260421T145622Z
UID:10012547-1819825200-1819828800@uufcc.com
SUMMARY:Soulful Sundown
DESCRIPTION:Soulful Sundown contemplative services are held biweekly on Wednesdays from 7:00 PM to 8:00 PM on Zoom. \nEach gathering considers a topic offered by that evening’s presenter\, who also suggests one or two related questions for silent reflection or meditation. After the quiet\, all who wish are invited to share their experiences and insights. Topics vary.
URL:https://uufcc.com/event/soulful-sundown/2027-09-01/
CATEGORIES:Soulful Sundown
ATTACH;FMTTYPE=image/png:https://uufcc.com/wp-content/uploads/2023/09/Soulful-Sundown-square.png
END:VEVENT
BEGIN:VEVENT
DTSTART;TZID=America/New_York:20270905T100000
DTEND;TZID=America/New_York:20270905T110000
DTSTAMP:20260422T202844
CREATED:20250702T160757Z
LAST-MODIFIED:20250702T160757Z
UID:10010155-1820138400-1820142000@uufcc.com
SUMMARY:Sunday Service
DESCRIPTION:More information to come.
URL:https://uufcc.com/event/sunday-service/2027-09-05/
LOCATION:UUFCC – Sanctuary\, 780 Waupelani Drive\, State College\, PA\, 16801\, United States
CATEGORIES:Sunday Worship Service,Worship Service
ORGANIZER;CN="Unitarian Universalist Fellowship of Centre County":MAILTO:office@uufcc.com
END:VEVENT
BEGIN:VEVENT
DTSTART;TZID=America/New_York:20270912T100000
DTEND;TZID=America/New_York:20270912T110000
DTSTAMP:20260422T202844
CREATED:20250702T160757Z
LAST-MODIFIED:20250702T160757Z
UID:10010156-1820743200-1820746800@uufcc.com
SUMMARY:Sunday Service
DESCRIPTION:More information to come.
URL:https://uufcc.com/event/sunday-service/2027-09-12/
LOCATION:UUFCC – Sanctuary\, 780 Waupelani Drive\, State College\, PA\, 16801\, United States
CATEGORIES:Sunday Worship Service,Worship Service
ORGANIZER;CN="Unitarian Universalist Fellowship of Centre County":MAILTO:office@uufcc.com
END:VEVENT
BEGIN:VEVENT
DTSTART;TZID=America/New_York:20270915T190000
DTEND;TZID=America/New_York:20270915T200000
DTSTAMP:20260422T202844
CREATED:20260114T173447Z
LAST-MODIFIED:20260421T145622Z
UID:10012548-1821034800-1821038400@uufcc.com
SUMMARY:Soulful Sundown
DESCRIPTION:Soulful Sundown contemplative services are held biweekly on Wednesdays from 7:00 PM to 8:00 PM on Zoom. \nEach gathering considers a topic offered by that evening’s presenter\, who also suggests one or two related questions for silent reflection or meditation. After the quiet\, all who wish are invited to share their experiences and insights. Topics vary.
URL:https://uufcc.com/event/soulful-sundown/2027-09-15/
CATEGORIES:Soulful Sundown
ATTACH;FMTTYPE=image/png:https://uufcc.com/wp-content/uploads/2023/09/Soulful-Sundown-square.png
END:VEVENT
BEGIN:VEVENT
DTSTART;TZID=America/New_York:20270919T100000
DTEND;TZID=America/New_York:20270919T110000
DTSTAMP:20260422T202844
CREATED:20250702T160757Z
LAST-MODIFIED:20250702T160757Z
UID:10010157-1821348000-1821351600@uufcc.com
SUMMARY:Sunday Service
DESCRIPTION:More information to come.
URL:https://uufcc.com/event/sunday-service/2027-09-19/
LOCATION:UUFCC – Sanctuary\, 780 Waupelani Drive\, State College\, PA\, 16801\, United States
CATEGORIES:Sunday Worship Service,Worship Service
ORGANIZER;CN="Unitarian Universalist Fellowship of Centre County":MAILTO:office@uufcc.com
END:VEVENT
BEGIN:VEVENT
DTSTART;TZID=America/New_York:20270926T100000
DTEND;TZID=America/New_York:20270926T110000
DTSTAMP:20260422T202844
CREATED:20250702T160757Z
LAST-MODIFIED:20250702T160757Z
UID:10010158-1821952800-1821956400@uufcc.com
SUMMARY:Sunday Service
DESCRIPTION:More information to come.
URL:https://uufcc.com/event/sunday-service/2027-09-26/
LOCATION:UUFCC – Sanctuary\, 780 Waupelani Drive\, State College\, PA\, 16801\, United States
CATEGORIES:Sunday Worship Service,Worship Service
ORGANIZER;CN="Unitarian Universalist Fellowship of Centre County":MAILTO:office@uufcc.com
END:VEVENT
BEGIN:VEVENT
DTSTART;TZID=America/New_York:20270929T190000
DTEND;TZID=America/New_York:20270929T200000
DTSTAMP:20260422T202844
CREATED:20260114T173447Z
LAST-MODIFIED:20260421T145622Z
UID:10012549-1822244400-1822248000@uufcc.com
SUMMARY:Soulful Sundown
DESCRIPTION:Soulful Sundown contemplative services are held biweekly on Wednesdays from 7:00 PM to 8:00 PM on Zoom. \nEach gathering considers a topic offered by that evening’s presenter\, who also suggests one or two related questions for silent reflection or meditation. After the quiet\, all who wish are invited to share their experiences and insights. Topics vary.
URL:https://uufcc.com/event/soulful-sundown/2027-09-29/
CATEGORIES:Soulful Sundown
ATTACH;FMTTYPE=image/png:https://uufcc.com/wp-content/uploads/2023/09/Soulful-Sundown-square.png
END:VEVENT
BEGIN:VEVENT
DTSTART;TZID=America/New_York:20271003T100000
DTEND;TZID=America/New_York:20271003T110000
DTSTAMP:20260422T202844
CREATED:20250702T160757Z
LAST-MODIFIED:20250702T160757Z
UID:10010159-1822557600-1822561200@uufcc.com
SUMMARY:Sunday Service
DESCRIPTION:More information to come.
URL:https://uufcc.com/event/sunday-service/2027-10-03/
LOCATION:UUFCC – Sanctuary\, 780 Waupelani Drive\, State College\, PA\, 16801\, United States
CATEGORIES:Sunday Worship Service,Worship Service
ORGANIZER;CN="Unitarian Universalist Fellowship of Centre County":MAILTO:office@uufcc.com
END:VEVENT
BEGIN:VEVENT
DTSTART;TZID=America/New_York:20271010T100000
DTEND;TZID=America/New_York:20271010T110000
DTSTAMP:20260422T202844
CREATED:20250702T160757Z
LAST-MODIFIED:20250702T160757Z
UID:10010160-1823162400-1823166000@uufcc.com
SUMMARY:Sunday Service
DESCRIPTION:More information to come.
URL:https://uufcc.com/event/sunday-service/2027-10-10/
LOCATION:UUFCC – Sanctuary\, 780 Waupelani Drive\, State College\, PA\, 16801\, United States
CATEGORIES:Sunday Worship Service,Worship Service
ORGANIZER;CN="Unitarian Universalist Fellowship of Centre County":MAILTO:office@uufcc.com
END:VEVENT
BEGIN:VEVENT
DTSTART;TZID=America/New_York:20271013T190000
DTEND;TZID=America/New_York:20271013T200000
DTSTAMP:20260422T202844
CREATED:20260114T173447Z
LAST-MODIFIED:20260421T145622Z
UID:10012550-1823454000-1823457600@uufcc.com
SUMMARY:Soulful Sundown
DESCRIPTION:Soulful Sundown contemplative services are held biweekly on Wednesdays from 7:00 PM to 8:00 PM on Zoom. \nEach gathering considers a topic offered by that evening’s presenter\, who also suggests one or two related questions for silent reflection or meditation. After the quiet\, all who wish are invited to share their experiences and insights. Topics vary.
URL:https://uufcc.com/event/soulful-sundown/2027-10-13/
CATEGORIES:Soulful Sundown
ATTACH;FMTTYPE=image/png:https://uufcc.com/wp-content/uploads/2023/09/Soulful-Sundown-square.png
END:VEVENT
BEGIN:VEVENT
DTSTART;TZID=America/New_York:20271017T100000
DTEND;TZID=America/New_York:20271017T110000
DTSTAMP:20260422T202844
CREATED:20250702T160757Z
LAST-MODIFIED:20250702T160757Z
UID:10010161-1823767200-1823770800@uufcc.com
SUMMARY:Sunday Service
DESCRIPTION:More information to come.
URL:https://uufcc.com/event/sunday-service/2027-10-17/
LOCATION:UUFCC – Sanctuary\, 780 Waupelani Drive\, State College\, PA\, 16801\, United States
CATEGORIES:Sunday Worship Service,Worship Service
ORGANIZER;CN="Unitarian Universalist Fellowship of Centre County":MAILTO:office@uufcc.com
END:VEVENT
BEGIN:VEVENT
DTSTART;TZID=America/New_York:20271024T100000
DTEND;TZID=America/New_York:20271024T110000
DTSTAMP:20260422T202844
CREATED:20250702T160757Z
LAST-MODIFIED:20250702T160757Z
UID:10010162-1824372000-1824375600@uufcc.com
SUMMARY:Sunday Service
DESCRIPTION:More information to come.
URL:https://uufcc.com/event/sunday-service/2027-10-24/
LOCATION:UUFCC – Sanctuary\, 780 Waupelani Drive\, State College\, PA\, 16801\, United States
CATEGORIES:Sunday Worship Service,Worship Service
ORGANIZER;CN="Unitarian Universalist Fellowship of Centre County":MAILTO:office@uufcc.com
END:VEVENT
BEGIN:VEVENT
DTSTART;TZID=America/New_York:20271027T190000
DTEND;TZID=America/New_York:20271027T200000
DTSTAMP:20260422T202844
CREATED:20260114T173447Z
LAST-MODIFIED:20260421T145622Z
UID:10012551-1824663600-1824667200@uufcc.com
SUMMARY:Soulful Sundown
DESCRIPTION:Soulful Sundown contemplative services are held biweekly on Wednesdays from 7:00 PM to 8:00 PM on Zoom. \nEach gathering considers a topic offered by that evening’s presenter\, who also suggests one or two related questions for silent reflection or meditation. After the quiet\, all who wish are invited to share their experiences and insights. Topics vary.
URL:https://uufcc.com/event/soulful-sundown/2027-10-27/
CATEGORIES:Soulful Sundown
ATTACH;FMTTYPE=image/png:https://uufcc.com/wp-content/uploads/2023/09/Soulful-Sundown-square.png
END:VEVENT
BEGIN:VEVENT
DTSTART;TZID=America/New_York:20271031T100000
DTEND;TZID=America/New_York:20271031T110000
DTSTAMP:20260422T202844
CREATED:20250702T160757Z
LAST-MODIFIED:20250702T160757Z
UID:10010163-1824976800-1824980400@uufcc.com
SUMMARY:Sunday Service
DESCRIPTION:More information to come.
URL:https://uufcc.com/event/sunday-service/2027-10-31/
LOCATION:UUFCC – Sanctuary\, 780 Waupelani Drive\, State College\, PA\, 16801\, United States
CATEGORIES:Sunday Worship Service,Worship Service
ORGANIZER;CN="Unitarian Universalist Fellowship of Centre County":MAILTO:office@uufcc.com
END:VEVENT
BEGIN:VEVENT
DTSTART;TZID=America/New_York:20271107T100000
DTEND;TZID=America/New_York:20271107T110000
DTSTAMP:20260422T202844
CREATED:20250702T160757Z
LAST-MODIFIED:20250702T160757Z
UID:10010164-1825581600-1825585200@uufcc.com
SUMMARY:Sunday Service
DESCRIPTION:More information to come.
URL:https://uufcc.com/event/sunday-service/2027-11-07/
LOCATION:UUFCC – Sanctuary\, 780 Waupelani Drive\, State College\, PA\, 16801\, United States
CATEGORIES:Sunday Worship Service,Worship Service
ORGANIZER;CN="Unitarian Universalist Fellowship of Centre County":MAILTO:office@uufcc.com
END:VEVENT
BEGIN:VEVENT
DTSTART;TZID=America/New_York:20271110T190000
DTEND;TZID=America/New_York:20271110T200000
DTSTAMP:20260422T202844
CREATED:20260114T173447Z
LAST-MODIFIED:20260421T145622Z
UID:10012552-1825873200-1825876800@uufcc.com
SUMMARY:Soulful Sundown
DESCRIPTION:Soulful Sundown contemplative services are held biweekly on Wednesdays from 7:00 PM to 8:00 PM on Zoom. \nEach gathering considers a topic offered by that evening’s presenter\, who also suggests one or two related questions for silent reflection or meditation. After the quiet\, all who wish are invited to share their experiences and insights. Topics vary.
URL:https://uufcc.com/event/soulful-sundown/2027-11-10/
CATEGORIES:Soulful Sundown
ATTACH;FMTTYPE=image/png:https://uufcc.com/wp-content/uploads/2023/09/Soulful-Sundown-square.png
END:VEVENT
BEGIN:VEVENT
DTSTART;TZID=America/New_York:20271114T100000
DTEND;TZID=America/New_York:20271114T110000
DTSTAMP:20260422T202844
CREATED:20250702T160757Z
LAST-MODIFIED:20250702T160757Z
UID:10010165-1826186400-1826190000@uufcc.com
SUMMARY:Sunday Service
DESCRIPTION:More information to come.
URL:https://uufcc.com/event/sunday-service/2027-11-14/
LOCATION:UUFCC – Sanctuary\, 780 Waupelani Drive\, State College\, PA\, 16801\, United States
CATEGORIES:Sunday Worship Service,Worship Service
ORGANIZER;CN="Unitarian Universalist Fellowship of Centre County":MAILTO:office@uufcc.com
END:VEVENT
BEGIN:VEVENT
DTSTART;TZID=America/New_York:20271121T100000
DTEND;TZID=America/New_York:20271121T110000
DTSTAMP:20260422T202844
CREATED:20250702T160757Z
LAST-MODIFIED:20250702T160757Z
UID:10010166-1826791200-1826794800@uufcc.com
SUMMARY:Sunday Service
DESCRIPTION:More information to come.
URL:https://uufcc.com/event/sunday-service/2027-11-21/
LOCATION:UUFCC – Sanctuary\, 780 Waupelani Drive\, State College\, PA\, 16801\, United States
CATEGORIES:Sunday Worship Service,Worship Service
ORGANIZER;CN="Unitarian Universalist Fellowship of Centre County":MAILTO:office@uufcc.com
END:VEVENT
BEGIN:VEVENT
DTSTART;TZID=America/New_York:20271124T190000
DTEND;TZID=America/New_York:20271124T200000
DTSTAMP:20260422T202844
CREATED:20260114T173447Z
LAST-MODIFIED:20260421T145622Z
UID:10012553-1827082800-1827086400@uufcc.com
SUMMARY:Soulful Sundown
DESCRIPTION:Soulful Sundown contemplative services are held biweekly on Wednesdays from 7:00 PM to 8:00 PM on Zoom. \nEach gathering considers a topic offered by that evening’s presenter\, who also suggests one or two related questions for silent reflection or meditation. After the quiet\, all who wish are invited to share their experiences and insights. Topics vary.
URL:https://uufcc.com/event/soulful-sundown/2027-11-24/
CATEGORIES:Soulful Sundown
ATTACH;FMTTYPE=image/png:https://uufcc.com/wp-content/uploads/2023/09/Soulful-Sundown-square.png
END:VEVENT
BEGIN:VEVENT
DTSTART;TZID=America/New_York:20271128T100000
DTEND;TZID=America/New_York:20271128T110000
DTSTAMP:20260422T202844
CREATED:20250702T160757Z
LAST-MODIFIED:20250702T160757Z
UID:10010167-1827396000-1827399600@uufcc.com
SUMMARY:Sunday Service
DESCRIPTION:More information to come.
URL:https://uufcc.com/event/sunday-service/2027-11-28/
LOCATION:UUFCC – Sanctuary\, 780 Waupelani Drive\, State College\, PA\, 16801\, United States
CATEGORIES:Sunday Worship Service,Worship Service
ORGANIZER;CN="Unitarian Universalist Fellowship of Centre County":MAILTO:office@uufcc.com
END:VEVENT
BEGIN:VEVENT
DTSTART;TZID=America/New_York:20271205T100000
DTEND;TZID=America/New_York:20271205T110000
DTSTAMP:20260422T202844
CREATED:20250702T160757Z
LAST-MODIFIED:20250702T160757Z
UID:10010168-1828000800-1828004400@uufcc.com
SUMMARY:Sunday Service
DESCRIPTION:More information to come.
URL:https://uufcc.com/event/sunday-service/2027-12-05/
LOCATION:UUFCC – Sanctuary\, 780 Waupelani Drive\, State College\, PA\, 16801\, United States
CATEGORIES:Sunday Worship Service,Worship Service
ORGANIZER;CN="Unitarian Universalist Fellowship of Centre County":MAILTO:office@uufcc.com
END:VEVENT
BEGIN:VEVENT
DTSTART;TZID=America/New_York:20271208T190000
DTEND;TZID=America/New_York:20271208T200000
DTSTAMP:20260422T202844
CREATED:20260114T173447Z
LAST-MODIFIED:20260421T145622Z
UID:10012554-1828292400-1828296000@uufcc.com
SUMMARY:Soulful Sundown
DESCRIPTION:Soulful Sundown contemplative services are held biweekly on Wednesdays from 7:00 PM to 8:00 PM on Zoom. \nEach gathering considers a topic offered by that evening’s presenter\, who also suggests one or two related questions for silent reflection or meditation. After the quiet\, all who wish are invited to share their experiences and insights. Topics vary.
URL:https://uufcc.com/event/soulful-sundown/2027-12-08/
CATEGORIES:Soulful Sundown
ATTACH;FMTTYPE=image/png:https://uufcc.com/wp-content/uploads/2023/09/Soulful-Sundown-square.png
END:VEVENT
BEGIN:VEVENT
DTSTART;TZID=America/New_York:20271212T100000
DTEND;TZID=America/New_York:20271212T110000
DTSTAMP:20260422T202844
CREATED:20250702T160757Z
LAST-MODIFIED:20250702T160757Z
UID:10010169-1828605600-1828609200@uufcc.com
SUMMARY:Sunday Service
DESCRIPTION:More information to come.
URL:https://uufcc.com/event/sunday-service/2027-12-12/
LOCATION:UUFCC – Sanctuary\, 780 Waupelani Drive\, State College\, PA\, 16801\, United States
CATEGORIES:Sunday Worship Service,Worship Service
ORGANIZER;CN="Unitarian Universalist Fellowship of Centre County":MAILTO:office@uufcc.com
END:VEVENT
BEGIN:VEVENT
DTSTART;TZID=America/New_York:20271219T100000
DTEND;TZID=America/New_York:20271219T110000
DTSTAMP:20260422T202844
CREATED:20250702T160757Z
LAST-MODIFIED:20250702T160757Z
UID:10010170-1829210400-1829214000@uufcc.com
SUMMARY:Sunday Service
DESCRIPTION:More information to come.
URL:https://uufcc.com/event/sunday-service/2027-12-19/
LOCATION:UUFCC – Sanctuary\, 780 Waupelani Drive\, State College\, PA\, 16801\, United States
CATEGORIES:Sunday Worship Service,Worship Service
ORGANIZER;CN="Unitarian Universalist Fellowship of Centre County":MAILTO:office@uufcc.com
END:VEVENT
END:VCALENDAR