BEGIN:VCALENDAR
VERSION:2.0
PRODID:-//UUFCC - ECPv6.15.17//NONSGML v1.0//EN
CALSCALE:GREGORIAN
METHOD:PUBLISH
X-ORIGINAL-URL:https://uufcc.com
X-WR-CALDESC:Events for UUFCC
REFRESH-INTERVAL;VALUE=DURATION:PT1H
X-Robots-Tag:noindex
X-PUBLISHED-TTL:PT1H
BEGIN:VTIMEZONE
TZID:America/New_York
BEGIN:DAYLIGHT
TZOFFSETFROM:-0500
TZOFFSETTO:-0400
TZNAME:EDT
DTSTART:20260308T070000
END:DAYLIGHT
BEGIN:STANDARD
TZOFFSETFROM:-0400
TZOFFSETTO:-0500
TZNAME:EST
DTSTART:20261101T060000
END:STANDARD
BEGIN:DAYLIGHT
TZOFFSETFROM:-0500
TZOFFSETTO:-0400
TZNAME:EDT
DTSTART:20270314T070000
END:DAYLIGHT
BEGIN:STANDARD
TZOFFSETFROM:-0400
TZOFFSETTO:-0500
TZNAME:EST
DTSTART:20271107T060000
END:STANDARD
BEGIN:DAYLIGHT
TZOFFSETFROM:-0500
TZOFFSETTO:-0400
TZNAME:EDT
DTSTART:20280312T070000
END:DAYLIGHT
BEGIN:STANDARD
TZOFFSETFROM:-0400
TZOFFSETTO:-0500
TZNAME:EST
DTSTART:20281105T060000
END:STANDARD
BEGIN:DAYLIGHT
TZOFFSETFROM:-0500
TZOFFSETTO:-0400
TZNAME:EDT
DTSTART:20290311T070000
END:DAYLIGHT
BEGIN:STANDARD
TZOFFSETFROM:-0400
TZOFFSETTO:-0500
TZNAME:EST
DTSTART:20291104T060000
END:STANDARD
END:VTIMEZONE
BEGIN:VEVENT
DTSTART;TZID=America/New_York:20271107T100000
DTEND;TZID=America/New_York:20271107T110000
DTSTAMP:20260419T223549
CREATED:20250702T160757Z
LAST-MODIFIED:20250702T160757Z
UID:10010164-1825581600-1825585200@uufcc.com
SUMMARY:Sunday Service
DESCRIPTION:More information to come.
URL:https://uufcc.com/event/sunday-service/2027-11-07/
LOCATION:UUFCC – Sanctuary\, 780 Waupelani Drive\, State College\, PA\, 16801\, United States
CATEGORIES:Sunday Worship Service,Worship Service
ORGANIZER;CN="Unitarian Universalist Fellowship of Centre County":MAILTO:office@uufcc.com
END:VEVENT
BEGIN:VEVENT
DTSTART;TZID=America/New_York:20271110T190000
DTEND;TZID=America/New_York:20271110T200000
DTSTAMP:20260419T223549
CREATED:20260114T173447Z
LAST-MODIFIED:20260114T174203Z
UID:10012552-1825873200-1825876800@uufcc.com
SUMMARY:Soulful Sundown
DESCRIPTION:Soulful Sundown contemplative services are held biweekly on Wednesdays from 7:00 PM to 8:00 PM on Zoom. \nEach gathering considers a topic offered by that evening’s presenter\, who also suggests one or two related questions for silent reflection or meditation. After the quiet\, all who wish are invited to share their experiences and insights. Topics vary.
URL:https://uufcc.com/event/soulful-sundown/2027-11-10/
CATEGORIES:Soulful Sundown,Worship Service
ATTACH;FMTTYPE=image/png:https://uufcc.com/wp-content/uploads/2023/09/Soulful-Sundown-square.png
END:VEVENT
BEGIN:VEVENT
DTSTART;TZID=America/New_York:20271114T100000
DTEND;TZID=America/New_York:20271114T110000
DTSTAMP:20260419T223549
CREATED:20250702T160757Z
LAST-MODIFIED:20250702T160757Z
UID:10010165-1826186400-1826190000@uufcc.com
SUMMARY:Sunday Service
DESCRIPTION:More information to come.
URL:https://uufcc.com/event/sunday-service/2027-11-14/
LOCATION:UUFCC – Sanctuary\, 780 Waupelani Drive\, State College\, PA\, 16801\, United States
CATEGORIES:Sunday Worship Service,Worship Service
ORGANIZER;CN="Unitarian Universalist Fellowship of Centre County":MAILTO:office@uufcc.com
END:VEVENT
BEGIN:VEVENT
DTSTART;TZID=America/New_York:20271121T100000
DTEND;TZID=America/New_York:20271121T110000
DTSTAMP:20260419T223549
CREATED:20250702T160757Z
LAST-MODIFIED:20250702T160757Z
UID:10010166-1826791200-1826794800@uufcc.com
SUMMARY:Sunday Service
DESCRIPTION:More information to come.
URL:https://uufcc.com/event/sunday-service/2027-11-21/
LOCATION:UUFCC – Sanctuary\, 780 Waupelani Drive\, State College\, PA\, 16801\, United States
CATEGORIES:Sunday Worship Service,Worship Service
ORGANIZER;CN="Unitarian Universalist Fellowship of Centre County":MAILTO:office@uufcc.com
END:VEVENT
BEGIN:VEVENT
DTSTART;TZID=America/New_York:20271124T190000
DTEND;TZID=America/New_York:20271124T200000
DTSTAMP:20260419T223549
CREATED:20260114T173447Z
LAST-MODIFIED:20260114T174203Z
UID:10012553-1827082800-1827086400@uufcc.com
SUMMARY:Soulful Sundown
DESCRIPTION:Soulful Sundown contemplative services are held biweekly on Wednesdays from 7:00 PM to 8:00 PM on Zoom. \nEach gathering considers a topic offered by that evening’s presenter\, who also suggests one or two related questions for silent reflection or meditation. After the quiet\, all who wish are invited to share their experiences and insights. Topics vary.
URL:https://uufcc.com/event/soulful-sundown/2027-11-24/
CATEGORIES:Soulful Sundown,Worship Service
ATTACH;FMTTYPE=image/png:https://uufcc.com/wp-content/uploads/2023/09/Soulful-Sundown-square.png
END:VEVENT
BEGIN:VEVENT
DTSTART;TZID=America/New_York:20271128T100000
DTEND;TZID=America/New_York:20271128T110000
DTSTAMP:20260419T223549
CREATED:20250702T160757Z
LAST-MODIFIED:20250702T160757Z
UID:10010167-1827396000-1827399600@uufcc.com
SUMMARY:Sunday Service
DESCRIPTION:More information to come.
URL:https://uufcc.com/event/sunday-service/2027-11-28/
LOCATION:UUFCC – Sanctuary\, 780 Waupelani Drive\, State College\, PA\, 16801\, United States
CATEGORIES:Sunday Worship Service,Worship Service
ORGANIZER;CN="Unitarian Universalist Fellowship of Centre County":MAILTO:office@uufcc.com
END:VEVENT
BEGIN:VEVENT
DTSTART;TZID=America/New_York:20271205T100000
DTEND;TZID=America/New_York:20271205T110000
DTSTAMP:20260419T223549
CREATED:20250702T160757Z
LAST-MODIFIED:20250702T160757Z
UID:10010168-1828000800-1828004400@uufcc.com
SUMMARY:Sunday Service
DESCRIPTION:More information to come.
URL:https://uufcc.com/event/sunday-service/2027-12-05/
LOCATION:UUFCC – Sanctuary\, 780 Waupelani Drive\, State College\, PA\, 16801\, United States
CATEGORIES:Sunday Worship Service,Worship Service
ORGANIZER;CN="Unitarian Universalist Fellowship of Centre County":MAILTO:office@uufcc.com
END:VEVENT
BEGIN:VEVENT
DTSTART;TZID=America/New_York:20271208T190000
DTEND;TZID=America/New_York:20271208T200000
DTSTAMP:20260419T223549
CREATED:20260114T173447Z
LAST-MODIFIED:20260114T174203Z
UID:10012554-1828292400-1828296000@uufcc.com
SUMMARY:Soulful Sundown
DESCRIPTION:Soulful Sundown contemplative services are held biweekly on Wednesdays from 7:00 PM to 8:00 PM on Zoom. \nEach gathering considers a topic offered by that evening’s presenter\, who also suggests one or two related questions for silent reflection or meditation. After the quiet\, all who wish are invited to share their experiences and insights. Topics vary.
URL:https://uufcc.com/event/soulful-sundown/2027-12-08/
CATEGORIES:Soulful Sundown,Worship Service
ATTACH;FMTTYPE=image/png:https://uufcc.com/wp-content/uploads/2023/09/Soulful-Sundown-square.png
END:VEVENT
BEGIN:VEVENT
DTSTART;TZID=America/New_York:20271212T100000
DTEND;TZID=America/New_York:20271212T110000
DTSTAMP:20260419T223549
CREATED:20250702T160757Z
LAST-MODIFIED:20250702T160757Z
UID:10010169-1828605600-1828609200@uufcc.com
SUMMARY:Sunday Service
DESCRIPTION:More information to come.
URL:https://uufcc.com/event/sunday-service/2027-12-12/
LOCATION:UUFCC – Sanctuary\, 780 Waupelani Drive\, State College\, PA\, 16801\, United States
CATEGORIES:Sunday Worship Service,Worship Service
ORGANIZER;CN="Unitarian Universalist Fellowship of Centre County":MAILTO:office@uufcc.com
END:VEVENT
BEGIN:VEVENT
DTSTART;TZID=America/New_York:20271219T100000
DTEND;TZID=America/New_York:20271219T110000
DTSTAMP:20260419T223549
CREATED:20250702T160757Z
LAST-MODIFIED:20250702T160757Z
UID:10010170-1829210400-1829214000@uufcc.com
SUMMARY:Sunday Service
DESCRIPTION:More information to come.
URL:https://uufcc.com/event/sunday-service/2027-12-19/
LOCATION:UUFCC – Sanctuary\, 780 Waupelani Drive\, State College\, PA\, 16801\, United States
CATEGORIES:Sunday Worship Service,Worship Service
ORGANIZER;CN="Unitarian Universalist Fellowship of Centre County":MAILTO:office@uufcc.com
END:VEVENT
BEGIN:VEVENT
DTSTART;TZID=America/New_York:20271222T190000
DTEND;TZID=America/New_York:20271222T200000
DTSTAMP:20260419T223549
CREATED:20260114T173447Z
LAST-MODIFIED:20260114T174203Z
UID:10012555-1829502000-1829505600@uufcc.com
SUMMARY:Soulful Sundown
DESCRIPTION:Soulful Sundown contemplative services are held biweekly on Wednesdays from 7:00 PM to 8:00 PM on Zoom. \nEach gathering considers a topic offered by that evening’s presenter\, who also suggests one or two related questions for silent reflection or meditation. After the quiet\, all who wish are invited to share their experiences and insights. Topics vary.
URL:https://uufcc.com/event/soulful-sundown/2027-12-22/
CATEGORIES:Soulful Sundown,Worship Service
ATTACH;FMTTYPE=image/png:https://uufcc.com/wp-content/uploads/2023/09/Soulful-Sundown-square.png
END:VEVENT
BEGIN:VEVENT
DTSTART;TZID=America/New_York:20271226T100000
DTEND;TZID=America/New_York:20271226T110000
DTSTAMP:20260419T223549
CREATED:20250702T160757Z
LAST-MODIFIED:20250702T160757Z
UID:10010171-1829815200-1829818800@uufcc.com
SUMMARY:Sunday Service
DESCRIPTION:More information to come.
URL:https://uufcc.com/event/sunday-service/2027-12-26/
LOCATION:UUFCC – Sanctuary\, 780 Waupelani Drive\, State College\, PA\, 16801\, United States
CATEGORIES:Sunday Worship Service,Worship Service
ORGANIZER;CN="Unitarian Universalist Fellowship of Centre County":MAILTO:office@uufcc.com
END:VEVENT
BEGIN:VEVENT
DTSTART;TZID=America/New_York:20280102T100000
DTEND;TZID=America/New_York:20280102T110000
DTSTAMP:20260419T223549
CREATED:20250702T160757Z
LAST-MODIFIED:20250702T160757Z
UID:10010172-1830420000-1830423600@uufcc.com
SUMMARY:Sunday Service
DESCRIPTION:More information to come.
URL:https://uufcc.com/event/sunday-service/2028-01-02/
LOCATION:UUFCC – Sanctuary\, 780 Waupelani Drive\, State College\, PA\, 16801\, United States
CATEGORIES:Sunday Worship Service,Worship Service
ORGANIZER;CN="Unitarian Universalist Fellowship of Centre County":MAILTO:office@uufcc.com
END:VEVENT
BEGIN:VEVENT
DTSTART;TZID=America/New_York:20280105T190000
DTEND;TZID=America/New_York:20280105T200000
DTSTAMP:20260419T223549
CREATED:20260114T173447Z
LAST-MODIFIED:20260114T174203Z
UID:10012556-1830711600-1830715200@uufcc.com
SUMMARY:Soulful Sundown
DESCRIPTION:Soulful Sundown contemplative services are held biweekly on Wednesdays from 7:00 PM to 8:00 PM on Zoom. \nEach gathering considers a topic offered by that evening’s presenter\, who also suggests one or two related questions for silent reflection or meditation. After the quiet\, all who wish are invited to share their experiences and insights. Topics vary.
URL:https://uufcc.com/event/soulful-sundown/2028-01-05/
CATEGORIES:Soulful Sundown,Worship Service
ATTACH;FMTTYPE=image/png:https://uufcc.com/wp-content/uploads/2023/09/Soulful-Sundown-square.png
END:VEVENT
BEGIN:VEVENT
DTSTART;TZID=America/New_York:20280109T100000
DTEND;TZID=America/New_York:20280109T110000
DTSTAMP:20260419T223549
CREATED:20250702T160757Z
LAST-MODIFIED:20250702T160757Z
UID:10010173-1831024800-1831028400@uufcc.com
SUMMARY:Sunday Service
DESCRIPTION:More information to come.
URL:https://uufcc.com/event/sunday-service/2028-01-09/
LOCATION:UUFCC – Sanctuary\, 780 Waupelani Drive\, State College\, PA\, 16801\, United States
CATEGORIES:Sunday Worship Service,Worship Service
ORGANIZER;CN="Unitarian Universalist Fellowship of Centre County":MAILTO:office@uufcc.com
END:VEVENT
BEGIN:VEVENT
DTSTART;TZID=America/New_York:20280116T100000
DTEND;TZID=America/New_York:20280116T110000
DTSTAMP:20260419T223549
CREATED:20250702T160757Z
LAST-MODIFIED:20250702T160757Z
UID:10010174-1831629600-1831633200@uufcc.com
SUMMARY:Sunday Service
DESCRIPTION:More information to come.
URL:https://uufcc.com/event/sunday-service/2028-01-16/
LOCATION:UUFCC – Sanctuary\, 780 Waupelani Drive\, State College\, PA\, 16801\, United States
CATEGORIES:Sunday Worship Service,Worship Service
ORGANIZER;CN="Unitarian Universalist Fellowship of Centre County":MAILTO:office@uufcc.com
END:VEVENT
BEGIN:VEVENT
DTSTART;TZID=America/New_York:20280119T190000
DTEND;TZID=America/New_York:20280119T200000
DTSTAMP:20260419T223549
CREATED:20260114T173447Z
LAST-MODIFIED:20260114T174203Z
UID:10012557-1831921200-1831924800@uufcc.com
SUMMARY:Soulful Sundown
DESCRIPTION:Soulful Sundown contemplative services are held biweekly on Wednesdays from 7:00 PM to 8:00 PM on Zoom. \nEach gathering considers a topic offered by that evening’s presenter\, who also suggests one or two related questions for silent reflection or meditation. After the quiet\, all who wish are invited to share their experiences and insights. Topics vary.
URL:https://uufcc.com/event/soulful-sundown/2028-01-19/
CATEGORIES:Soulful Sundown,Worship Service
ATTACH;FMTTYPE=image/png:https://uufcc.com/wp-content/uploads/2023/09/Soulful-Sundown-square.png
END:VEVENT
BEGIN:VEVENT
DTSTART;TZID=America/New_York:20280123T100000
DTEND;TZID=America/New_York:20280123T110000
DTSTAMP:20260419T223549
CREATED:20250702T160757Z
LAST-MODIFIED:20250702T160757Z
UID:10010175-1832234400-1832238000@uufcc.com
SUMMARY:Sunday Service
DESCRIPTION:More information to come.
URL:https://uufcc.com/event/sunday-service/2028-01-23/
LOCATION:UUFCC – Sanctuary\, 780 Waupelani Drive\, State College\, PA\, 16801\, United States
CATEGORIES:Sunday Worship Service,Worship Service
ORGANIZER;CN="Unitarian Universalist Fellowship of Centre County":MAILTO:office@uufcc.com
END:VEVENT
BEGIN:VEVENT
DTSTART;TZID=America/New_York:20280130T100000
DTEND;TZID=America/New_York:20280130T110000
DTSTAMP:20260419T223549
CREATED:20250702T160757Z
LAST-MODIFIED:20250702T160757Z
UID:10010176-1832839200-1832842800@uufcc.com
SUMMARY:Sunday Service
DESCRIPTION:More information to come.
URL:https://uufcc.com/event/sunday-service/2028-01-30/
LOCATION:UUFCC – Sanctuary\, 780 Waupelani Drive\, State College\, PA\, 16801\, United States
CATEGORIES:Sunday Worship Service,Worship Service
ORGANIZER;CN="Unitarian Universalist Fellowship of Centre County":MAILTO:office@uufcc.com
END:VEVENT
BEGIN:VEVENT
DTSTART;TZID=America/New_York:20280202T190000
DTEND;TZID=America/New_York:20280202T200000
DTSTAMP:20260419T223549
CREATED:20260114T173447Z
LAST-MODIFIED:20260114T174203Z
UID:10012558-1833130800-1833134400@uufcc.com
SUMMARY:Soulful Sundown
DESCRIPTION:Soulful Sundown contemplative services are held biweekly on Wednesdays from 7:00 PM to 8:00 PM on Zoom. \nEach gathering considers a topic offered by that evening’s presenter\, who also suggests one or two related questions for silent reflection or meditation. After the quiet\, all who wish are invited to share their experiences and insights. Topics vary.
URL:https://uufcc.com/event/soulful-sundown/2028-02-02/
CATEGORIES:Soulful Sundown,Worship Service
ATTACH;FMTTYPE=image/png:https://uufcc.com/wp-content/uploads/2023/09/Soulful-Sundown-square.png
END:VEVENT
BEGIN:VEVENT
DTSTART;TZID=America/New_York:20280206T100000
DTEND;TZID=America/New_York:20280206T110000
DTSTAMP:20260419T223549
CREATED:20250702T160757Z
LAST-MODIFIED:20250702T160757Z
UID:10010177-1833444000-1833447600@uufcc.com
SUMMARY:Sunday Service
DESCRIPTION:More information to come.
URL:https://uufcc.com/event/sunday-service/2028-02-06/
LOCATION:UUFCC – Sanctuary\, 780 Waupelani Drive\, State College\, PA\, 16801\, United States
CATEGORIES:Sunday Worship Service,Worship Service
ORGANIZER;CN="Unitarian Universalist Fellowship of Centre County":MAILTO:office@uufcc.com
END:VEVENT
BEGIN:VEVENT
DTSTART;TZID=America/New_York:20280213T100000
DTEND;TZID=America/New_York:20280213T110000
DTSTAMP:20260419T223549
CREATED:20250702T160757Z
LAST-MODIFIED:20250702T160757Z
UID:10010178-1834048800-1834052400@uufcc.com
SUMMARY:Sunday Service
DESCRIPTION:More information to come.
URL:https://uufcc.com/event/sunday-service/2028-02-13/
LOCATION:UUFCC – Sanctuary\, 780 Waupelani Drive\, State College\, PA\, 16801\, United States
CATEGORIES:Sunday Worship Service,Worship Service
ORGANIZER;CN="Unitarian Universalist Fellowship of Centre County":MAILTO:office@uufcc.com
END:VEVENT
BEGIN:VEVENT
DTSTART;TZID=America/New_York:20280216T190000
DTEND;TZID=America/New_York:20280216T200000
DTSTAMP:20260419T223549
CREATED:20260114T173447Z
LAST-MODIFIED:20260114T174203Z
UID:10012559-1834340400-1834344000@uufcc.com
SUMMARY:Soulful Sundown
DESCRIPTION:Soulful Sundown contemplative services are held biweekly on Wednesdays from 7:00 PM to 8:00 PM on Zoom. \nEach gathering considers a topic offered by that evening’s presenter\, who also suggests one or two related questions for silent reflection or meditation. After the quiet\, all who wish are invited to share their experiences and insights. Topics vary.
URL:https://uufcc.com/event/soulful-sundown/2028-02-16/
CATEGORIES:Soulful Sundown,Worship Service
ATTACH;FMTTYPE=image/png:https://uufcc.com/wp-content/uploads/2023/09/Soulful-Sundown-square.png
END:VEVENT
BEGIN:VEVENT
DTSTART;TZID=America/New_York:20280220T100000
DTEND;TZID=America/New_York:20280220T110000
DTSTAMP:20260419T223549
CREATED:20250702T160757Z
LAST-MODIFIED:20250702T160757Z
UID:10010179-1834653600-1834657200@uufcc.com
SUMMARY:Sunday Service
DESCRIPTION:More information to come.
URL:https://uufcc.com/event/sunday-service/2028-02-20/
LOCATION:UUFCC – Sanctuary\, 780 Waupelani Drive\, State College\, PA\, 16801\, United States
CATEGORIES:Sunday Worship Service,Worship Service
ORGANIZER;CN="Unitarian Universalist Fellowship of Centre County":MAILTO:office@uufcc.com
END:VEVENT
BEGIN:VEVENT
DTSTART;TZID=America/New_York:20280227T100000
DTEND;TZID=America/New_York:20280227T110000
DTSTAMP:20260419T223549
CREATED:20250702T160757Z
LAST-MODIFIED:20250702T160757Z
UID:10010180-1835258400-1835262000@uufcc.com
SUMMARY:Sunday Service
DESCRIPTION:More information to come.
URL:https://uufcc.com/event/sunday-service/2028-02-27/
LOCATION:UUFCC – Sanctuary\, 780 Waupelani Drive\, State College\, PA\, 16801\, United States
CATEGORIES:Sunday Worship Service,Worship Service
ORGANIZER;CN="Unitarian Universalist Fellowship of Centre County":MAILTO:office@uufcc.com
END:VEVENT
BEGIN:VEVENT
DTSTART;TZID=America/New_York:20280301T190000
DTEND;TZID=America/New_York:20280301T200000
DTSTAMP:20260419T223549
CREATED:20260114T173447Z
LAST-MODIFIED:20260114T174203Z
UID:10012560-1835550000-1835553600@uufcc.com
SUMMARY:Soulful Sundown
DESCRIPTION:Soulful Sundown contemplative services are held biweekly on Wednesdays from 7:00 PM to 8:00 PM on Zoom. \nEach gathering considers a topic offered by that evening’s presenter\, who also suggests one or two related questions for silent reflection or meditation. After the quiet\, all who wish are invited to share their experiences and insights. Topics vary.
URL:https://uufcc.com/event/soulful-sundown/2028-03-01/
CATEGORIES:Soulful Sundown,Worship Service
ATTACH;FMTTYPE=image/png:https://uufcc.com/wp-content/uploads/2023/09/Soulful-Sundown-square.png
END:VEVENT
BEGIN:VEVENT
DTSTART;TZID=America/New_York:20280305T100000
DTEND;TZID=America/New_York:20280305T110000
DTSTAMP:20260419T223549
CREATED:20250702T160757Z
LAST-MODIFIED:20250702T160757Z
UID:10010181-1835863200-1835866800@uufcc.com
SUMMARY:Sunday Service
DESCRIPTION:More information to come.
URL:https://uufcc.com/event/sunday-service/2028-03-05/
LOCATION:UUFCC – Sanctuary\, 780 Waupelani Drive\, State College\, PA\, 16801\, United States
CATEGORIES:Sunday Worship Service,Worship Service
ORGANIZER;CN="Unitarian Universalist Fellowship of Centre County":MAILTO:office@uufcc.com
END:VEVENT
BEGIN:VEVENT
DTSTART;TZID=America/New_York:20280312T100000
DTEND;TZID=America/New_York:20280312T110000
DTSTAMP:20260419T223549
CREATED:20250702T160757Z
LAST-MODIFIED:20250702T160757Z
UID:10010182-1836468000-1836471600@uufcc.com
SUMMARY:Sunday Service
DESCRIPTION:More information to come.
URL:https://uufcc.com/event/sunday-service/2028-03-12/
LOCATION:UUFCC – Sanctuary\, 780 Waupelani Drive\, State College\, PA\, 16801\, United States
CATEGORIES:Sunday Worship Service,Worship Service
ORGANIZER;CN="Unitarian Universalist Fellowship of Centre County":MAILTO:office@uufcc.com
END:VEVENT
BEGIN:VEVENT
DTSTART;TZID=America/New_York:20280315T190000
DTEND;TZID=America/New_York:20280315T200000
DTSTAMP:20260419T223549
CREATED:20260114T173447Z
LAST-MODIFIED:20260114T174203Z
UID:10012561-1836759600-1836763200@uufcc.com
SUMMARY:Soulful Sundown
DESCRIPTION:Soulful Sundown contemplative services are held biweekly on Wednesdays from 7:00 PM to 8:00 PM on Zoom. \nEach gathering considers a topic offered by that evening’s presenter\, who also suggests one or two related questions for silent reflection or meditation. After the quiet\, all who wish are invited to share their experiences and insights. Topics vary.
URL:https://uufcc.com/event/soulful-sundown/2028-03-15/
CATEGORIES:Soulful Sundown,Worship Service
ATTACH;FMTTYPE=image/png:https://uufcc.com/wp-content/uploads/2023/09/Soulful-Sundown-square.png
END:VEVENT
BEGIN:VEVENT
DTSTART;TZID=America/New_York:20280319T100000
DTEND;TZID=America/New_York:20280319T110000
DTSTAMP:20260419T223549
CREATED:20250702T160757Z
LAST-MODIFIED:20250702T160757Z
UID:10010183-1837072800-1837076400@uufcc.com
SUMMARY:Sunday Service
DESCRIPTION:More information to come.
URL:https://uufcc.com/event/sunday-service/2028-03-19/
LOCATION:UUFCC – Sanctuary\, 780 Waupelani Drive\, State College\, PA\, 16801\, United States
CATEGORIES:Sunday Worship Service,Worship Service
ORGANIZER;CN="Unitarian Universalist Fellowship of Centre County":MAILTO:office@uufcc.com
END:VEVENT
END:VCALENDAR