BEGIN:VCALENDAR
VERSION:2.0
PRODID:-//UUFCC - ECPv6.15.17//NONSGML v1.0//EN
CALSCALE:GREGORIAN
METHOD:PUBLISH
X-ORIGINAL-URL:https://uufcc.com
X-WR-CALDESC:Events for UUFCC
REFRESH-INTERVAL;VALUE=DURATION:PT1H
X-Robots-Tag:noindex
X-PUBLISHED-TTL:PT1H
BEGIN:VTIMEZONE
TZID:America/New_York
BEGIN:DAYLIGHT
TZOFFSETFROM:-0500
TZOFFSETTO:-0400
TZNAME:EDT
DTSTART:20270314T070000
END:DAYLIGHT
BEGIN:STANDARD
TZOFFSETFROM:-0400
TZOFFSETTO:-0500
TZNAME:EST
DTSTART:20271107T060000
END:STANDARD
BEGIN:DAYLIGHT
TZOFFSETFROM:-0500
TZOFFSETTO:-0400
TZNAME:EDT
DTSTART:20280312T070000
END:DAYLIGHT
BEGIN:STANDARD
TZOFFSETFROM:-0400
TZOFFSETTO:-0500
TZNAME:EST
DTSTART:20281105T060000
END:STANDARD
BEGIN:DAYLIGHT
TZOFFSETFROM:-0500
TZOFFSETTO:-0400
TZNAME:EDT
DTSTART:20290311T070000
END:DAYLIGHT
BEGIN:STANDARD
TZOFFSETFROM:-0400
TZOFFSETTO:-0500
TZNAME:EST
DTSTART:20291104T060000
END:STANDARD
END:VTIMEZONE
BEGIN:VEVENT
DTSTART;TZID=America/New_York:20280326T100000
DTEND;TZID=America/New_York:20280326T110000
DTSTAMP:20260423T220227
CREATED:20250702T160757Z
LAST-MODIFIED:20250702T160757Z
UID:10010184-1837677600-1837681200@uufcc.com
SUMMARY:Sunday Service
DESCRIPTION:More information to come.
URL:https://uufcc.com/event/sunday-service/2028-03-26/
LOCATION:UUFCC – Sanctuary\, 780 Waupelani Drive\, State College\, PA\, 16801\, United States
CATEGORIES:Sunday Worship Service,Worship Service
ORGANIZER;CN="Unitarian Universalist Fellowship of Centre County":MAILTO:office@uufcc.com
END:VEVENT
BEGIN:VEVENT
DTSTART;TZID=America/New_York:20280329T190000
DTEND;TZID=America/New_York:20280329T200000
DTSTAMP:20260423T220227
CREATED:20260114T173447Z
LAST-MODIFIED:20260421T145622Z
UID:10012562-1837969200-1837972800@uufcc.com
SUMMARY:Soulful Sundown
DESCRIPTION:Soulful Sundown contemplative services are held biweekly on Wednesdays from 7:00 PM to 8:00 PM on Zoom. \nEach gathering considers a topic offered by that evening’s presenter\, who also suggests one or two related questions for silent reflection or meditation. After the quiet\, all who wish are invited to share their experiences and insights. Topics vary.
URL:https://uufcc.com/event/soulful-sundown/2028-03-29/
CATEGORIES:Soulful Sundown
ATTACH;FMTTYPE=image/png:https://uufcc.com/wp-content/uploads/2023/09/Soulful-Sundown-square.png
END:VEVENT
BEGIN:VEVENT
DTSTART;TZID=America/New_York:20280402T100000
DTEND;TZID=America/New_York:20280402T110000
DTSTAMP:20260423T220227
CREATED:20250702T160757Z
LAST-MODIFIED:20250702T160757Z
UID:10010185-1838282400-1838286000@uufcc.com
SUMMARY:Sunday Service
DESCRIPTION:More information to come.
URL:https://uufcc.com/event/sunday-service/2028-04-02/
LOCATION:UUFCC – Sanctuary\, 780 Waupelani Drive\, State College\, PA\, 16801\, United States
CATEGORIES:Sunday Worship Service,Worship Service
ORGANIZER;CN="Unitarian Universalist Fellowship of Centre County":MAILTO:office@uufcc.com
END:VEVENT
BEGIN:VEVENT
DTSTART;TZID=America/New_York:20280409T100000
DTEND;TZID=America/New_York:20280409T110000
DTSTAMP:20260423T220227
CREATED:20250702T160757Z
LAST-MODIFIED:20250702T160757Z
UID:10010186-1838887200-1838890800@uufcc.com
SUMMARY:Sunday Service
DESCRIPTION:More information to come.
URL:https://uufcc.com/event/sunday-service/2028-04-09/
LOCATION:UUFCC – Sanctuary\, 780 Waupelani Drive\, State College\, PA\, 16801\, United States
CATEGORIES:Sunday Worship Service,Worship Service
ORGANIZER;CN="Unitarian Universalist Fellowship of Centre County":MAILTO:office@uufcc.com
END:VEVENT
BEGIN:VEVENT
DTSTART;TZID=America/New_York:20280412T190000
DTEND;TZID=America/New_York:20280412T200000
DTSTAMP:20260423T220227
CREATED:20260114T173447Z
LAST-MODIFIED:20260421T145622Z
UID:10012563-1839178800-1839182400@uufcc.com
SUMMARY:Soulful Sundown
DESCRIPTION:Soulful Sundown contemplative services are held biweekly on Wednesdays from 7:00 PM to 8:00 PM on Zoom. \nEach gathering considers a topic offered by that evening’s presenter\, who also suggests one or two related questions for silent reflection or meditation. After the quiet\, all who wish are invited to share their experiences and insights. Topics vary.
URL:https://uufcc.com/event/soulful-sundown/2028-04-12/
CATEGORIES:Soulful Sundown
ATTACH;FMTTYPE=image/png:https://uufcc.com/wp-content/uploads/2023/09/Soulful-Sundown-square.png
END:VEVENT
BEGIN:VEVENT
DTSTART;TZID=America/New_York:20280416T100000
DTEND;TZID=America/New_York:20280416T110000
DTSTAMP:20260423T220227
CREATED:20250702T160757Z
LAST-MODIFIED:20250702T160757Z
UID:10010187-1839492000-1839495600@uufcc.com
SUMMARY:Sunday Service
DESCRIPTION:More information to come.
URL:https://uufcc.com/event/sunday-service/2028-04-16/
LOCATION:UUFCC – Sanctuary\, 780 Waupelani Drive\, State College\, PA\, 16801\, United States
CATEGORIES:Sunday Worship Service,Worship Service
ORGANIZER;CN="Unitarian Universalist Fellowship of Centre County":MAILTO:office@uufcc.com
END:VEVENT
BEGIN:VEVENT
DTSTART;TZID=America/New_York:20280423T100000
DTEND;TZID=America/New_York:20280423T110000
DTSTAMP:20260423T220227
CREATED:20250702T160757Z
LAST-MODIFIED:20250702T160757Z
UID:10010188-1840096800-1840100400@uufcc.com
SUMMARY:Sunday Service
DESCRIPTION:More information to come.
URL:https://uufcc.com/event/sunday-service/2028-04-23/
LOCATION:UUFCC – Sanctuary\, 780 Waupelani Drive\, State College\, PA\, 16801\, United States
CATEGORIES:Sunday Worship Service,Worship Service
ORGANIZER;CN="Unitarian Universalist Fellowship of Centre County":MAILTO:office@uufcc.com
END:VEVENT
BEGIN:VEVENT
DTSTART;TZID=America/New_York:20280426T190000
DTEND;TZID=America/New_York:20280426T200000
DTSTAMP:20260423T220227
CREATED:20260114T173447Z
LAST-MODIFIED:20260421T145622Z
UID:10012564-1840388400-1840392000@uufcc.com
SUMMARY:Soulful Sundown
DESCRIPTION:Soulful Sundown contemplative services are held biweekly on Wednesdays from 7:00 PM to 8:00 PM on Zoom. \nEach gathering considers a topic offered by that evening’s presenter\, who also suggests one or two related questions for silent reflection or meditation. After the quiet\, all who wish are invited to share their experiences and insights. Topics vary.
URL:https://uufcc.com/event/soulful-sundown/2028-04-26/
CATEGORIES:Soulful Sundown
ATTACH;FMTTYPE=image/png:https://uufcc.com/wp-content/uploads/2023/09/Soulful-Sundown-square.png
END:VEVENT
BEGIN:VEVENT
DTSTART;TZID=America/New_York:20280430T100000
DTEND;TZID=America/New_York:20280430T110000
DTSTAMP:20260423T220227
CREATED:20250702T160757Z
LAST-MODIFIED:20250702T160757Z
UID:10010189-1840701600-1840705200@uufcc.com
SUMMARY:Sunday Service
DESCRIPTION:More information to come.
URL:https://uufcc.com/event/sunday-service/2028-04-30/
LOCATION:UUFCC – Sanctuary\, 780 Waupelani Drive\, State College\, PA\, 16801\, United States
CATEGORIES:Sunday Worship Service,Worship Service
ORGANIZER;CN="Unitarian Universalist Fellowship of Centre County":MAILTO:office@uufcc.com
END:VEVENT
BEGIN:VEVENT
DTSTART;TZID=America/New_York:20280507T100000
DTEND;TZID=America/New_York:20280507T110000
DTSTAMP:20260423T220227
CREATED:20250702T160757Z
LAST-MODIFIED:20250702T160757Z
UID:10010190-1841306400-1841310000@uufcc.com
SUMMARY:Sunday Service
DESCRIPTION:More information to come.
URL:https://uufcc.com/event/sunday-service/2028-05-07/
LOCATION:UUFCC – Sanctuary\, 780 Waupelani Drive\, State College\, PA\, 16801\, United States
CATEGORIES:Sunday Worship Service,Worship Service
ORGANIZER;CN="Unitarian Universalist Fellowship of Centre County":MAILTO:office@uufcc.com
END:VEVENT
BEGIN:VEVENT
DTSTART;TZID=America/New_York:20280510T190000
DTEND;TZID=America/New_York:20280510T200000
DTSTAMP:20260423T220227
CREATED:20260114T173447Z
LAST-MODIFIED:20260421T145622Z
UID:10012565-1841598000-1841601600@uufcc.com
SUMMARY:Soulful Sundown
DESCRIPTION:Soulful Sundown contemplative services are held biweekly on Wednesdays from 7:00 PM to 8:00 PM on Zoom. \nEach gathering considers a topic offered by that evening’s presenter\, who also suggests one or two related questions for silent reflection or meditation. After the quiet\, all who wish are invited to share their experiences and insights. Topics vary.
URL:https://uufcc.com/event/soulful-sundown/2028-05-10/
CATEGORIES:Soulful Sundown
ATTACH;FMTTYPE=image/png:https://uufcc.com/wp-content/uploads/2023/09/Soulful-Sundown-square.png
END:VEVENT
BEGIN:VEVENT
DTSTART;TZID=America/New_York:20280514T100000
DTEND;TZID=America/New_York:20280514T110000
DTSTAMP:20260423T220227
CREATED:20250702T160757Z
LAST-MODIFIED:20250702T160757Z
UID:10010191-1841911200-1841914800@uufcc.com
SUMMARY:Sunday Service
DESCRIPTION:More information to come.
URL:https://uufcc.com/event/sunday-service/2028-05-14/
LOCATION:UUFCC – Sanctuary\, 780 Waupelani Drive\, State College\, PA\, 16801\, United States
CATEGORIES:Sunday Worship Service,Worship Service
ORGANIZER;CN="Unitarian Universalist Fellowship of Centre County":MAILTO:office@uufcc.com
END:VEVENT
BEGIN:VEVENT
DTSTART;TZID=America/New_York:20280521T100000
DTEND;TZID=America/New_York:20280521T110000
DTSTAMP:20260423T220227
CREATED:20250702T160757Z
LAST-MODIFIED:20250702T160757Z
UID:10010192-1842516000-1842519600@uufcc.com
SUMMARY:Sunday Service
DESCRIPTION:More information to come.
URL:https://uufcc.com/event/sunday-service/2028-05-21/
LOCATION:UUFCC – Sanctuary\, 780 Waupelani Drive\, State College\, PA\, 16801\, United States
CATEGORIES:Sunday Worship Service,Worship Service
ORGANIZER;CN="Unitarian Universalist Fellowship of Centre County":MAILTO:office@uufcc.com
END:VEVENT
BEGIN:VEVENT
DTSTART;TZID=America/New_York:20280524T190000
DTEND;TZID=America/New_York:20280524T200000
DTSTAMP:20260423T220227
CREATED:20260114T173447Z
LAST-MODIFIED:20260421T145622Z
UID:10012566-1842807600-1842811200@uufcc.com
SUMMARY:Soulful Sundown
DESCRIPTION:Soulful Sundown contemplative services are held biweekly on Wednesdays from 7:00 PM to 8:00 PM on Zoom. \nEach gathering considers a topic offered by that evening’s presenter\, who also suggests one or two related questions for silent reflection or meditation. After the quiet\, all who wish are invited to share their experiences and insights. Topics vary.
URL:https://uufcc.com/event/soulful-sundown/2028-05-24/
CATEGORIES:Soulful Sundown
ATTACH;FMTTYPE=image/png:https://uufcc.com/wp-content/uploads/2023/09/Soulful-Sundown-square.png
END:VEVENT
BEGIN:VEVENT
DTSTART;TZID=America/New_York:20280528T100000
DTEND;TZID=America/New_York:20280528T110000
DTSTAMP:20260423T220227
CREATED:20250702T160757Z
LAST-MODIFIED:20250702T160757Z
UID:10010193-1843120800-1843124400@uufcc.com
SUMMARY:Sunday Service
DESCRIPTION:More information to come.
URL:https://uufcc.com/event/sunday-service/2028-05-28/
LOCATION:UUFCC – Sanctuary\, 780 Waupelani Drive\, State College\, PA\, 16801\, United States
CATEGORIES:Sunday Worship Service,Worship Service
ORGANIZER;CN="Unitarian Universalist Fellowship of Centre County":MAILTO:office@uufcc.com
END:VEVENT
BEGIN:VEVENT
DTSTART;TZID=America/New_York:20280604T100000
DTEND;TZID=America/New_York:20280604T110000
DTSTAMP:20260423T220227
CREATED:20250702T160757Z
LAST-MODIFIED:20250702T160757Z
UID:10010194-1843725600-1843729200@uufcc.com
SUMMARY:Sunday Service
DESCRIPTION:More information to come.
URL:https://uufcc.com/event/sunday-service/2028-06-04/
LOCATION:UUFCC – Sanctuary\, 780 Waupelani Drive\, State College\, PA\, 16801\, United States
CATEGORIES:Sunday Worship Service,Worship Service
ORGANIZER;CN="Unitarian Universalist Fellowship of Centre County":MAILTO:office@uufcc.com
END:VEVENT
BEGIN:VEVENT
DTSTART;TZID=America/New_York:20280607T190000
DTEND;TZID=America/New_York:20280607T200000
DTSTAMP:20260423T220227
CREATED:20260114T173447Z
LAST-MODIFIED:20260421T145622Z
UID:10012567-1844017200-1844020800@uufcc.com
SUMMARY:Soulful Sundown
DESCRIPTION:Soulful Sundown contemplative services are held biweekly on Wednesdays from 7:00 PM to 8:00 PM on Zoom. \nEach gathering considers a topic offered by that evening’s presenter\, who also suggests one or two related questions for silent reflection or meditation. After the quiet\, all who wish are invited to share their experiences and insights. Topics vary.
URL:https://uufcc.com/event/soulful-sundown/2028-06-07/
CATEGORIES:Soulful Sundown
ATTACH;FMTTYPE=image/png:https://uufcc.com/wp-content/uploads/2023/09/Soulful-Sundown-square.png
END:VEVENT
BEGIN:VEVENT
DTSTART;TZID=America/New_York:20280611T100000
DTEND;TZID=America/New_York:20280611T110000
DTSTAMP:20260423T220227
CREATED:20250702T160757Z
LAST-MODIFIED:20250702T160757Z
UID:10010195-1844330400-1844334000@uufcc.com
SUMMARY:Sunday Service
DESCRIPTION:More information to come.
URL:https://uufcc.com/event/sunday-service/2028-06-11/
LOCATION:UUFCC – Sanctuary\, 780 Waupelani Drive\, State College\, PA\, 16801\, United States
CATEGORIES:Sunday Worship Service,Worship Service
ORGANIZER;CN="Unitarian Universalist Fellowship of Centre County":MAILTO:office@uufcc.com
END:VEVENT
BEGIN:VEVENT
DTSTART;TZID=America/New_York:20280618T100000
DTEND;TZID=America/New_York:20280618T110000
DTSTAMP:20260423T220227
CREATED:20250702T160757Z
LAST-MODIFIED:20250702T160757Z
UID:10010196-1844935200-1844938800@uufcc.com
SUMMARY:Sunday Service
DESCRIPTION:More information to come.
URL:https://uufcc.com/event/sunday-service/2028-06-18/
LOCATION:UUFCC – Sanctuary\, 780 Waupelani Drive\, State College\, PA\, 16801\, United States
CATEGORIES:Sunday Worship Service,Worship Service
ORGANIZER;CN="Unitarian Universalist Fellowship of Centre County":MAILTO:office@uufcc.com
END:VEVENT
BEGIN:VEVENT
DTSTART;TZID=America/New_York:20280621T190000
DTEND;TZID=America/New_York:20280621T200000
DTSTAMP:20260423T220227
CREATED:20260114T173447Z
LAST-MODIFIED:20260421T145622Z
UID:10012568-1845226800-1845230400@uufcc.com
SUMMARY:Soulful Sundown
DESCRIPTION:Soulful Sundown contemplative services are held biweekly on Wednesdays from 7:00 PM to 8:00 PM on Zoom. \nEach gathering considers a topic offered by that evening’s presenter\, who also suggests one or two related questions for silent reflection or meditation. After the quiet\, all who wish are invited to share their experiences and insights. Topics vary.
URL:https://uufcc.com/event/soulful-sundown/2028-06-21/
CATEGORIES:Soulful Sundown
ATTACH;FMTTYPE=image/png:https://uufcc.com/wp-content/uploads/2023/09/Soulful-Sundown-square.png
END:VEVENT
BEGIN:VEVENT
DTSTART;TZID=America/New_York:20280625T100000
DTEND;TZID=America/New_York:20280625T110000
DTSTAMP:20260423T220227
CREATED:20250702T160757Z
LAST-MODIFIED:20250702T160757Z
UID:10010197-1845540000-1845543600@uufcc.com
SUMMARY:Sunday Service
DESCRIPTION:More information to come.
URL:https://uufcc.com/event/sunday-service/2028-06-25/
LOCATION:UUFCC – Sanctuary\, 780 Waupelani Drive\, State College\, PA\, 16801\, United States
CATEGORIES:Sunday Worship Service,Worship Service
ORGANIZER;CN="Unitarian Universalist Fellowship of Centre County":MAILTO:office@uufcc.com
END:VEVENT
BEGIN:VEVENT
DTSTART;TZID=America/New_York:20280702T100000
DTEND;TZID=America/New_York:20280702T110000
DTSTAMP:20260423T220227
CREATED:20250702T160757Z
LAST-MODIFIED:20250702T160757Z
UID:10010198-1846144800-1846148400@uufcc.com
SUMMARY:Sunday Service
DESCRIPTION:More information to come.
URL:https://uufcc.com/event/sunday-service/2028-07-02/
LOCATION:UUFCC – Sanctuary\, 780 Waupelani Drive\, State College\, PA\, 16801\, United States
CATEGORIES:Sunday Worship Service,Worship Service
ORGANIZER;CN="Unitarian Universalist Fellowship of Centre County":MAILTO:office@uufcc.com
END:VEVENT
BEGIN:VEVENT
DTSTART;TZID=America/New_York:20280705T190000
DTEND;TZID=America/New_York:20280705T200000
DTSTAMP:20260423T220227
CREATED:20260114T173447Z
LAST-MODIFIED:20260421T145622Z
UID:10012569-1846436400-1846440000@uufcc.com
SUMMARY:Soulful Sundown
DESCRIPTION:Soulful Sundown contemplative services are held biweekly on Wednesdays from 7:00 PM to 8:00 PM on Zoom. \nEach gathering considers a topic offered by that evening’s presenter\, who also suggests one or two related questions for silent reflection or meditation. After the quiet\, all who wish are invited to share their experiences and insights. Topics vary.
URL:https://uufcc.com/event/soulful-sundown/2028-07-05/
CATEGORIES:Soulful Sundown
ATTACH;FMTTYPE=image/png:https://uufcc.com/wp-content/uploads/2023/09/Soulful-Sundown-square.png
END:VEVENT
BEGIN:VEVENT
DTSTART;TZID=America/New_York:20280709T100000
DTEND;TZID=America/New_York:20280709T110000
DTSTAMP:20260423T220227
CREATED:20250702T160757Z
LAST-MODIFIED:20250702T160757Z
UID:10010199-1846749600-1846753200@uufcc.com
SUMMARY:Sunday Service
DESCRIPTION:More information to come.
URL:https://uufcc.com/event/sunday-service/2028-07-09/
LOCATION:UUFCC – Sanctuary\, 780 Waupelani Drive\, State College\, PA\, 16801\, United States
CATEGORIES:Sunday Worship Service,Worship Service
ORGANIZER;CN="Unitarian Universalist Fellowship of Centre County":MAILTO:office@uufcc.com
END:VEVENT
BEGIN:VEVENT
DTSTART;TZID=America/New_York:20280716T100000
DTEND;TZID=America/New_York:20280716T110000
DTSTAMP:20260423T220227
CREATED:20250702T160757Z
LAST-MODIFIED:20250702T160757Z
UID:10010200-1847354400-1847358000@uufcc.com
SUMMARY:Sunday Service
DESCRIPTION:More information to come.
URL:https://uufcc.com/event/sunday-service/2028-07-16/
LOCATION:UUFCC – Sanctuary\, 780 Waupelani Drive\, State College\, PA\, 16801\, United States
CATEGORIES:Sunday Worship Service,Worship Service
ORGANIZER;CN="Unitarian Universalist Fellowship of Centre County":MAILTO:office@uufcc.com
END:VEVENT
BEGIN:VEVENT
DTSTART;TZID=America/New_York:20280719T190000
DTEND;TZID=America/New_York:20280719T200000
DTSTAMP:20260423T220227
CREATED:20260114T173447Z
LAST-MODIFIED:20260421T145622Z
UID:10012570-1847646000-1847649600@uufcc.com
SUMMARY:Soulful Sundown
DESCRIPTION:Soulful Sundown contemplative services are held biweekly on Wednesdays from 7:00 PM to 8:00 PM on Zoom. \nEach gathering considers a topic offered by that evening’s presenter\, who also suggests one or two related questions for silent reflection or meditation. After the quiet\, all who wish are invited to share their experiences and insights. Topics vary.
URL:https://uufcc.com/event/soulful-sundown/2028-07-19/
CATEGORIES:Soulful Sundown
ATTACH;FMTTYPE=image/png:https://uufcc.com/wp-content/uploads/2023/09/Soulful-Sundown-square.png
END:VEVENT
BEGIN:VEVENT
DTSTART;TZID=America/New_York:20280723T100000
DTEND;TZID=America/New_York:20280723T110000
DTSTAMP:20260423T220227
CREATED:20250702T160757Z
LAST-MODIFIED:20250702T160757Z
UID:10010201-1847959200-1847962800@uufcc.com
SUMMARY:Sunday Service
DESCRIPTION:More information to come.
URL:https://uufcc.com/event/sunday-service/2028-07-23/
LOCATION:UUFCC – Sanctuary\, 780 Waupelani Drive\, State College\, PA\, 16801\, United States
CATEGORIES:Sunday Worship Service,Worship Service
ORGANIZER;CN="Unitarian Universalist Fellowship of Centre County":MAILTO:office@uufcc.com
END:VEVENT
BEGIN:VEVENT
DTSTART;TZID=America/New_York:20280730T100000
DTEND;TZID=America/New_York:20280730T110000
DTSTAMP:20260423T220227
CREATED:20250702T160757Z
LAST-MODIFIED:20250702T160757Z
UID:10010202-1848564000-1848567600@uufcc.com
SUMMARY:Sunday Service
DESCRIPTION:More information to come.
URL:https://uufcc.com/event/sunday-service/2028-07-30/
LOCATION:UUFCC – Sanctuary\, 780 Waupelani Drive\, State College\, PA\, 16801\, United States
CATEGORIES:Sunday Worship Service,Worship Service
ORGANIZER;CN="Unitarian Universalist Fellowship of Centre County":MAILTO:office@uufcc.com
END:VEVENT
BEGIN:VEVENT
DTSTART;TZID=America/New_York:20280802T190000
DTEND;TZID=America/New_York:20280802T200000
DTSTAMP:20260423T220227
CREATED:20260114T173447Z
LAST-MODIFIED:20260421T145622Z
UID:10012571-1848855600-1848859200@uufcc.com
SUMMARY:Soulful Sundown
DESCRIPTION:Soulful Sundown contemplative services are held biweekly on Wednesdays from 7:00 PM to 8:00 PM on Zoom. \nEach gathering considers a topic offered by that evening’s presenter\, who also suggests one or two related questions for silent reflection or meditation. After the quiet\, all who wish are invited to share their experiences and insights. Topics vary.
URL:https://uufcc.com/event/soulful-sundown/2028-08-02/
CATEGORIES:Soulful Sundown
ATTACH;FMTTYPE=image/png:https://uufcc.com/wp-content/uploads/2023/09/Soulful-Sundown-square.png
END:VEVENT
BEGIN:VEVENT
DTSTART;TZID=America/New_York:20280806T100000
DTEND;TZID=America/New_York:20280806T110000
DTSTAMP:20260423T220227
CREATED:20250702T160757Z
LAST-MODIFIED:20250702T160757Z
UID:10010203-1849168800-1849172400@uufcc.com
SUMMARY:Sunday Service
DESCRIPTION:More information to come.
URL:https://uufcc.com/event/sunday-service/2028-08-06/
LOCATION:UUFCC – Sanctuary\, 780 Waupelani Drive\, State College\, PA\, 16801\, United States
CATEGORIES:Sunday Worship Service,Worship Service
ORGANIZER;CN="Unitarian Universalist Fellowship of Centre County":MAILTO:office@uufcc.com
END:VEVENT
END:VCALENDAR