BEGIN:VCALENDAR
VERSION:2.0
PRODID:-//UUFCC - ECPv6.15.17//NONSGML v1.0//EN
CALSCALE:GREGORIAN
METHOD:PUBLISH
X-WR-CALNAME:UUFCC
X-ORIGINAL-URL:https://uufcc.com
X-WR-CALDESC:Events for UUFCC
REFRESH-INTERVAL;VALUE=DURATION:PT1H
X-Robots-Tag:noindex
X-PUBLISHED-TTL:PT1H
BEGIN:VTIMEZONE
TZID:America/New_York
BEGIN:DAYLIGHT
TZOFFSETFROM:-0500
TZOFFSETTO:-0400
TZNAME:EDT
DTSTART:20270314T070000
END:DAYLIGHT
BEGIN:STANDARD
TZOFFSETFROM:-0400
TZOFFSETTO:-0500
TZNAME:EST
DTSTART:20271107T060000
END:STANDARD
BEGIN:DAYLIGHT
TZOFFSETFROM:-0500
TZOFFSETTO:-0400
TZNAME:EDT
DTSTART:20280312T070000
END:DAYLIGHT
BEGIN:STANDARD
TZOFFSETFROM:-0400
TZOFFSETTO:-0500
TZNAME:EST
DTSTART:20281105T060000
END:STANDARD
BEGIN:DAYLIGHT
TZOFFSETFROM:-0500
TZOFFSETTO:-0400
TZNAME:EDT
DTSTART:20290311T070000
END:DAYLIGHT
BEGIN:STANDARD
TZOFFSETFROM:-0400
TZOFFSETTO:-0500
TZNAME:EST
DTSTART:20291104T060000
END:STANDARD
BEGIN:DAYLIGHT
TZOFFSETFROM:-0500
TZOFFSETTO:-0400
TZNAME:EDT
DTSTART:20300310T070000
END:DAYLIGHT
BEGIN:STANDARD
TZOFFSETFROM:-0400
TZOFFSETTO:-0500
TZNAME:EST
DTSTART:20301103T060000
END:STANDARD
END:VTIMEZONE
BEGIN:VEVENT
DTSTART;TZID=America/New_York:20281112T100000
DTEND;TZID=America/New_York:20281112T110000
DTSTAMP:20260425T161221
CREATED:20250702T160757Z
LAST-MODIFIED:20250702T160757Z
UID:10010217-1857636000-1857639600@uufcc.com
SUMMARY:Sunday Service
DESCRIPTION:More information to come.
URL:https://uufcc.com/event/sunday-service/2028-11-12/
LOCATION:UUFCC – Sanctuary\, 780 Waupelani Drive\, State College\, PA\, 16801\, United States
CATEGORIES:Sunday Worship Service,Worship Service
ORGANIZER;CN="Unitarian Universalist Fellowship of Centre County":MAILTO:office@uufcc.com
END:VEVENT
BEGIN:VEVENT
DTSTART;TZID=America/New_York:20281119T100000
DTEND;TZID=America/New_York:20281119T110000
DTSTAMP:20260425T161221
CREATED:20250702T160757Z
LAST-MODIFIED:20250702T160757Z
UID:10010218-1858240800-1858244400@uufcc.com
SUMMARY:Sunday Service
DESCRIPTION:More information to come.
URL:https://uufcc.com/event/sunday-service/2028-11-19/
LOCATION:UUFCC – Sanctuary\, 780 Waupelani Drive\, State College\, PA\, 16801\, United States
CATEGORIES:Sunday Worship Service,Worship Service
ORGANIZER;CN="Unitarian Universalist Fellowship of Centre County":MAILTO:office@uufcc.com
END:VEVENT
BEGIN:VEVENT
DTSTART;TZID=America/New_York:20281122T190000
DTEND;TZID=America/New_York:20281122T200000
DTSTAMP:20260425T161221
CREATED:20260114T173447Z
LAST-MODIFIED:20260421T145622Z
UID:10012579-1858532400-1858536000@uufcc.com
SUMMARY:Soulful Sundown
DESCRIPTION:Soulful Sundown contemplative services are held biweekly on Wednesdays from 7:00 PM to 8:00 PM on Zoom. \nEach gathering considers a topic offered by that evening’s presenter\, who also suggests one or two related questions for silent reflection or meditation. After the quiet\, all who wish are invited to share their experiences and insights. Topics vary.
URL:https://uufcc.com/event/soulful-sundown/2028-11-22/
LOCATION:PA
CATEGORIES:Soulful Sundown
ATTACH;FMTTYPE=image/png:https://uufcc.com/wp-content/uploads/2023/09/Soulful-Sundown-square.png
END:VEVENT
BEGIN:VEVENT
DTSTART;TZID=America/New_York:20281126T100000
DTEND;TZID=America/New_York:20281126T110000
DTSTAMP:20260425T161221
CREATED:20250702T160757Z
LAST-MODIFIED:20250702T160757Z
UID:10010219-1858845600-1858849200@uufcc.com
SUMMARY:Sunday Service
DESCRIPTION:More information to come.
URL:https://uufcc.com/event/sunday-service/2028-11-26/
LOCATION:UUFCC – Sanctuary\, 780 Waupelani Drive\, State College\, PA\, 16801\, United States
CATEGORIES:Sunday Worship Service,Worship Service
ORGANIZER;CN="Unitarian Universalist Fellowship of Centre County":MAILTO:office@uufcc.com
END:VEVENT
BEGIN:VEVENT
DTSTART;TZID=America/New_York:20281203T100000
DTEND;TZID=America/New_York:20281203T110000
DTSTAMP:20260425T161221
CREATED:20250702T160757Z
LAST-MODIFIED:20250702T160757Z
UID:10010220-1859450400-1859454000@uufcc.com
SUMMARY:Sunday Service
DESCRIPTION:More information to come.
URL:https://uufcc.com/event/sunday-service/2028-12-03/
LOCATION:UUFCC – Sanctuary\, 780 Waupelani Drive\, State College\, PA\, 16801\, United States
CATEGORIES:Sunday Worship Service,Worship Service
ORGANIZER;CN="Unitarian Universalist Fellowship of Centre County":MAILTO:office@uufcc.com
END:VEVENT
BEGIN:VEVENT
DTSTART;TZID=America/New_York:20281206T190000
DTEND;TZID=America/New_York:20281206T200000
DTSTAMP:20260425T161221
CREATED:20260114T173447Z
LAST-MODIFIED:20260421T145622Z
UID:10012580-1859742000-1859745600@uufcc.com
SUMMARY:Soulful Sundown
DESCRIPTION:Soulful Sundown contemplative services are held biweekly on Wednesdays from 7:00 PM to 8:00 PM on Zoom. \nEach gathering considers a topic offered by that evening’s presenter\, who also suggests one or two related questions for silent reflection or meditation. After the quiet\, all who wish are invited to share their experiences and insights. Topics vary.
URL:https://uufcc.com/event/soulful-sundown/2028-12-06/
LOCATION:PA
CATEGORIES:Soulful Sundown
ATTACH;FMTTYPE=image/png:https://uufcc.com/wp-content/uploads/2023/09/Soulful-Sundown-square.png
END:VEVENT
BEGIN:VEVENT
DTSTART;TZID=America/New_York:20281210T100000
DTEND;TZID=America/New_York:20281210T110000
DTSTAMP:20260425T161221
CREATED:20250702T160757Z
LAST-MODIFIED:20250702T160757Z
UID:10010221-1860055200-1860058800@uufcc.com
SUMMARY:Sunday Service
DESCRIPTION:More information to come.
URL:https://uufcc.com/event/sunday-service/2028-12-10/
LOCATION:UUFCC – Sanctuary\, 780 Waupelani Drive\, State College\, PA\, 16801\, United States
CATEGORIES:Sunday Worship Service,Worship Service
ORGANIZER;CN="Unitarian Universalist Fellowship of Centre County":MAILTO:office@uufcc.com
END:VEVENT
BEGIN:VEVENT
DTSTART;TZID=America/New_York:20281217T100000
DTEND;TZID=America/New_York:20281217T110000
DTSTAMP:20260425T161221
CREATED:20250702T160757Z
LAST-MODIFIED:20250702T160757Z
UID:10010222-1860660000-1860663600@uufcc.com
SUMMARY:Sunday Service
DESCRIPTION:More information to come.
URL:https://uufcc.com/event/sunday-service/2028-12-17/
LOCATION:UUFCC – Sanctuary\, 780 Waupelani Drive\, State College\, PA\, 16801\, United States
CATEGORIES:Sunday Worship Service,Worship Service
ORGANIZER;CN="Unitarian Universalist Fellowship of Centre County":MAILTO:office@uufcc.com
END:VEVENT
BEGIN:VEVENT
DTSTART;TZID=America/New_York:20281220T190000
DTEND;TZID=America/New_York:20281220T200000
DTSTAMP:20260425T161221
CREATED:20260114T173447Z
LAST-MODIFIED:20260421T145622Z
UID:10012581-1860951600-1860955200@uufcc.com
SUMMARY:Soulful Sundown
DESCRIPTION:Soulful Sundown contemplative services are held biweekly on Wednesdays from 7:00 PM to 8:00 PM on Zoom. \nEach gathering considers a topic offered by that evening’s presenter\, who also suggests one or two related questions for silent reflection or meditation. After the quiet\, all who wish are invited to share their experiences and insights. Topics vary.
URL:https://uufcc.com/event/soulful-sundown/2028-12-20/
LOCATION:PA
CATEGORIES:Soulful Sundown
ATTACH;FMTTYPE=image/png:https://uufcc.com/wp-content/uploads/2023/09/Soulful-Sundown-square.png
END:VEVENT
BEGIN:VEVENT
DTSTART;TZID=America/New_York:20281224T100000
DTEND;TZID=America/New_York:20281224T110000
DTSTAMP:20260425T161221
CREATED:20250702T160757Z
LAST-MODIFIED:20250702T160757Z
UID:10010223-1861264800-1861268400@uufcc.com
SUMMARY:Sunday Service
DESCRIPTION:More information to come.
URL:https://uufcc.com/event/sunday-service/2028-12-24/
LOCATION:UUFCC – Sanctuary\, 780 Waupelani Drive\, State College\, PA\, 16801\, United States
CATEGORIES:Sunday Worship Service,Worship Service
ORGANIZER;CN="Unitarian Universalist Fellowship of Centre County":MAILTO:office@uufcc.com
END:VEVENT
BEGIN:VEVENT
DTSTART;TZID=America/New_York:20281231T100000
DTEND;TZID=America/New_York:20281231T110000
DTSTAMP:20260425T161221
CREATED:20250702T160757Z
LAST-MODIFIED:20250702T160757Z
UID:10010224-1861869600-1861873200@uufcc.com
SUMMARY:Sunday Service
DESCRIPTION:More information to come.
URL:https://uufcc.com/event/sunday-service/2028-12-31/
LOCATION:UUFCC – Sanctuary\, 780 Waupelani Drive\, State College\, PA\, 16801\, United States
CATEGORIES:Sunday Worship Service,Worship Service
ORGANIZER;CN="Unitarian Universalist Fellowship of Centre County":MAILTO:office@uufcc.com
END:VEVENT
BEGIN:VEVENT
DTSTART;TZID=America/New_York:20290103T190000
DTEND;TZID=America/New_York:20290103T200000
DTSTAMP:20260425T161221
CREATED:20260114T173447Z
LAST-MODIFIED:20260421T145622Z
UID:10012582-1862161200-1862164800@uufcc.com
SUMMARY:Soulful Sundown
DESCRIPTION:Soulful Sundown contemplative services are held biweekly on Wednesdays from 7:00 PM to 8:00 PM on Zoom. \nEach gathering considers a topic offered by that evening’s presenter\, who also suggests one or two related questions for silent reflection or meditation. After the quiet\, all who wish are invited to share their experiences and insights. Topics vary.
URL:https://uufcc.com/event/soulful-sundown/2029-01-03/
LOCATION:PA
CATEGORIES:Soulful Sundown
ATTACH;FMTTYPE=image/png:https://uufcc.com/wp-content/uploads/2023/09/Soulful-Sundown-square.png
END:VEVENT
BEGIN:VEVENT
DTSTART;TZID=America/New_York:20290107T100000
DTEND;TZID=America/New_York:20290107T110000
DTSTAMP:20260425T161221
CREATED:20250702T160757Z
LAST-MODIFIED:20250702T160757Z
UID:10010225-1862474400-1862478000@uufcc.com
SUMMARY:Sunday Service
DESCRIPTION:More information to come.
URL:https://uufcc.com/event/sunday-service/2029-01-07/
LOCATION:UUFCC – Sanctuary\, 780 Waupelani Drive\, State College\, PA\, 16801\, United States
CATEGORIES:Sunday Worship Service,Worship Service
ORGANIZER;CN="Unitarian Universalist Fellowship of Centre County":MAILTO:office@uufcc.com
END:VEVENT
BEGIN:VEVENT
DTSTART;TZID=America/New_York:20290114T100000
DTEND;TZID=America/New_York:20290114T110000
DTSTAMP:20260425T161221
CREATED:20250702T160757Z
LAST-MODIFIED:20250702T160757Z
UID:10010226-1863079200-1863082800@uufcc.com
SUMMARY:Sunday Service
DESCRIPTION:More information to come.
URL:https://uufcc.com/event/sunday-service/2029-01-14/
LOCATION:UUFCC – Sanctuary\, 780 Waupelani Drive\, State College\, PA\, 16801\, United States
CATEGORIES:Sunday Worship Service,Worship Service
ORGANIZER;CN="Unitarian Universalist Fellowship of Centre County":MAILTO:office@uufcc.com
END:VEVENT
BEGIN:VEVENT
DTSTART;TZID=America/New_York:20290117T190000
DTEND;TZID=America/New_York:20290117T200000
DTSTAMP:20260425T161221
CREATED:20260114T173447Z
LAST-MODIFIED:20260421T145622Z
UID:10012583-1863370800-1863374400@uufcc.com
SUMMARY:Soulful Sundown
DESCRIPTION:Soulful Sundown contemplative services are held biweekly on Wednesdays from 7:00 PM to 8:00 PM on Zoom. \nEach gathering considers a topic offered by that evening’s presenter\, who also suggests one or two related questions for silent reflection or meditation. After the quiet\, all who wish are invited to share their experiences and insights. Topics vary.
URL:https://uufcc.com/event/soulful-sundown/2029-01-17/
LOCATION:PA
CATEGORIES:Soulful Sundown
ATTACH;FMTTYPE=image/png:https://uufcc.com/wp-content/uploads/2023/09/Soulful-Sundown-square.png
END:VEVENT
BEGIN:VEVENT
DTSTART;TZID=America/New_York:20290121T100000
DTEND;TZID=America/New_York:20290121T110000
DTSTAMP:20260425T161221
CREATED:20250702T160757Z
LAST-MODIFIED:20250702T160757Z
UID:10010227-1863684000-1863687600@uufcc.com
SUMMARY:Sunday Service
DESCRIPTION:More information to come.
URL:https://uufcc.com/event/sunday-service/2029-01-21/
LOCATION:UUFCC – Sanctuary\, 780 Waupelani Drive\, State College\, PA\, 16801\, United States
CATEGORIES:Sunday Worship Service,Worship Service
ORGANIZER;CN="Unitarian Universalist Fellowship of Centre County":MAILTO:office@uufcc.com
END:VEVENT
BEGIN:VEVENT
DTSTART;TZID=America/New_York:20290128T100000
DTEND;TZID=America/New_York:20290128T110000
DTSTAMP:20260425T161221
CREATED:20250702T160757Z
LAST-MODIFIED:20250702T160757Z
UID:10010228-1864288800-1864292400@uufcc.com
SUMMARY:Sunday Service
DESCRIPTION:More information to come.
URL:https://uufcc.com/event/sunday-service/2029-01-28/
LOCATION:UUFCC – Sanctuary\, 780 Waupelani Drive\, State College\, PA\, 16801\, United States
CATEGORIES:Sunday Worship Service,Worship Service
ORGANIZER;CN="Unitarian Universalist Fellowship of Centre County":MAILTO:office@uufcc.com
END:VEVENT
BEGIN:VEVENT
DTSTART;TZID=America/New_York:20290131T190000
DTEND;TZID=America/New_York:20290131T200000
DTSTAMP:20260425T161221
CREATED:20260114T173447Z
LAST-MODIFIED:20260421T145622Z
UID:10012584-1864580400-1864584000@uufcc.com
SUMMARY:Soulful Sundown
DESCRIPTION:Soulful Sundown contemplative services are held biweekly on Wednesdays from 7:00 PM to 8:00 PM on Zoom. \nEach gathering considers a topic offered by that evening’s presenter\, who also suggests one or two related questions for silent reflection or meditation. After the quiet\, all who wish are invited to share their experiences and insights. Topics vary.
URL:https://uufcc.com/event/soulful-sundown/2029-01-31/
LOCATION:PA
CATEGORIES:Soulful Sundown
ATTACH;FMTTYPE=image/png:https://uufcc.com/wp-content/uploads/2023/09/Soulful-Sundown-square.png
END:VEVENT
BEGIN:VEVENT
DTSTART;TZID=America/New_York:20290204T100000
DTEND;TZID=America/New_York:20290204T110000
DTSTAMP:20260425T161221
CREATED:20250702T160757Z
LAST-MODIFIED:20250702T160757Z
UID:10010229-1864893600-1864897200@uufcc.com
SUMMARY:Sunday Service
DESCRIPTION:More information to come.
URL:https://uufcc.com/event/sunday-service/2029-02-04/
LOCATION:UUFCC – Sanctuary\, 780 Waupelani Drive\, State College\, PA\, 16801\, United States
CATEGORIES:Sunday Worship Service,Worship Service
ORGANIZER;CN="Unitarian Universalist Fellowship of Centre County":MAILTO:office@uufcc.com
END:VEVENT
BEGIN:VEVENT
DTSTART;TZID=America/New_York:20290211T100000
DTEND;TZID=America/New_York:20290211T110000
DTSTAMP:20260425T161221
CREATED:20250702T160757Z
LAST-MODIFIED:20250702T160757Z
UID:10010230-1865498400-1865502000@uufcc.com
SUMMARY:Sunday Service
DESCRIPTION:More information to come.
URL:https://uufcc.com/event/sunday-service/2029-02-11/
LOCATION:UUFCC – Sanctuary\, 780 Waupelani Drive\, State College\, PA\, 16801\, United States
CATEGORIES:Sunday Worship Service,Worship Service
ORGANIZER;CN="Unitarian Universalist Fellowship of Centre County":MAILTO:office@uufcc.com
END:VEVENT
BEGIN:VEVENT
DTSTART;TZID=America/New_York:20290214T190000
DTEND;TZID=America/New_York:20290214T200000
DTSTAMP:20260425T161221
CREATED:20260114T173447Z
LAST-MODIFIED:20260421T145622Z
UID:10012585-1865790000-1865793600@uufcc.com
SUMMARY:Soulful Sundown
DESCRIPTION:Soulful Sundown contemplative services are held biweekly on Wednesdays from 7:00 PM to 8:00 PM on Zoom. \nEach gathering considers a topic offered by that evening’s presenter\, who also suggests one or two related questions for silent reflection or meditation. After the quiet\, all who wish are invited to share their experiences and insights. Topics vary.
URL:https://uufcc.com/event/soulful-sundown/2029-02-14/
LOCATION:PA
CATEGORIES:Soulful Sundown
ATTACH;FMTTYPE=image/png:https://uufcc.com/wp-content/uploads/2023/09/Soulful-Sundown-square.png
END:VEVENT
BEGIN:VEVENT
DTSTART;TZID=America/New_York:20290218T100000
DTEND;TZID=America/New_York:20290218T110000
DTSTAMP:20260425T161221
CREATED:20250702T160757Z
LAST-MODIFIED:20250702T160757Z
UID:10010231-1866103200-1866106800@uufcc.com
SUMMARY:Sunday Service
DESCRIPTION:More information to come.
URL:https://uufcc.com/event/sunday-service/2029-02-18/
LOCATION:UUFCC – Sanctuary\, 780 Waupelani Drive\, State College\, PA\, 16801\, United States
CATEGORIES:Sunday Worship Service,Worship Service
ORGANIZER;CN="Unitarian Universalist Fellowship of Centre County":MAILTO:office@uufcc.com
END:VEVENT
BEGIN:VEVENT
DTSTART;TZID=America/New_York:20290225T100000
DTEND;TZID=America/New_York:20290225T110000
DTSTAMP:20260425T161221
CREATED:20250702T160757Z
LAST-MODIFIED:20250702T160757Z
UID:10010232-1866708000-1866711600@uufcc.com
SUMMARY:Sunday Service
DESCRIPTION:More information to come.
URL:https://uufcc.com/event/sunday-service/2029-02-25/
LOCATION:UUFCC – Sanctuary\, 780 Waupelani Drive\, State College\, PA\, 16801\, United States
CATEGORIES:Sunday Worship Service,Worship Service
ORGANIZER;CN="Unitarian Universalist Fellowship of Centre County":MAILTO:office@uufcc.com
END:VEVENT
BEGIN:VEVENT
DTSTART;TZID=America/New_York:20290228T190000
DTEND;TZID=America/New_York:20290228T200000
DTSTAMP:20260425T161221
CREATED:20260114T173447Z
LAST-MODIFIED:20260421T145622Z
UID:10012586-1866999600-1867003200@uufcc.com
SUMMARY:Soulful Sundown
DESCRIPTION:Soulful Sundown contemplative services are held biweekly on Wednesdays from 7:00 PM to 8:00 PM on Zoom. \nEach gathering considers a topic offered by that evening’s presenter\, who also suggests one or two related questions for silent reflection or meditation. After the quiet\, all who wish are invited to share their experiences and insights. Topics vary.
URL:https://uufcc.com/event/soulful-sundown/2029-02-28/
LOCATION:PA
CATEGORIES:Soulful Sundown
ATTACH;FMTTYPE=image/png:https://uufcc.com/wp-content/uploads/2023/09/Soulful-Sundown-square.png
END:VEVENT
BEGIN:VEVENT
DTSTART;TZID=America/New_York:20290304T100000
DTEND;TZID=America/New_York:20290304T110000
DTSTAMP:20260425T161221
CREATED:20250702T160757Z
LAST-MODIFIED:20250702T160757Z
UID:10010233-1867312800-1867316400@uufcc.com
SUMMARY:Sunday Service
DESCRIPTION:More information to come.
URL:https://uufcc.com/event/sunday-service/2029-03-04/
LOCATION:UUFCC – Sanctuary\, 780 Waupelani Drive\, State College\, PA\, 16801\, United States
CATEGORIES:Sunday Worship Service,Worship Service
ORGANIZER;CN="Unitarian Universalist Fellowship of Centre County":MAILTO:office@uufcc.com
END:VEVENT
BEGIN:VEVENT
DTSTART;TZID=America/New_York:20290311T100000
DTEND;TZID=America/New_York:20290311T110000
DTSTAMP:20260425T161221
CREATED:20250702T160757Z
LAST-MODIFIED:20250702T160757Z
UID:10010234-1867917600-1867921200@uufcc.com
SUMMARY:Sunday Service
DESCRIPTION:More information to come.
URL:https://uufcc.com/event/sunday-service/2029-03-11/
LOCATION:UUFCC – Sanctuary\, 780 Waupelani Drive\, State College\, PA\, 16801\, United States
CATEGORIES:Sunday Worship Service,Worship Service
ORGANIZER;CN="Unitarian Universalist Fellowship of Centre County":MAILTO:office@uufcc.com
END:VEVENT
BEGIN:VEVENT
DTSTART;TZID=America/New_York:20290314T190000
DTEND;TZID=America/New_York:20290314T200000
DTSTAMP:20260425T161221
CREATED:20260114T173447Z
LAST-MODIFIED:20260421T145622Z
UID:10012587-1868209200-1868212800@uufcc.com
SUMMARY:Soulful Sundown
DESCRIPTION:Soulful Sundown contemplative services are held biweekly on Wednesdays from 7:00 PM to 8:00 PM on Zoom. \nEach gathering considers a topic offered by that evening’s presenter\, who also suggests one or two related questions for silent reflection or meditation. After the quiet\, all who wish are invited to share their experiences and insights. Topics vary.
URL:https://uufcc.com/event/soulful-sundown/2029-03-14/
LOCATION:PA
CATEGORIES:Soulful Sundown
ATTACH;FMTTYPE=image/png:https://uufcc.com/wp-content/uploads/2023/09/Soulful-Sundown-square.png
END:VEVENT
BEGIN:VEVENT
DTSTART;TZID=America/New_York:20290318T100000
DTEND;TZID=America/New_York:20290318T110000
DTSTAMP:20260425T161221
CREATED:20250702T160757Z
LAST-MODIFIED:20250702T160757Z
UID:10010235-1868522400-1868526000@uufcc.com
SUMMARY:Sunday Service
DESCRIPTION:More information to come.
URL:https://uufcc.com/event/sunday-service/2029-03-18/
LOCATION:UUFCC – Sanctuary\, 780 Waupelani Drive\, State College\, PA\, 16801\, United States
CATEGORIES:Sunday Worship Service,Worship Service
ORGANIZER;CN="Unitarian Universalist Fellowship of Centre County":MAILTO:office@uufcc.com
END:VEVENT
BEGIN:VEVENT
DTSTART;TZID=America/New_York:20290325T100000
DTEND;TZID=America/New_York:20290325T110000
DTSTAMP:20260425T161221
CREATED:20250702T160757Z
LAST-MODIFIED:20250702T160757Z
UID:10010236-1869127200-1869130800@uufcc.com
SUMMARY:Sunday Service
DESCRIPTION:More information to come.
URL:https://uufcc.com/event/sunday-service/2029-03-25/
LOCATION:UUFCC – Sanctuary\, 780 Waupelani Drive\, State College\, PA\, 16801\, United States
CATEGORIES:Sunday Worship Service,Worship Service
ORGANIZER;CN="Unitarian Universalist Fellowship of Centre County":MAILTO:office@uufcc.com
END:VEVENT
BEGIN:VEVENT
DTSTART;TZID=America/New_York:20290328T190000
DTEND;TZID=America/New_York:20290328T200000
DTSTAMP:20260425T161221
CREATED:20260114T173447Z
LAST-MODIFIED:20260421T145622Z
UID:10012588-1869418800-1869422400@uufcc.com
SUMMARY:Soulful Sundown
DESCRIPTION:Soulful Sundown contemplative services are held biweekly on Wednesdays from 7:00 PM to 8:00 PM on Zoom. \nEach gathering considers a topic offered by that evening’s presenter\, who also suggests one or two related questions for silent reflection or meditation. After the quiet\, all who wish are invited to share their experiences and insights. Topics vary.
URL:https://uufcc.com/event/soulful-sundown/2029-03-28/
LOCATION:PA
CATEGORIES:Soulful Sundown
ATTACH;FMTTYPE=image/png:https://uufcc.com/wp-content/uploads/2023/09/Soulful-Sundown-square.png
END:VEVENT
END:VCALENDAR