BEGIN:VCALENDAR
VERSION:2.0
PRODID:-//UUFCC - ECPv6.15.17//NONSGML v1.0//EN
CALSCALE:GREGORIAN
METHOD:PUBLISH
X-ORIGINAL-URL:https://uufcc.com
X-WR-CALDESC:Events for UUFCC
REFRESH-INTERVAL;VALUE=DURATION:PT1H
X-Robots-Tag:noindex
X-PUBLISHED-TTL:PT1H
BEGIN:VTIMEZONE
TZID:America/New_York
BEGIN:DAYLIGHT
TZOFFSETFROM:-0500
TZOFFSETTO:-0400
TZNAME:EDT
DTSTART:20230312T070000
END:DAYLIGHT
BEGIN:STANDARD
TZOFFSETFROM:-0400
TZOFFSETTO:-0500
TZNAME:EST
DTSTART:20231105T060000
END:STANDARD
BEGIN:DAYLIGHT
TZOFFSETFROM:-0500
TZOFFSETTO:-0400
TZNAME:EDT
DTSTART:20240310T070000
END:DAYLIGHT
BEGIN:STANDARD
TZOFFSETFROM:-0400
TZOFFSETTO:-0500
TZNAME:EST
DTSTART:20241103T060000
END:STANDARD
BEGIN:DAYLIGHT
TZOFFSETFROM:-0500
TZOFFSETTO:-0400
TZNAME:EDT
DTSTART:20250309T070000
END:DAYLIGHT
BEGIN:STANDARD
TZOFFSETFROM:-0400
TZOFFSETTO:-0500
TZNAME:EST
DTSTART:20251102T060000
END:STANDARD
BEGIN:DAYLIGHT
TZOFFSETFROM:-0500
TZOFFSETTO:-0400
TZNAME:EDT
DTSTART:20260308T070000
END:DAYLIGHT
BEGIN:STANDARD
TZOFFSETFROM:-0400
TZOFFSETTO:-0500
TZNAME:EST
DTSTART:20261101T060000
END:STANDARD
END:VTIMEZONE
BEGIN:VEVENT
DTSTART;TZID=America/New_York:20251015T190000
DTEND;TZID=America/New_York:20251015T200000
DTSTAMP:20260425T122439
CREATED:20251008T180529Z
LAST-MODIFIED:20251008T180550Z
UID:10008033-1760554800-1760558400@uufcc.com
SUMMARY:Soulful Sundown - "Anger"
DESCRIPTION:with Caroline Pierce.\nWe will contemplate four readings–one each from Buddhism\, Taoism\, the Cherokee and Christianity–about anger. \nOn Zoom.
URL:https://uufcc.com/event/soulful-sundown-50/
CATEGORIES:Soulful Sundown,Worship Service
ATTACH;FMTTYPE=image/png:https://uufcc.com/wp-content/uploads/2023/09/Soulful-Sundown-square.png
END:VEVENT
BEGIN:VEVENT
DTSTART;TZID=America/New_York:20251001T190000
DTEND;TZID=America/New_York:20251001T200000
DTSTAMP:20260425T122439
CREATED:20250924T173136Z
LAST-MODIFIED:20250924T173205Z
UID:10008032-1759345200-1759348800@uufcc.com
SUMMARY:Soulful Sundown - "A Well of Wisdom"
DESCRIPTION:with George Dempsie. \nUsing guided meditation\, we discover what wisdom abides in our own well. \nOn Zoom.
URL:https://uufcc.com/event/soulful-sundown-49/
CATEGORIES:Soulful Sundown,Worship Service
ATTACH;FMTTYPE=image/png:https://uufcc.com/wp-content/uploads/2023/09/Soulful-Sundown-square.png
END:VEVENT
BEGIN:VEVENT
DTSTART;TZID=America/New_York:20250917T190000
DTEND;TZID=America/New_York:20250917T200000
DTSTAMP:20260425T122439
CREATED:20250910T155915Z
LAST-MODIFIED:20250916T173136Z
UID:10008031-1758135600-1758139200@uufcc.com
SUMMARY:Soulful Sundown - "Celebrating Autumn"
DESCRIPTION:…with Virginia Hubbs.\nThe arrival of the Autumn equinox can shift our experience of the day from stressful to appreciative of the returning forms of Fall’s bounties. \nOn Zoom.
URL:https://uufcc.com/event/soulful-sundown-48/
CATEGORIES:Soulful Sundown,Worship Service
ATTACH;FMTTYPE=image/png:https://uufcc.com/wp-content/uploads/2023/09/Soulful-Sundown-square.png
END:VEVENT
BEGIN:VEVENT
DTSTART;TZID=America/New_York:20250903T190000
DTEND;TZID=America/New_York:20250903T200000
DTSTAMP:20260425T122439
CREATED:20250827T181328Z
LAST-MODIFIED:20250827T181409Z
UID:10008030-1756926000-1756929600@uufcc.com
SUMMARY:Soulful Sundown - "Animal-Human Connections"
DESCRIPTION:…with Linda Bryce.\nSome indigenous cultures believe that each of us has a spirit animal companion. In guided meditation we will discover our animal companion and what gifts it shares with us.
URL:https://uufcc.com/event/soulful-sundown-47/
CATEGORIES:Soulful Sundown,Worship Service
ATTACH;FMTTYPE=image/png:https://uufcc.com/wp-content/uploads/2023/09/Soulful-Sundown-square.png
END:VEVENT
BEGIN:VEVENT
DTSTART;TZID=America/New_York:20250820T190000
DTEND;TZID=America/New_York:20250820T200000
DTSTAMP:20260425T122439
CREATED:20250809T033953Z
LAST-MODIFIED:20250809T034045Z
UID:10008029-1755716400-1755720000@uufcc.com
SUMMARY:Soulful Sundown - "Three Poems"
DESCRIPTION:with Chas Brua.\nWe’ll explore our reactions to poems by three very different writers–Yosa Buson\, Mark Doty\, and Denise Levertov.
URL:https://uufcc.com/event/soulful-sundown-46/
CATEGORIES:Soulful Sundown,Worship Service
ATTACH;FMTTYPE=image/png:https://uufcc.com/wp-content/uploads/2023/09/Soulful-Sundown-square.png
END:VEVENT
BEGIN:VEVENT
DTSTART;TZID=America/New_York:20250806T190000
DTEND;TZID=America/New_York:20250806T200000
DTSTAMP:20260425T122439
CREATED:20250802T234646Z
LAST-MODIFIED:20250802T234804Z
UID:10008028-1754506800-1754510400@uufcc.com
SUMMARY:Soulful Sundown - "Getting to Know You"
DESCRIPTION:With Caroline Pierce.\nWe usually don’t have an opportunity to talk to each other beyond the topic at hand. This service is dedicated to getting to know each other. We will do a short icebreaker followed by time to chat.
URL:https://uufcc.com/event/soulful-sundown-45/
CATEGORIES:Soulful Sundown,Worship Service
ATTACH;FMTTYPE=image/png:https://uufcc.com/wp-content/uploads/2023/09/Soulful-Sundown-square.png
END:VEVENT
BEGIN:VEVENT
DTSTART;TZID=America/New_York:20250723T190000
DTEND;TZID=America/New_York:20250723T200000
DTSTAMP:20260425T122439
CREATED:20250716T192546Z
LAST-MODIFIED:20250716T192621Z
UID:10008027-1753297200-1753300800@uufcc.com
SUMMARY:Soulful Sundown - "Bridging the Divide"
DESCRIPTION: …with Linda Bryce.\nDo you enter or avoid difficult conversations? How might we—is it possible?—to have respectful dialogue even amidst different viewpoints?
URL:https://uufcc.com/event/soulful-sundown-44/
CATEGORIES:Soulful Sundown,Worship Service
ATTACH;FMTTYPE=image/png:https://uufcc.com/wp-content/uploads/2023/09/Soulful-Sundown-square.png
END:VEVENT
BEGIN:VEVENT
DTSTART;TZID=America/New_York:20250709T190000
DTEND;TZID=America/New_York:20250709T200000
DTSTAMP:20260425T122439
CREATED:20250702T164041Z
LAST-MODIFIED:20250702T164106Z
UID:10008026-1752087600-1752091200@uufcc.com
SUMMARY:Soulful Sundown - "Courtesy"
DESCRIPTION:…with George Dempsie.\nWhat does the absence of courtesy have on your interactions? How might you intentionally bring more courtesy into those interactions?
URL:https://uufcc.com/event/soulful-sundown-43/
CATEGORIES:Soulful Sundown,Worship Service
ATTACH;FMTTYPE=image/png:https://uufcc.com/wp-content/uploads/2023/09/Soulful-Sundown-square.png
END:VEVENT
BEGIN:VEVENT
DTSTART;TZID=America/New_York:20250625T190000
DTEND;TZID=America/New_York:20250625T200000
DTSTAMP:20260425T122439
CREATED:20250618T184642Z
LAST-MODIFIED:20250618T190154Z
UID:10008025-1750878000-1750881600@uufcc.com
SUMMARY:Soulful Sundown - "Calm in the Time of Stress"
DESCRIPTION:…with Virginia Hubbs.\nMaintaining calm as we move through challenging days\, weeks\, months or even years — can make those times easier.   Through reflection\, meditation\, and sharing\, this service will provide resources to do so.
URL:https://uufcc.com/event/soulful-sundown-42/
CATEGORIES:Soulful Sundown,Worship Service
ATTACH;FMTTYPE=image/png:https://uufcc.com/wp-content/uploads/2023/09/Soulful-Sundown-square.png
END:VEVENT
BEGIN:VEVENT
DTSTART;TZID=America/New_York:20250611T190000
DTEND;TZID=America/New_York:20250611T200000
DTSTAMP:20260425T122439
CREATED:20250604T154322Z
LAST-MODIFIED:20250604T154737Z
UID:10008024-1749668400-1749672000@uufcc.com
SUMMARY:Soulful Sundown - "Image and Essence"
DESCRIPTION:…with Chas Brua.\nThrough artistic renderings of three legendary heroes of Japan\, Russia\, and Alexandria\, we will consider the character strengths they embodied — and how we might demonstrate those qualities in our own lives.
URL:https://uufcc.com/event/soulful-sundown-41/
CATEGORIES:Soulful Sundown,Worship Service
ATTACH;FMTTYPE=image/png:https://uufcc.com/wp-content/uploads/2023/09/Soulful-Sundown-square.png
END:VEVENT
BEGIN:VEVENT
DTSTART;TZID=America/New_York:20250528T190000
DTEND;TZID=America/New_York:20250528T200000
DTSTAMP:20260425T122439
CREATED:20250521T164358Z
LAST-MODIFIED:20250521T165542Z
UID:10008023-1748458800-1748462400@uufcc.com
SUMMARY:Soulful Sundown - "A Knock at the Door"
DESCRIPTION:with Caroline Pierce.\nInspired by Ken Nye’s poem\, we question how we handle conversations about religion.
URL:https://uufcc.com/event/soulful-sundown-39/
CATEGORIES:Soulful Sundown,Worship Service
ATTACH;FMTTYPE=image/png:https://uufcc.com/wp-content/uploads/2023/09/Soulful-Sundown-square.png
END:VEVENT
BEGIN:VEVENT
DTSTART;TZID=America/New_York:20250514T190000
DTEND;TZID=America/New_York:20250514T200000
DTSTAMP:20260425T122439
CREATED:20250507T174115Z
LAST-MODIFIED:20250507T174438Z
UID:10008022-1747249200-1747252800@uufcc.com
SUMMARY:Soulful Sundown - "Childhood memories: a photo album you can edit"
DESCRIPTION:…with George Dempsie.\nWe will reminisce and share pleasant childhood memories that bring joy.
URL:https://uufcc.com/event/soulful-sundown-38/
CATEGORIES:Soulful Sundown,Worship Service
ATTACH;FMTTYPE=image/png:https://uufcc.com/wp-content/uploads/2023/09/Soulful-Sundown-square.png
END:VEVENT
BEGIN:VEVENT
DTSTART;TZID=America/New_York:20250430T190000
DTEND;TZID=America/New_York:20250430T200000
DTSTAMP:20260425T122439
CREATED:20250423T183246Z
LAST-MODIFIED:20250430T184056Z
UID:10008021-1746039600-1746043200@uufcc.com
SUMMARY:Soulful Sundown - "Childhood memories: a photo album you can edit"
DESCRIPTION:…with George Dempsie.\nWe will reminisce and share pleasant childhood memories that bring joy.
URL:https://uufcc.com/event/soulful-sundown-37/
CATEGORIES:Soulful Sundown,Worship Service
ATTACH;FMTTYPE=image/png:https://uufcc.com/wp-content/uploads/2023/09/Soulful-Sundown-square.png
END:VEVENT
BEGIN:VEVENT
DTSTART;TZID=America/New_York:20250416T190000
DTEND;TZID=America/New_York:20250416T200000
DTSTAMP:20260425T122439
CREATED:20250409T165954Z
LAST-MODIFIED:20250409T171008Z
UID:10008020-1744830000-1744833600@uufcc.com
SUMMARY:Soulful Sundown - "Gifts of Spring"
DESCRIPTION:…with Virginia Hubbs.\nSpring has given us cold and snow as well as daffodils\, crocuses and morning bird song. We’ll share the beauty\, hope and emerging possibilities of the season and in our lives.
URL:https://uufcc.com/event/soulful-sundown-36/
CATEGORIES:Soulful Sundown,Worship Service
ATTACH;FMTTYPE=image/png:https://uufcc.com/wp-content/uploads/2023/09/Soulful-Sundown-square.png
END:VEVENT
BEGIN:VEVENT
DTSTART;TZID=America/New_York:20250402T190000
DTEND;TZID=America/New_York:20250402T200000
DTSTAMP:20260425T122439
CREATED:20250326T180527Z
LAST-MODIFIED:20250326T181342Z
UID:10008019-1743620400-1743624000@uufcc.com
SUMMARY:Soulful Sundown - "The Power of 9"
DESCRIPTION:…with Linda Bryce.\nNine is a symbol of completion. Endings can be difficult\, but they are also opportunities for growth and renewal. How do we respond to endings in our lives?
URL:https://uufcc.com/event/soulful-sundown-35/
CATEGORIES:Soulful Sundown,Worship Service
ATTACH;FMTTYPE=image/png:https://uufcc.com/wp-content/uploads/2023/09/Soulful-Sundown-square.png
END:VEVENT
BEGIN:VEVENT
DTSTART;TZID=America/New_York:20250319T190000
DTEND;TZID=America/New_York:20250319T200000
DTSTAMP:20260425T122439
CREATED:20250312T143921Z
LAST-MODIFIED:20250312T144117Z
UID:10008018-1742410800-1742414400@uufcc.com
SUMMARY:Soulful Sundown - "Song Wisdom"
DESCRIPTION:…with Chas Brua.\nAfter listening to three insightful\, strikingly different songs\, we’ll reflect on how they challenge and/or confirm our perspectives about life.
URL:https://uufcc.com/event/soulful-sundown-34/
CATEGORIES:Soulful Sundown,Worship Service
ATTACH;FMTTYPE=image/png:https://uufcc.com/wp-content/uploads/2023/09/Soulful-Sundown-square.png
END:VEVENT
BEGIN:VEVENT
DTSTART;TZID=America/New_York:20250305T190000
DTEND;TZID=America/New_York:20250305T200000
DTSTAMP:20260425T122439
CREATED:20250226T173322Z
LAST-MODIFIED:20250226T173831Z
UID:10008017-1741201200-1741204800@uufcc.com
SUMMARY:Soulful Sundown - "Just Another Wednesday?"
DESCRIPTION:…with Caroline Pierce.\nFor those of us who do not observe Ash Wednesday\, it may seem like just another Wednesday. However\, on this first day of Lent\, are there spiritual practices from the Lenten season that we can apply to our lives this spring? In this service\, we will ponder three questions to help us consider the possibilities.
URL:https://uufcc.com/event/soulful-sundown-33/
CATEGORIES:Soulful Sundown,Worship Service
ATTACH;FMTTYPE=image/png:https://uufcc.com/wp-content/uploads/2023/09/Soulful-Sundown-square.png
END:VEVENT
BEGIN:VEVENT
DTSTART;TZID=America/New_York:20250219T190000
DTEND;TZID=America/New_York:20250219T200000
DTSTAMP:20260425T122439
CREATED:20250212T191400Z
LAST-MODIFIED:20250212T191605Z
UID:10008016-1739991600-1739995200@uufcc.com
SUMMARY:Soulful Sundown - "Wonder as We Wander in Our World: Animals"
DESCRIPTION:…with George Dempsie.\nShort stories and inspiring words about wonder help us share memorable experiences with animals or pets over the years.
URL:https://uufcc.com/event/soulful-sundown-32/
CATEGORIES:Soulful Sundown,Worship Service
ATTACH;FMTTYPE=image/png:https://uufcc.com/wp-content/uploads/2023/09/Soulful-Sundown-square.png
END:VEVENT
BEGIN:VEVENT
DTSTART;TZID=America/New_York:20250205T190000
DTEND;TZID=America/New_York:20250205T200000
DTSTAMP:20260425T122439
CREATED:20250129T155712Z
LAST-MODIFIED:20250129T161159Z
UID:10008015-1738782000-1738785600@uufcc.com
SUMMARY:Soulful Sundown - "Music Will Heal"
DESCRIPTION:…with Linda Bryce.\nComforting\, reassuring\, peaceful song to help heal your heart\, mind and spirit.
URL:https://uufcc.com/event/soulful-sundown-music-will-heal/
CATEGORIES:Soulful Sundown,Worship Service
ATTACH;FMTTYPE=image/png:https://uufcc.com/wp-content/uploads/2023/09/Soulful-Sundown-square.png
END:VEVENT
BEGIN:VEVENT
DTSTART;TZID=America/New_York:20250122T190000
DTEND;TZID=America/New_York:20250122T200000
DTSTAMP:20260425T122439
CREATED:20250115T163937Z
LAST-MODIFIED:20250115T164141Z
UID:10008014-1737572400-1737576000@uufcc.com
SUMMARY:Soulful Sundown - "Nurturing Resilience in a Challenging Time"
DESCRIPTION:…with Virginia Hubbs.\nWe all face challenges at different times of our lives — personal\, cultural and spiritual. Such challenges can range from a national pandemic such as COVID to dealing with the loss of a loved one or pet\, to personal illness\, and more. This service will help us to find the spiritual resilience to face such challenges when they come our way.
URL:https://uufcc.com/event/soulful-sundown-30/
CATEGORIES:Soulful Sundown,Worship Service
ATTACH;FMTTYPE=image/png:https://uufcc.com/wp-content/uploads/2023/09/Soulful-Sundown-square.png
END:VEVENT
BEGIN:VEVENT
DTSTART;TZID=America/New_York:20250108T190000
DTEND;TZID=America/New_York:20250108T200000
DTSTAMP:20260425T122439
CREATED:20241224T155930Z
LAST-MODIFIED:20241224T155949Z
UID:10008013-1736362800-1736366400@uufcc.com
SUMMARY:Soulful Sundown - "Winter Meditation"
DESCRIPTION:…with Chas Brua.\nUsing poems by Ryokan\, a gentle Zen monk from 18th-century Japan\, we’ll explore the season of winter and our own responses to it.
URL:https://uufcc.com/event/soulful-sundown-29/
CATEGORIES:Soulful Sundown,Worship Service
ATTACH;FMTTYPE=image/png:https://uufcc.com/wp-content/uploads/2023/09/Soulful-Sundown-square.png
END:VEVENT
BEGIN:VEVENT
DTSTART;TZID=America/New_York:20241218T190000
DTEND;TZID=America/New_York:20241218T200000
DTSTAMP:20260425T122439
CREATED:20241211T171201Z
LAST-MODIFIED:20241211T171230Z
UID:10004032-1734548400-1734552000@uufcc.com
SUMMARY:Soulful Sundown - "Memories of the Light"
DESCRIPTION:…with George Dempsie.\nLate December is the darkest time of the year\, which makes light and its warmth all the more cherished.  Thoughts on light will be shared and participants will be asked to share a fond memory of a light from their past.
URL:https://uufcc.com/event/soulful-sundown-28/
CATEGORIES:Soulful Sundown,Worship Service
ATTACH;FMTTYPE=image/png:https://uufcc.com/wp-content/uploads/2023/09/Soulful-Sundown-square.png
END:VEVENT
BEGIN:VEVENT
DTSTART;TZID=America/New_York:20241204T190000
DTEND;TZID=America/New_York:20241204T200000
DTSTAMP:20260425T122439
CREATED:20241124T160404Z
LAST-MODIFIED:20241124T160452Z
UID:10004031-1733338800-1733342400@uufcc.com
SUMMARY:Soulful Sundown - "Our Favorite Books"
DESCRIPTION:…with Caroline Pierce.\nThe American clergyman Henry Ward Beecher said\, “Books are the window through which the soul looks out.” In this service\, we will broaden our perspectives by reflecting on our favorite books.
URL:https://uufcc.com/event/soulful-sundown-27/
CATEGORIES:Soulful Sundown,Worship Service
ATTACH;FMTTYPE=image/png:https://uufcc.com/wp-content/uploads/2023/09/Soulful-Sundown-square.png
END:VEVENT
BEGIN:VEVENT
DTSTART;TZID=America/New_York:20241120T190000
DTEND;TZID=America/New_York:20241120T200000
DTSTAMP:20260425T122439
CREATED:20241112T194214Z
LAST-MODIFIED:20241112T194252Z
UID:10004030-1732129200-1732132800@uufcc.com
SUMMARY:Soulful Sundown - "Making Choices"
DESCRIPTION:…with Linda Bryce.\nLife is about making choices. Whether using runes\, dowsing\, cards\, the Ten Commandments\, the UU principles or other ways\, on what do we base our choices? and do we choose consciously?
URL:https://uufcc.com/event/soulful-sundown-26/
CATEGORIES:Soulful Sundown,Worship Service
ATTACH;FMTTYPE=image/png:https://uufcc.com/wp-content/uploads/2023/09/Soulful-Sundown-square.png
END:VEVENT
BEGIN:VEVENT
DTSTART;TZID=America/New_York:20241106T190000
DTEND;TZID=America/New_York:20241106T200000
DTSTAMP:20260425T122439
CREATED:20241030T151140Z
LAST-MODIFIED:20241030T151227Z
UID:10004029-1730919600-1730923200@uufcc.com
SUMMARY:Soulful Sundown - "Moving Through Challenging Situations With Resilience"
DESCRIPTION:…with Virginia Hubbs.\nLife can feel difficult for long or short periods through health challenges\, financial struggles\, political turmoil and more. We will consider how we develop resilience to cope with– and may even find gifts in– such times.
URL:https://uufcc.com/event/soulful-sundown-25/
CATEGORIES:Soulful Sundown,Worship Service
ATTACH;FMTTYPE=image/png:https://uufcc.com/wp-content/uploads/2023/09/Soulful-Sundown-square.png
END:VEVENT
BEGIN:VEVENT
DTSTART;TZID=America/New_York:20241023T190000
DTEND;TZID=America/New_York:20241023T200000
DTSTAMP:20260425T122439
CREATED:20241016T162031Z
LAST-MODIFIED:20241016T162112Z
UID:10004028-1729710000-1729713600@uufcc.com
SUMMARY:Soulful Sundown - "Caedmon's Hymn"
DESCRIPTION:…with Chas Brua.\nIf the legend is to be believed\, the oldest poem in English was written by an illiterate cowherd who became a poet overnight after an inspiring dream. In this service\, we’ll explore our own untapped gifts.
URL:https://uufcc.com/event/soulful-sundown-24/
CATEGORIES:Soulful Sundown,Worship Service
ATTACH;FMTTYPE=image/png:https://uufcc.com/wp-content/uploads/2023/09/Soulful-Sundown-square.png
END:VEVENT
BEGIN:VEVENT
DTSTART;TZID=America/New_York:20241009T190000
DTEND;TZID=America/New_York:20241009T200000
DTSTAMP:20260425T122439
CREATED:20241002T153833Z
LAST-MODIFIED:20241002T153924Z
UID:10004027-1728500400-1728504000@uufcc.com
SUMMARY:Soulful Sundown - "Solitude vs Loneliness"
DESCRIPTION:…with George Dempsie.\nWe ask how we might let times of aloneness grow into solitude and not into loneliness.
URL:https://uufcc.com/event/soulful-sundown-23/
CATEGORIES:Soulful Sundown,Worship Service
ATTACH;FMTTYPE=image/png:https://uufcc.com/wp-content/uploads/2023/09/Soulful-Sundown-square.png
END:VEVENT
BEGIN:VEVENT
DTSTART;TZID=America/New_York:20240925T190000
DTEND;TZID=America/New_York:20240925T200000
DTSTAMP:20260425T122439
CREATED:20240918T162753Z
LAST-MODIFIED:20240918T162825Z
UID:10004026-1727290800-1727294400@uufcc.com
SUMMARY:Soulful Sundown - "Sayings for Life"
DESCRIPTION:…with Linda Bryce.\nWe recall adages and sayings learned from our families—or other sources—and how the words influenced—or don’t—how we understand and approach life.
URL:https://uufcc.com/event/soulful-sundown-22/
CATEGORIES:Soulful Sundown,Worship Service
ATTACH;FMTTYPE=image/png:https://uufcc.com/wp-content/uploads/2023/09/Soulful-Sundown-square.png
END:VEVENT
BEGIN:VEVENT
DTSTART;TZID=America/New_York:20240911T190000
DTEND;TZID=America/New_York:20240911T200000
DTSTAMP:20260425T122439
CREATED:20240904T151231Z
LAST-MODIFIED:20240904T151315Z
UID:10004025-1726081200-1726084800@uufcc.com
SUMMARY:Soulful Sundown - "Practices That May Make the Political Palatable"
DESCRIPTION:…with Virginia Hubbs\nNo matter our political inclination\, we consider personal and interpersonal practices to help navigate personal stress or anxiety during these ongoing controversial times in our political landscape.
URL:https://uufcc.com/event/soulful-sundown-21/
CATEGORIES:Soulful Sundown,Worship Service
ATTACH;FMTTYPE=image/png:https://uufcc.com/wp-content/uploads/2023/09/Soulful-Sundown-square.png
END:VEVENT
BEGIN:VEVENT
DTSTART;TZID=America/New_York:20240828T190000
DTEND;TZID=America/New_York:20240828T200000
DTSTAMP:20260425T122439
CREATED:20240821T152136Z
LAST-MODIFIED:20240821T152213Z
UID:10004024-1724871600-1724875200@uufcc.com
SUMMARY:Soulful Sundown - "Who Moved My Cheese?"
DESCRIPTION:…with Linda Bryce.\nIt would be easy if our same old routines worked. Problem is…everything keeps changing. We’ll reflect on how we respond to change and how we may have changed in the ways we respond.
URL:https://uufcc.com/event/soulful-sundown-20/
CATEGORIES:Soulful Sundown,Worship Service
ATTACH;FMTTYPE=image/png:https://uufcc.com/wp-content/uploads/2023/09/Soulful-Sundown-square.png
END:VEVENT
END:VCALENDAR