BEGIN:VCALENDAR
VERSION:2.0
PRODID:-//UUFCC - ECPv6.15.17//NONSGML v1.0//EN
CALSCALE:GREGORIAN
METHOD:PUBLISH
X-ORIGINAL-URL:https://uufcc.com
X-WR-CALDESC:Events for UUFCC
REFRESH-INTERVAL;VALUE=DURATION:PT1H
X-Robots-Tag:noindex
X-PUBLISHED-TTL:PT1H
BEGIN:VTIMEZONE
TZID:America/New_York
BEGIN:DAYLIGHT
TZOFFSETFROM:-0500
TZOFFSETTO:-0400
TZNAME:EDT
DTSTART:20240310T070000
END:DAYLIGHT
BEGIN:STANDARD
TZOFFSETFROM:-0400
TZOFFSETTO:-0500
TZNAME:EST
DTSTART:20241103T060000
END:STANDARD
BEGIN:DAYLIGHT
TZOFFSETFROM:-0500
TZOFFSETTO:-0400
TZNAME:EDT
DTSTART:20250309T070000
END:DAYLIGHT
BEGIN:STANDARD
TZOFFSETFROM:-0400
TZOFFSETTO:-0500
TZNAME:EST
DTSTART:20251102T060000
END:STANDARD
BEGIN:DAYLIGHT
TZOFFSETFROM:-0500
TZOFFSETTO:-0400
TZNAME:EDT
DTSTART:20260308T070000
END:DAYLIGHT
BEGIN:STANDARD
TZOFFSETFROM:-0400
TZOFFSETTO:-0500
TZNAME:EST
DTSTART:20261101T060000
END:STANDARD
END:VTIMEZONE
BEGIN:VEVENT
DTSTART;TZID=America/New_York:20250907T100000
DTEND;TZID=America/New_York:20250907T110000
DTSTAMP:20260423T025706
CREATED:20250714T172253Z
LAST-MODIFIED:20250903T162410Z
UID:10009989-1757239200-1757242800@uufcc.com
SUMMARY:Sunday Service - "Ingathering- Water Ceremony"
DESCRIPTION:with Rev. Tracy Sprowls and Ashley Hamlin\, DLRE. Music: UUFCC Choir\nWelcome to another year of community\, love\, and possibility! This service for all ages welcomes you to a new program year with a backpack blessing\, music\, story\, and ritual. \nPlease collect a bit of water  from a place that is special to you\, whether it be from your travels or somewhere close. Bring this water to the Water Ceremony where we will have an opportunity to share and mingle our water. This water is later purified and used in blessings and child dedications. \nAdditionally\, we will have our ingathering picnic after the service! Please bring a dish to share if you like. \nIt will be good to be together once more!
URL:https://uufcc.com/event/sunday-service-23/
LOCATION:UUFCC – Sanctuary\, 780 Waupelani Drive\, State College\, PA\, 16801\, United States
CATEGORIES:Sunday Worship Service,Worship Service
ATTACH;FMTTYPE=image/jpeg:https://uufcc.com/wp-content/uploads/2025/07/September-7-Ingathering.jpg
ORGANIZER;CN="Unitarian Universalist Fellowship of Centre County":MAILTO:office@uufcc.com
END:VEVENT
BEGIN:VEVENT
DTSTART;TZID=America/New_York:20250914T100000
DTEND;TZID=America/New_York:20250914T110000
DTSTAMP:20260423T025706
CREATED:20250903T161743Z
LAST-MODIFIED:20250903T161948Z
UID:10009990-1757844000-1757847600@uufcc.com
SUMMARY:Sunday Service - "A Blessing Called Sanctuary"
DESCRIPTION:with Rev. Tracy Sprowls. \nJan Richardson\, the writer\, artist\, and minister writes\, “You hardly knew how hungry you were to be gathered in\, to receive the welcome that invited you to enter entirely—nothing of you found foreign or strange\, nothing of your life that you were asked to leave behind or to carry in silence or in shame.” \nWe visit this theme often\, but this morning we go a little deeper into what sanctuary means in today’s political climate.
URL:https://uufcc.com/event/sunday-service-29/
LOCATION:UUFCC – Sanctuary\, 780 Waupelani Drive\, State College\, PA\, 16801\, United States
CATEGORIES:Sunday Worship Service,Worship Service
ATTACH;FMTTYPE=image/jpeg:https://uufcc.com/wp-content/uploads/2025/09/Sept-14-Sanctuary.jpg
ORGANIZER;CN="Unitarian Universalist Fellowship of Centre County":MAILTO:office@uufcc.com
END:VEVENT
BEGIN:VEVENT
DTSTART;TZID=America/New_York:20250921T100000
DTEND;TZID=America/New_York:20250921T110000
DTSTAMP:20260423T025706
CREATED:20250909T172023Z
LAST-MODIFIED:20250909T172054Z
UID:10009991-1758448800-1758452400@uufcc.com
SUMMARY:Sunday Service - "What Is Your Ministry?"
DESCRIPTION:with Elaine Jurs. \nWhat’s going on at the UU Fellowship? SO MUCH!  We invite you to be a part of it.  Join us on Sunday\, September 21st for our Worship Service\, “What is Your Ministry?” followed by our annual Engagement Fair.  Our committees and interest groups will have tables and information in the Community Room. Feel free to circulate and find a group\, committee\, or initiative that you might like to know more about.  Whether your special interest is music\, games\, hospitality\, Worship\, books\, children\, social justice\, the environment\, or helping those in need\, there is a place for you at UUFCC!
URL:https://uufcc.com/event/sunday-service-31/
LOCATION:UUFCC – Sanctuary\, 780 Waupelani Drive\, State College\, PA\, 16801\, United States
CATEGORIES:Sunday Worship Service,Worship Service
ORGANIZER;CN="Unitarian Universalist Fellowship of Centre County":MAILTO:office@uufcc.com
END:VEVENT
BEGIN:VEVENT
DTSTART;TZID=America/New_York:20250928T100000
DTEND;TZID=America/New_York:20250928T110000
DTSTAMP:20260423T025706
CREATED:20250903T161747Z
LAST-MODIFIED:20250903T162047Z
UID:10009992-1759053600-1759057200@uufcc.com
SUMMARY:Sunday Service - "The Power In Our Choices"
DESCRIPTION:with Rev. Tracy Sprowls.\nThis summer\, Tracy was minister of the week for the UUs at the Chautauqua Institution. The theme for the week was The Power of One and the interfaith theme was Whose Body\, Whose Choice? Tracy shares her Chautauqua sermon this morning.
URL:https://uufcc.com/event/sunday-service-30/
LOCATION:UUFCC – Sanctuary\, 780 Waupelani Drive\, State College\, PA\, 16801\, United States
CATEGORIES:Sunday Worship Service,Worship Service
ATTACH;FMTTYPE=image/jpeg:https://uufcc.com/wp-content/uploads/2025/09/Sept-28-Choices.jpg
ORGANIZER;CN="Unitarian Universalist Fellowship of Centre County":MAILTO:office@uufcc.com
END:VEVENT
END:VCALENDAR