BEGIN:VCALENDAR
VERSION:2.0
PRODID:-//UUFCC - ECPv6.15.17//NONSGML v1.0//EN
CALSCALE:GREGORIAN
METHOD:PUBLISH
X-ORIGINAL-URL:https://uufcc.com
X-WR-CALDESC:Events for UUFCC
REFRESH-INTERVAL;VALUE=DURATION:PT1H
X-Robots-Tag:noindex
X-PUBLISHED-TTL:PT1H
BEGIN:VTIMEZONE
TZID:America/New_York
BEGIN:DAYLIGHT
TZOFFSETFROM:-0500
TZOFFSETTO:-0400
TZNAME:EDT
DTSTART:20240310T070000
END:DAYLIGHT
BEGIN:STANDARD
TZOFFSETFROM:-0400
TZOFFSETTO:-0500
TZNAME:EST
DTSTART:20241103T060000
END:STANDARD
BEGIN:DAYLIGHT
TZOFFSETFROM:-0500
TZOFFSETTO:-0400
TZNAME:EDT
DTSTART:20250309T070000
END:DAYLIGHT
BEGIN:STANDARD
TZOFFSETFROM:-0400
TZOFFSETTO:-0500
TZNAME:EST
DTSTART:20251102T060000
END:STANDARD
BEGIN:DAYLIGHT
TZOFFSETFROM:-0500
TZOFFSETTO:-0400
TZNAME:EDT
DTSTART:20260308T070000
END:DAYLIGHT
BEGIN:STANDARD
TZOFFSETFROM:-0400
TZOFFSETTO:-0500
TZNAME:EST
DTSTART:20261101T060000
END:STANDARD
END:VTIMEZONE
BEGIN:VEVENT
DTSTART;TZID=America/New_York:20251102T100000
DTEND;TZID=America/New_York:20251102T110000
DTSTAMP:20260424T112642
CREATED:20251029T165020Z
LAST-MODIFIED:20251029T171135Z
UID:10009997-1762077600-1762081200@uufcc.com
SUMMARY:Sunday Service - What Does It Take to Feel Safe?
DESCRIPTION:with Rev. Tracy Sprowls.\nThis morning we will explore the concept of safety from not only a physical stand point but the spiritual\, psychological\, and relational perspectives as well. After the service\, we really hope you will stay for an informative and interactive program with the Safety Team here at the UU. \nJoin our Safety Task Force this Sunday from 11:30-1:00 to learn about our safety policies\, participate in hands-on training with a fire extinguisher and defibrillator\, deescalation training and more. Kids will create de-stress boxes and explore how to handle fear through stories and activities.
URL:https://uufcc.com/event/sunday-service-36/
LOCATION:UUFCC – Sanctuary\, 780 Waupelani Drive\, State College\, PA\, 16801\, United States
CATEGORIES:Sunday Worship Service,Worship Service
ATTACH;FMTTYPE=image/jpeg:https://uufcc.com/wp-content/uploads/2025/10/Nov-2-Safety-Sunday.jpg
ORGANIZER;CN="Unitarian Universalist Fellowship of Centre County":MAILTO:office@uufcc.com
END:VEVENT
BEGIN:VEVENT
DTSTART;TZID=America/New_York:20251109T100000
DTEND;TZID=America/New_York:20251109T110000
DTSTAMP:20260424T112642
CREATED:20251029T165024Z
LAST-MODIFIED:20251029T171123Z
UID:10009998-1762682400-1762686000@uufcc.com
SUMMARY:Sunday Service - Nurturing Gratitude
DESCRIPTION:with Rev. Tracy Sprowls.\nOur worship this morning comes from the poem called Practice Gratitude by Steve Garnaas-Holmes: Hold your gratitude like a seashell in your hand\, and rehearse it. Come to it new again…Each day add to the things you allow yourself to tumble into gratitude for\, until you become grateful for everything\,
URL:https://uufcc.com/event/sunday-service-37/
LOCATION:UUFCC – Sanctuary\, 780 Waupelani Drive\, State College\, PA\, 16801\, United States
CATEGORIES:Sunday Worship Service,Worship Service
ATTACH;FMTTYPE=image/jpeg:https://uufcc.com/wp-content/uploads/2025/10/Nov-9-Nurturing-Gratitude.jpg
ORGANIZER;CN="Unitarian Universalist Fellowship of Centre County":MAILTO:office@uufcc.com
END:VEVENT
BEGIN:VEVENT
DTSTART;TZID=America/New_York:20251116T100000
DTEND;TZID=America/New_York:20251116T110000
DTSTAMP:20260424T112642
CREATED:20251029T165027Z
LAST-MODIFIED:20251112T164655Z
UID:10009999-1763287200-1763290800@uufcc.com
SUMMARY:Sunday Service - "Immigration and ICE"
DESCRIPTION:…with the Justice Committee.\nThe immigrants who are part of the State College community are disappearing\, just like that. How is this impacting them and their families? How can we help?
URL:https://uufcc.com/event/sunday-service-38/
LOCATION:UUFCC – Sanctuary\, 780 Waupelani Drive\, State College\, PA\, 16801\, United States
CATEGORIES:Sunday Worship Service,Worship Service
ATTACH;FMTTYPE=image/jpeg:https://uufcc.com/wp-content/uploads/2025/10/immigration-service.jpg
ORGANIZER;CN="Unitarian Universalist Fellowship of Centre County":MAILTO:office@uufcc.com
END:VEVENT
BEGIN:VEVENT
DTSTART;TZID=America/New_York:20251123T100000
DTEND;TZID=America/New_York:20251123T110000
DTSTAMP:20260424T112642
CREATED:20251029T165030Z
LAST-MODIFIED:20251119T190559Z
UID:10010000-1763892000-1763895600@uufcc.com
SUMMARY:Multigenerational Sunday Service - "Stone Soup Service"
DESCRIPTION:with Ashley Hamlin\, DLRE.\nWhen it feels as though the world is crashing down and so many people are living in growing suffering\, how can we bring gratitude into focus and feel like we can give generously from a place of fullness\, not deprivation? This service relates a familiar and delightful story\, introducing three strange travelers who coax an entire town into realizing the richness of coming together\, sharing\, and feeding each other. \nPlease sign up to bring an ingredient for our Stone Soup which we will feast on after the service! https://bit.ly/StoneSoup2025
URL:https://uufcc.com/event/sunday-service-39/
LOCATION:UUFCC – Sanctuary\, 780 Waupelani Drive\, State College\, PA\, 16801\, United States
CATEGORIES:Sunday Worship Service,Worship Service
ATTACH;FMTTYPE=image/jpeg:https://uufcc.com/wp-content/uploads/2025/10/Stone-Soup-Service-2025.jpg
ORGANIZER;CN="Unitarian Universalist Fellowship of Centre County":MAILTO:office@uufcc.com
END:VEVENT
BEGIN:VEVENT
DTSTART;TZID=America/New_York:20251130T100000
DTEND;TZID=America/New_York:20251130T110000
DTSTAMP:20260424T112642
CREATED:20251029T170841Z
LAST-MODIFIED:20251029T171109Z
UID:10010001-1764496800-1764500400@uufcc.com
SUMMARY:Sunday Service - What is Normal\, Anyway?
DESCRIPTION:with Rev. Tracy Sprowls.\nWe explore what is normal for our lives and for the nation. We’ll look at what normal means- is there a “normal” or is that just a setting on the dryer? Also\, we keep hearing the term “normalizing” in the news. What does that look like in today’s context?
URL:https://uufcc.com/event/sunday-service-40/
LOCATION:UUFCC – Sanctuary\, 780 Waupelani Drive\, State College\, PA\, 16801\, United States
CATEGORIES:Sunday Worship Service,Worship Service
ATTACH;FMTTYPE=image/jpeg:https://uufcc.com/wp-content/uploads/2025/10/Nov-30-Normal.jpg
ORGANIZER;CN="Unitarian Universalist Fellowship of Centre County":MAILTO:office@uufcc.com
END:VEVENT
END:VCALENDAR