BEGIN:VCALENDAR
VERSION:2.0
PRODID:-//UUFCC - ECPv6.15.17//NONSGML v1.0//EN
CALSCALE:GREGORIAN
METHOD:PUBLISH
X-WR-CALNAME:UUFCC
X-ORIGINAL-URL:https://uufcc.com
X-WR-CALDESC:Events for UUFCC
REFRESH-INTERVAL;VALUE=DURATION:PT1H
X-Robots-Tag:noindex
X-PUBLISHED-TTL:PT1H
BEGIN:VTIMEZONE
TZID:America/New_York
BEGIN:DAYLIGHT
TZOFFSETFROM:-0500
TZOFFSETTO:-0400
TZNAME:EDT
DTSTART:20230312T070000
END:DAYLIGHT
BEGIN:STANDARD
TZOFFSETFROM:-0400
TZOFFSETTO:-0500
TZNAME:EST
DTSTART:20231105T060000
END:STANDARD
BEGIN:DAYLIGHT
TZOFFSETFROM:-0500
TZOFFSETTO:-0400
TZNAME:EDT
DTSTART:20240310T070000
END:DAYLIGHT
BEGIN:STANDARD
TZOFFSETFROM:-0400
TZOFFSETTO:-0500
TZNAME:EST
DTSTART:20241103T060000
END:STANDARD
BEGIN:DAYLIGHT
TZOFFSETFROM:-0500
TZOFFSETTO:-0400
TZNAME:EDT
DTSTART:20250309T070000
END:DAYLIGHT
BEGIN:STANDARD
TZOFFSETFROM:-0400
TZOFFSETTO:-0500
TZNAME:EST
DTSTART:20251102T060000
END:STANDARD
END:VTIMEZONE
BEGIN:VEVENT
DTSTART;TZID=America/New_York:20241020T100000
DTEND;TZID=America/New_York:20241020T110000
DTSTAMP:20260420T050423
CREATED:20241007T170644Z
LAST-MODIFIED:20241007T171216Z
UID:10007263-1729418400-1729422000@uufcc.com
SUMMARY:Sunday Service - "Radical Hospitality"
DESCRIPTION:with Rev. Tracy Sprowls\nHow do we create the biggest and widest circle of inclusivity? How do we welcome all when we feel unsafe or unsure? Does radical hospitality encourage and support belonging or can it still leave some out? On October 20\, we will celebrate our animal companions with our annual animal blessing. For this service\, people are welcome to bring well-behaved animals either leashed or secured in a carrier. We also encourage pictures of animals (alive or deceased) and stuffed lovies too. If you are uncomfortable with animals\, please join us on zoom!
URL:https://uufcc.com/event/sunday-service-radical-hospitality/
LOCATION:UUFCC – Sanctuary\, 780 Waupelani Drive\, State College\, PA\, 16801\, United States
CATEGORIES:Sunday Worship Service,Worship Service
ATTACH;FMTTYPE=image/png:https://uufcc.com/wp-content/uploads/2024/10/Oct-20-Animal-Blessing.png
ORGANIZER;CN="Unitarian Universalist Fellowship of Centre County":MAILTO:office@uufcc.com
END:VEVENT
BEGIN:VEVENT
DTSTART;TZID=America/New_York:20241023T190000
DTEND;TZID=America/New_York:20241023T200000
DTSTAMP:20260420T050423
CREATED:20241016T162031Z
LAST-MODIFIED:20241016T162112Z
UID:10004028-1729710000-1729713600@uufcc.com
SUMMARY:Soulful Sundown - "Caedmon's Hymn"
DESCRIPTION:…with Chas Brua.\nIf the legend is to be believed\, the oldest poem in English was written by an illiterate cowherd who became a poet overnight after an inspiring dream. In this service\, we’ll explore our own untapped gifts.
URL:https://uufcc.com/event/soulful-sundown-24/
LOCATION:PA
CATEGORIES:Soulful Sundown,Worship Service
ATTACH;FMTTYPE=image/png:https://uufcc.com/wp-content/uploads/2023/09/Soulful-Sundown-square.png
END:VEVENT
END:VCALENDAR