BEGIN:VCALENDAR
VERSION:2.0
PRODID:-//UUFCC - ECPv6.15.17//NONSGML v1.0//EN
CALSCALE:GREGORIAN
METHOD:PUBLISH
X-ORIGINAL-URL:https://uufcc.com
X-WR-CALDESC:Events for UUFCC
REFRESH-INTERVAL;VALUE=DURATION:PT1H
X-Robots-Tag:noindex
X-PUBLISHED-TTL:PT1H
BEGIN:VTIMEZONE
TZID:America/New_York
BEGIN:DAYLIGHT
TZOFFSETFROM:-0500
TZOFFSETTO:-0400
TZNAME:EDT
DTSTART:20240310T070000
END:DAYLIGHT
BEGIN:STANDARD
TZOFFSETFROM:-0400
TZOFFSETTO:-0500
TZNAME:EST
DTSTART:20241103T060000
END:STANDARD
BEGIN:DAYLIGHT
TZOFFSETFROM:-0500
TZOFFSETTO:-0400
TZNAME:EDT
DTSTART:20250309T070000
END:DAYLIGHT
BEGIN:STANDARD
TZOFFSETFROM:-0400
TZOFFSETTO:-0500
TZNAME:EST
DTSTART:20251102T060000
END:STANDARD
BEGIN:DAYLIGHT
TZOFFSETFROM:-0500
TZOFFSETTO:-0400
TZNAME:EDT
DTSTART:20260308T070000
END:DAYLIGHT
BEGIN:STANDARD
TZOFFSETFROM:-0400
TZOFFSETTO:-0500
TZNAME:EST
DTSTART:20261101T060000
END:STANDARD
END:VTIMEZONE
BEGIN:VEVENT
DTSTART;TZID=America/New_York:20251214T100000
DTEND;TZID=America/New_York:20251214T110000
DTSTAMP:20260420T162627
CREATED:20251202T163159Z
LAST-MODIFIED:20251211T191624Z
UID:10010003-1765706400-1765710000@uufcc.com
SUMMARY:Sunday Service - "A Season of Expectations"
DESCRIPTION:…with Rev. Tracy Sprowls. Music: UUFCC Choir & Kids\, Kadri\, and Ji.\nThis morning we explore Hanukkah and Christmas as they relate to expectations and hope- of the holidays\, ourselves\, each other\, and our future.
URL:https://uufcc.com/event/sunday-service-42/
LOCATION:UUFCC – Sanctuary\, 780 Waupelani Drive\, State College\, PA\, 16801\, United States
CATEGORIES:Sunday Worship Service,Worship Service
ATTACH;FMTTYPE=image/jpeg:https://uufcc.com/wp-content/uploads/2025/12/Dec-14-Expectations.jpg
ORGANIZER;CN="Unitarian Universalist Fellowship of Centre County":MAILTO:office@uufcc.com
END:VEVENT
BEGIN:VEVENT
DTSTART;TZID=America/New_York:20251214T113000
DTEND;TZID=America/New_York:20251214T130000
DTSTAMP:20260420T162627
CREATED:20251006T141205Z
LAST-MODIFIED:20251006T141205Z
UID:10012180-1765711800-1765717200@uufcc.com
SUMMARY:Addressing the Affordable Housing Crisis
DESCRIPTION:Everyone in State College deserves a safe\, affordable place to call home\, raise their families and live a vibrant\, dignified\, and full life. But outdated zoning rules that block many types of affordable housing are fueling a crisis that’s squeezing hardworking residents.
URL:https://uufcc.com/event/addressing-the-affordable-housing-crisis/
LOCATION:UUFCC – Room 6\, 780 Waupelani Drive\, State College\, PA\, 16801\, United States
CATEGORIES:Adult RE,Lifespan Religious Exploration
ORGANIZER;CN="Unitarian Universalist Fellowship of Centre County":MAILTO:office@uufcc.com
END:VEVENT
END:VCALENDAR