BEGIN:VCALENDAR
VERSION:2.0
PRODID:-//UUFCC - ECPv6.15.17//NONSGML v1.0//EN
CALSCALE:GREGORIAN
METHOD:PUBLISH
X-WR-CALNAME:UUFCC
X-ORIGINAL-URL:https://uufcc.com
X-WR-CALDESC:Events for UUFCC
REFRESH-INTERVAL;VALUE=DURATION:PT1H
X-Robots-Tag:noindex
X-PUBLISHED-TTL:PT1H
BEGIN:VTIMEZONE
TZID:America/New_York
BEGIN:DAYLIGHT
TZOFFSETFROM:-0500
TZOFFSETTO:-0400
TZNAME:EDT
DTSTART:20240310T070000
END:DAYLIGHT
BEGIN:STANDARD
TZOFFSETFROM:-0400
TZOFFSETTO:-0500
TZNAME:EST
DTSTART:20241103T060000
END:STANDARD
BEGIN:DAYLIGHT
TZOFFSETFROM:-0500
TZOFFSETTO:-0400
TZNAME:EDT
DTSTART:20250309T070000
END:DAYLIGHT
BEGIN:STANDARD
TZOFFSETFROM:-0400
TZOFFSETTO:-0500
TZNAME:EST
DTSTART:20251102T060000
END:STANDARD
BEGIN:DAYLIGHT
TZOFFSETFROM:-0500
TZOFFSETTO:-0400
TZNAME:EDT
DTSTART:20260308T070000
END:DAYLIGHT
BEGIN:STANDARD
TZOFFSETFROM:-0400
TZOFFSETTO:-0500
TZNAME:EST
DTSTART:20261101T060000
END:STANDARD
END:VTIMEZONE
BEGIN:VEVENT
DTSTART;TZID=America/New_York:20251026T100000
DTEND;TZID=America/New_York:20251026T110000
DTSTAMP:20260421T180633
CREATED:20251001T174350Z
LAST-MODIFIED:20251001T181946Z
UID:10009996-1761472800-1761476400@uufcc.com
SUMMARY:Sunday Service - "Cultivating Compassion"
DESCRIPTION:With Rev. Tracy Sprowls. \nCompassion means “to suffer together.” Researchers define compassion “as the feeling that arises when you are confronted with another’s suffering and feel motivated to relieve that suffering.” Where does compassion fit into the work of the fellowship?
URL:https://uufcc.com/event/sunday-service-35/
LOCATION:UUFCC – Sanctuary\, 780 Waupelani Drive\, State College\, PA\, 16801\, United States
CATEGORIES:Sunday Worship Service,Worship Service
ATTACH;FMTTYPE=image/jpeg:https://uufcc.com/wp-content/uploads/2025/10/Cultivating-Compassion-Oct-26.jpg
ORGANIZER;CN="Unitarian Universalist Fellowship of Centre County":MAILTO:office@uufcc.com
END:VEVENT
BEGIN:VEVENT
DTSTART;TZID=America/New_York:20251026T110000
DTEND;TZID=America/New_York:20251026T133000
DTSTAMP:20260421T180633
CREATED:20250820T164303Z
LAST-MODIFIED:20251003T182929Z
UID:10010476-1761476400-1761485400@uufcc.com
SUMMARY:Chili Cookoff & Halloween
DESCRIPTION:Our annual Chili Cook-off happens in tandem with the RE Halloween fest. Join us for fun artsy Halloween-themed activities for all ages. Bring your tummy empty for the chili buffet\, and an empty muffin tray to taste all the chilis! Donations are appreciated! Want to submit your own chili and win Best Meat or Best Vegetarian? Bring it in a crockpot before the service so it can keep warm. Sign up here.
URL:https://uufcc.com/event/chili-cookoff-halloween/
LOCATION:Unitarian Universalist Fellowship of Centre County\, 780 Waupelani Drive\, State College\, PA\, 16801\, United States
CATEGORIES:Intergenerational RE,Lifespan Religious Exploration
ATTACH;FMTTYPE=image/png:https://uufcc.com/wp-content/uploads/2025/08/Chili-Cook-off-flyer-2025.png
END:VEVENT
BEGIN:VEVENT
DTSTART;TZID=America/New_York:20251026T130000
DTEND;TZID=America/New_York:20251026T150000
DTSTAMP:20260421T180633
CREATED:20251008T182447Z
LAST-MODIFIED:20251008T182613Z
UID:10012191-1761483600-1761490800@uufcc.com
SUMMARY:Community Event: Equal Rights Equal Care Rally
DESCRIPTION:For the first time in over a decade\, LGBTQIA+ Communities & Allies unite to march on Harrisburg to demand the protection of our rights and healthcare! The March begins to the Capitol Building in Harrisburg at 1pm. The Rally continues at the Capitol Steps at 2pm. \nSign up to receive updates: www.linktr.ee/ERECPA
URL:https://uufcc.com/event/community-event-equal-rights-equal-care-rally/
LOCATION:Harrisburg Capitol Building\, 501 N 3rd St\, Harrisburg\, PA\, 17120\, United States
CATEGORIES:Community Event
ATTACH;FMTTYPE=image/jpeg:https://uufcc.com/wp-content/uploads/2025/10/Screenshot-2025-10-08-at-2.25.54-PM.jpg
END:VEVENT
END:VCALENDAR