BEGIN:VCALENDAR
VERSION:2.0
PRODID:-//UUFCC - ECPv6.15.17//NONSGML v1.0//EN
CALSCALE:GREGORIAN
METHOD:PUBLISH
X-ORIGINAL-URL:https://uufcc.com
X-WR-CALDESC:Events for UUFCC
REFRESH-INTERVAL;VALUE=DURATION:PT1H
X-Robots-Tag:noindex
X-PUBLISHED-TTL:PT1H
BEGIN:VTIMEZONE
TZID:America/New_York
BEGIN:DAYLIGHT
TZOFFSETFROM:-0500
TZOFFSETTO:-0400
TZNAME:EDT
DTSTART:20240310T070000
END:DAYLIGHT
BEGIN:STANDARD
TZOFFSETFROM:-0400
TZOFFSETTO:-0500
TZNAME:EST
DTSTART:20241103T060000
END:STANDARD
BEGIN:DAYLIGHT
TZOFFSETFROM:-0500
TZOFFSETTO:-0400
TZNAME:EDT
DTSTART:20250309T070000
END:DAYLIGHT
BEGIN:STANDARD
TZOFFSETFROM:-0400
TZOFFSETTO:-0500
TZNAME:EST
DTSTART:20251102T060000
END:STANDARD
BEGIN:DAYLIGHT
TZOFFSETFROM:-0500
TZOFFSETTO:-0400
TZNAME:EDT
DTSTART:20260308T070000
END:DAYLIGHT
BEGIN:STANDARD
TZOFFSETFROM:-0400
TZOFFSETTO:-0500
TZNAME:EST
DTSTART:20261101T060000
END:STANDARD
END:VTIMEZONE
BEGIN:VEVENT
DTSTART;TZID=America/New_York:20251116T100000
DTEND;TZID=America/New_York:20251116T110000
DTSTAMP:20260420T083847
CREATED:20251029T165027Z
LAST-MODIFIED:20251112T164655Z
UID:10009999-1763287200-1763290800@uufcc.com
SUMMARY:Sunday Service - "Immigration and ICE"
DESCRIPTION:…with the Justice Committee.\nThe immigrants who are part of the State College community are disappearing\, just like that. How is this impacting them and their families? How can we help?
URL:https://uufcc.com/event/sunday-service-38/
LOCATION:UUFCC – Sanctuary\, 780 Waupelani Drive\, State College\, PA\, 16801\, United States
CATEGORIES:Sunday Worship Service,Worship Service
ATTACH;FMTTYPE=image/jpeg:https://uufcc.com/wp-content/uploads/2025/10/immigration-service.jpg
ORGANIZER;CN="Unitarian Universalist Fellowship of Centre County":MAILTO:office@uufcc.com
END:VEVENT
BEGIN:VEVENT
DTSTART;TZID=America/New_York:20251122T150000
DTEND;TZID=America/New_York:20251122T170000
DTSTAMP:20260420T083847
CREATED:20251009T164752Z
LAST-MODIFIED:20251114T195946Z
UID:10012219-1763823600-1763830800@uufcc.com
SUMMARY:Young Artist's Concert Series: Anh Nguyen\, piano
DESCRIPTION:Sponsored by the UUFCC Music Committee. \nAnh Nguyen is a young artist currently preparing for music school applications. Her program will include a Bach toccata\, Beethoven sonata\, and Chopin’s famous Bb- minor sonata.
URL:https://uufcc.com/event/young-artists-concert-series-anh-nguyen-piano/
LOCATION:UUFCC – Sanctuary\, 780 Waupelani Drive\, State College\, PA\, 16801\, United States
CATEGORIES:Music
ATTACH;FMTTYPE=image/png:https://uufcc.com/wp-content/uploads/2025/10/Anh-Nguyen-Concert-Poster.png
ORGANIZER;CN="Unitarian Universalist Fellowship of Centre County":MAILTO:office@uufcc.com
END:VEVENT
END:VCALENDAR