BEGIN:VCALENDAR
VERSION:2.0
PRODID:-//UUFCC - ECPv6.15.17//NONSGML v1.0//EN
CALSCALE:GREGORIAN
METHOD:PUBLISH
X-WR-CALNAME:UUFCC
X-ORIGINAL-URL:https://uufcc.com
X-WR-CALDESC:Events for UUFCC
REFRESH-INTERVAL;VALUE=DURATION:PT1H
X-Robots-Tag:noindex
X-PUBLISHED-TTL:PT1H
BEGIN:VTIMEZONE
TZID:America/New_York
BEGIN:DAYLIGHT
TZOFFSETFROM:-0500
TZOFFSETTO:-0400
TZNAME:EDT
DTSTART:20240310T070000
END:DAYLIGHT
BEGIN:STANDARD
TZOFFSETFROM:-0400
TZOFFSETTO:-0500
TZNAME:EST
DTSTART:20241103T060000
END:STANDARD
BEGIN:DAYLIGHT
TZOFFSETFROM:-0500
TZOFFSETTO:-0400
TZNAME:EDT
DTSTART:20250309T070000
END:DAYLIGHT
BEGIN:STANDARD
TZOFFSETFROM:-0400
TZOFFSETTO:-0500
TZNAME:EST
DTSTART:20251102T060000
END:STANDARD
BEGIN:DAYLIGHT
TZOFFSETFROM:-0500
TZOFFSETTO:-0400
TZNAME:EDT
DTSTART:20260308T070000
END:DAYLIGHT
BEGIN:STANDARD
TZOFFSETFROM:-0400
TZOFFSETTO:-0500
TZNAME:EST
DTSTART:20261101T060000
END:STANDARD
END:VTIMEZONE
BEGIN:VEVENT
DTSTART;TZID=America/New_York:20251130T100000
DTEND;TZID=America/New_York:20251130T110000
DTSTAMP:20260421T010021
CREATED:20251029T170841Z
LAST-MODIFIED:20251029T171109Z
UID:10010001-1764496800-1764500400@uufcc.com
SUMMARY:Sunday Service - What is Normal\, Anyway?
DESCRIPTION:with Rev. Tracy Sprowls.\nWe explore what is normal for our lives and for the nation. We’ll look at what normal means- is there a “normal” or is that just a setting on the dryer? Also\, we keep hearing the term “normalizing” in the news. What does that look like in today’s context?
URL:https://uufcc.com/event/sunday-service-40/
LOCATION:UUFCC – Sanctuary\, 780 Waupelani Drive\, State College\, PA\, 16801\, United States
CATEGORIES:Sunday Worship Service,Worship Service
ATTACH;FMTTYPE=image/jpeg:https://uufcc.com/wp-content/uploads/2025/10/Nov-30-Normal.jpg
ORGANIZER;CN="Unitarian Universalist Fellowship of Centre County":MAILTO:office@uufcc.com
END:VEVENT
BEGIN:VEVENT
DTSTART;TZID=America/New_York:20251203T190000
DTEND;TZID=America/New_York:20251203T200000
DTSTAMP:20260421T010021
CREATED:20251119T192137Z
LAST-MODIFIED:20251119T192222Z
UID:10012311-1764788400-1764792000@uufcc.com
SUMMARY:Soulful Sundown - "Joy"
DESCRIPTION:…with Nancy Decker.\nWhat is joy? What elicits a feeling of joy for you? How might you find joy in the face of life’s inevitable suffering?
URL:https://uufcc.com/event/soulful-sundown-52/
LOCATION:PA
CATEGORIES:Soulful Sundown,Worship Service
ATTACH;FMTTYPE=image/png:https://uufcc.com/wp-content/uploads/2023/09/Soulful-Sundown-square.png
END:VEVENT
BEGIN:VEVENT
DTSTART;TZID=America/New_York:20251206T160000
DTEND;TZID=America/New_York:20251206T200000
DTSTAMP:20260421T010021
CREATED:20251118T163924Z
LAST-MODIFIED:20251118T163956Z
UID:10012295-1765036800-1765051200@uufcc.com
SUMMARY:Tree Cutting and Pizza
DESCRIPTION:Meet at UUFCC to then caravan to a tree farm for the kids to pick out a tree and set it up in the sanctuary! Followed by pizza and fellowship.
URL:https://uufcc.com/event/tree-cutting-and-pizza/
LOCATION:Unitarian Universalist Fellowship of Centre County\, 780 Waupelani Drive\, State College\, PA\, 16801\, United States
CATEGORIES:Intergenerational RE,Lifespan Religious Exploration
END:VEVENT
END:VCALENDAR