BEGIN:VCALENDAR
VERSION:2.0
PRODID:-//UUFCC - ECPv6.15.17//NONSGML v1.0//EN
CALSCALE:GREGORIAN
METHOD:PUBLISH
X-ORIGINAL-URL:https://uufcc.com
X-WR-CALDESC:Events for UUFCC
REFRESH-INTERVAL;VALUE=DURATION:PT1H
X-Robots-Tag:noindex
X-PUBLISHED-TTL:PT1H
BEGIN:VTIMEZONE
TZID:America/New_York
BEGIN:DAYLIGHT
TZOFFSETFROM:-0500
TZOFFSETTO:-0400
TZNAME:EDT
DTSTART:20240310T070000
END:DAYLIGHT
BEGIN:STANDARD
TZOFFSETFROM:-0400
TZOFFSETTO:-0500
TZNAME:EST
DTSTART:20241103T060000
END:STANDARD
BEGIN:DAYLIGHT
TZOFFSETFROM:-0500
TZOFFSETTO:-0400
TZNAME:EDT
DTSTART:20250309T070000
END:DAYLIGHT
BEGIN:STANDARD
TZOFFSETFROM:-0400
TZOFFSETTO:-0500
TZNAME:EST
DTSTART:20251102T060000
END:STANDARD
BEGIN:DAYLIGHT
TZOFFSETFROM:-0500
TZOFFSETTO:-0400
TZNAME:EDT
DTSTART:20260308T070000
END:DAYLIGHT
BEGIN:STANDARD
TZOFFSETFROM:-0400
TZOFFSETTO:-0500
TZNAME:EST
DTSTART:20261101T060000
END:STANDARD
END:VTIMEZONE
BEGIN:VEVENT
DTSTART;TZID=America/New_York:20251207T100000
DTEND;TZID=America/New_York:20251207T110000
DTSTAMP:20260420T230910
CREATED:20251202T163155Z
LAST-MODIFIED:20251202T165430Z
UID:10010002-1765101600-1765105200@uufcc.com
SUMMARY:Sunday Service - "Choosing Hope- A Blue Sunday Service"
DESCRIPTION:…with Rev. Tracy Sprowls.\nThis service is designed to hold a space for all of those who are less than cheerful this holiday season. We will have guest music with Jennifer Blackburn Miller and Eric Ian Farmer.
URL:https://uufcc.com/event/sunday-service-41/
LOCATION:UUFCC – Sanctuary\, 780 Waupelani Drive\, State College\, PA\, 16801\, United States
CATEGORIES:Sunday Worship Service,Worship Service
ATTACH;FMTTYPE=image/jpeg:https://uufcc.com/wp-content/uploads/2025/12/Dec-Blue-Sunday-Choosing-Hope.jpg
ORGANIZER;CN="Unitarian Universalist Fellowship of Centre County":MAILTO:office@uufcc.com
END:VEVENT
BEGIN:VEVENT
DTSTART;TZID=America/New_York:20251207T110000
DTEND;TZID=America/New_York:20251207T130000
DTSTAMP:20260420T230910
CREATED:20250715T175337Z
LAST-MODIFIED:20251125T185433Z
UID:10010115-1765105200-1765112400@uufcc.com
SUMMARY:UUFCC Holiday Party
DESCRIPTION:This year we are going to decorate the Fellowship as a congregation\, and trim the tree!\nAs usual we will have fun seasonal games\, crafts\, and cookie decorating in the Community Room. We welcome everyone to lend a helping hand to Deck the Halls! The choir will be singing Christmas carols.\nPlease sign up here to bring a savory/sweet treat and to help with the party. See the flier here.
URL:https://uufcc.com/event/uufcc-holiday-party/
LOCATION:Unitarian Universalist Fellowship of Centre County\, 780 Waupelani Drive\, State College\, PA\, 16801\, United States
CATEGORIES:Event
ATTACH;FMTTYPE=image/png:https://uufcc.com/wp-content/uploads/2025/07/deck-the-halls.png
END:VEVENT
END:VCALENDAR