BEGIN:VCALENDAR
VERSION:2.0
PRODID:-//UUFCC - ECPv6.15.17//NONSGML v1.0//EN
CALSCALE:GREGORIAN
METHOD:PUBLISH
X-ORIGINAL-URL:https://uufcc.com
X-WR-CALDESC:Events for UUFCC
REFRESH-INTERVAL;VALUE=DURATION:PT1H
X-Robots-Tag:noindex
X-PUBLISHED-TTL:PT1H
BEGIN:VTIMEZONE
TZID:America/New_York
BEGIN:DAYLIGHT
TZOFFSETFROM:-0500
TZOFFSETTO:-0400
TZNAME:EDT
DTSTART:20240310T070000
END:DAYLIGHT
BEGIN:STANDARD
TZOFFSETFROM:-0400
TZOFFSETTO:-0500
TZNAME:EST
DTSTART:20241103T060000
END:STANDARD
BEGIN:DAYLIGHT
TZOFFSETFROM:-0500
TZOFFSETTO:-0400
TZNAME:EDT
DTSTART:20250309T070000
END:DAYLIGHT
BEGIN:STANDARD
TZOFFSETFROM:-0400
TZOFFSETTO:-0500
TZNAME:EST
DTSTART:20251102T060000
END:STANDARD
BEGIN:DAYLIGHT
TZOFFSETFROM:-0500
TZOFFSETTO:-0400
TZNAME:EDT
DTSTART:20260308T070000
END:DAYLIGHT
BEGIN:STANDARD
TZOFFSETFROM:-0400
TZOFFSETTO:-0500
TZNAME:EST
DTSTART:20261101T060000
END:STANDARD
END:VTIMEZONE
BEGIN:VEVENT
DTSTART;TZID=America/New_York:20251221T100000
DTEND;TZID=America/New_York:20251221T110000
DTSTAMP:20260422T223144
CREATED:20251202T163205Z
LAST-MODIFIED:20251217T161301Z
UID:10010004-1766311200-1766314800@uufcc.com
SUMMARY:Multigenerational Sunday Service - The Light of Life
DESCRIPTION:…with Rev. Tracy Sprowls and Ashley Hamlin\, DLRE. Music: UUFCC Choir & Kids\, Kadri\, and Ji.\nJoin us for our annual holiday play that brings to life the different holidays of the season.
URL:https://uufcc.com/event/sunday-service-43/
LOCATION:UUFCC – Sanctuary\, 780 Waupelani Drive\, State College\, PA\, 16801\, United States
CATEGORIES:Sunday Worship Service,Worship Service
ATTACH;FMTTYPE=image/jpeg:https://uufcc.com/wp-content/uploads/2025/12/Dec-21-Holiday-Play-Light-of-Life.jpg
ORGANIZER;CN="Unitarian Universalist Fellowship of Centre County":MAILTO:office@uufcc.com
END:VEVENT
BEGIN:VEVENT
DTSTART;TZID=America/New_York:20251221T113000
DTEND;TZID=America/New_York:20251221T130000
DTSTAMP:20260422T223144
CREATED:20251111T171522Z
LAST-MODIFIED:20251220T201700Z
UID:10012285-1766316600-1766322000@uufcc.com
SUMMARY:D.E.A.L. Book Club: Subtle Acts of Exclusion
DESCRIPTION:Many have heard the term microaggression\, but not everyone fully understands what they are or how to recognize them and stop them from happening. Jana and Baran give simple and clear tools to identify and address such acts\, offering scripts and action plans for everybody involved. \nThis group is open to all folks who would like to join! Even if you are unable to or haven’t read the book\, but would like to join the conversation\, we welcome you. \nSee the flyer here.
URL:https://uufcc.com/event/d-e-a-l-book-club-subtle-acts-of-exclusion/
LOCATION:UUFCC – Room 6\, 780 Waupelani Drive\, State College\, PA\, 16801\, United States
CATEGORIES:Adult RE,Lifespan Religious Exploration
END:VEVENT
BEGIN:VEVENT
DTSTART;TZID=America/New_York:20251224T180000
DTEND;TZID=America/New_York:20251224T200000
DTSTAMP:20260422T223144
CREATED:20250715T175626Z
LAST-MODIFIED:20251217T183143Z
UID:10010117-1766599200-1766606400@uufcc.com
SUMMARY:Christmas Eve Candlelight Service
DESCRIPTION:Our annual intergenerational Christmas Eve and Candlelight service with carols\, story\, poetry\, and the joy of the season.
URL:https://uufcc.com/event/christmas-eve-service-2025/
LOCATION:Unitarian Universalist Fellowship of Centre County\, 780 Waupelani Drive\, State College\, PA\, 16801\, United States
CATEGORIES:Holiday Service,Worship Service
ATTACH;FMTTYPE=image/jpeg:https://uufcc.com/wp-content/uploads/2025/07/Xmas-Eve.jpg
END:VEVENT
END:VCALENDAR