BEGIN:VCALENDAR
VERSION:2.0
PRODID:-//UUFCC - ECPv6.15.17//NONSGML v1.0//EN
CALSCALE:GREGORIAN
METHOD:PUBLISH
X-ORIGINAL-URL:https://uufcc.com
X-WR-CALDESC:Events for UUFCC
REFRESH-INTERVAL;VALUE=DURATION:PT1H
X-Robots-Tag:noindex
X-PUBLISHED-TTL:PT1H
BEGIN:VTIMEZONE
TZID:America/New_York
BEGIN:DAYLIGHT
TZOFFSETFROM:-0500
TZOFFSETTO:-0400
TZNAME:EDT
DTSTART:20250309T070000
END:DAYLIGHT
BEGIN:STANDARD
TZOFFSETFROM:-0400
TZOFFSETTO:-0500
TZNAME:EST
DTSTART:20251102T060000
END:STANDARD
BEGIN:DAYLIGHT
TZOFFSETFROM:-0500
TZOFFSETTO:-0400
TZNAME:EDT
DTSTART:20260308T070000
END:DAYLIGHT
BEGIN:STANDARD
TZOFFSETFROM:-0400
TZOFFSETTO:-0500
TZNAME:EST
DTSTART:20261101T060000
END:STANDARD
BEGIN:DAYLIGHT
TZOFFSETFROM:-0500
TZOFFSETTO:-0400
TZNAME:EDT
DTSTART:20270314T070000
END:DAYLIGHT
BEGIN:STANDARD
TZOFFSETFROM:-0400
TZOFFSETTO:-0500
TZNAME:EST
DTSTART:20271107T060000
END:STANDARD
END:VTIMEZONE
BEGIN:VEVENT
DTSTART;TZID=America/New_York:20260422T153000
DTEND;TZID=America/New_York:20260422T180000
DTSTAMP:20260420T081304
CREATED:20250412T183626Z
LAST-MODIFIED:20250412T183644Z
UID:10008552-1776871800-1776880800@uufcc.com
SUMMARY:Folk Dancers
DESCRIPTION:Please join this group of folks passionate about dancing to international folk music. Explore different cultures through music and dance.
URL:https://uufcc.com/event/folk-dancers-2/2026-04-22/
LOCATION:UUFCC – Community Room\, 780 Waupelani Drive\, State College\, PA\, 16801\, United States
CATEGORIES:Meeting
ORGANIZER;CN="Unitarian Universalist Fellowship of Centre County":MAILTO:office@uufcc.com
END:VEVENT
BEGIN:VEVENT
DTSTART;TZID=America/New_York:20260422T180000
DTEND;TZID=America/New_York:20260422T210000
DTSTAMP:20260420T081304
CREATED:20231105T152820Z
LAST-MODIFIED:20240313T161106Z
UID:10002447-1776880800-1776891600@uufcc.com
SUMMARY:Game Nights
DESCRIPTION:
URL:https://uufcc.com/event/game-nights/2026-04-22/
LOCATION:UUFCC – Fellowship Hall\, 780 Waupelani Drive\, State College\, PA\, 16801\, United States
CATEGORIES:Meeting
END:VEVENT
BEGIN:VEVENT
DTSTART;TZID=America/New_York:20260423T183000
DTEND;TZID=America/New_York:20260423T193000
DTSTAMP:20260420T081304
CREATED:20240718T162311Z
LAST-MODIFIED:20240718T162311Z
UID:10006575-1776969000-1776972600@uufcc.com
SUMMARY:AA Meeting for Women
DESCRIPTION:Alcoholics Anonymous (AA) meeting. Open to any woman to walk in.
URL:https://uufcc.com/event/aa-meeting-for-women/2026-04-23/
LOCATION:UUFCC – Room A\, 780 Waupelani Drive\, State College\, PA\, 16801\, United States
END:VEVENT
BEGIN:VEVENT
DTSTART;TZID=America/New_York:20260424T153000
DTEND;TZID=America/New_York:20260424T180000
DTSTAMP:20260420T081304
CREATED:20250412T183626Z
LAST-MODIFIED:20250412T183644Z
UID:10008553-1777044600-1777053600@uufcc.com
SUMMARY:Folk Dancers
DESCRIPTION:Please join this group of folks passionate about dancing to international folk music. Explore different cultures through music and dance.
URL:https://uufcc.com/event/folk-dancers-2/2026-04-24/
LOCATION:UUFCC – Community Room\, 780 Waupelani Drive\, State College\, PA\, 16801\, United States
CATEGORIES:Meeting
ORGANIZER;CN="Unitarian Universalist Fellowship of Centre County":MAILTO:office@uufcc.com
END:VEVENT
BEGIN:VEVENT
DTSTART;TZID=America/New_York:20260426T100000
DTEND;TZID=America/New_York:20260426T110000
DTSTAMP:20260420T081304
CREATED:20250924T193017Z
LAST-MODIFIED:20250924T193018Z
UID:10010823-1777197600-1777201200@uufcc.com
SUMMARY:RE: 1st-5th Grade
DESCRIPTION:1st through 5th grade kids are learning our values through the monthly congregational themes\, and have a bi-monthly social justice book project and activity. \nIn services led by Rev. Tracy Sprowls\, children remain in the Sanctuary until the Wisdom Lesson\, then go downstairs to class. In multigenerational services\, they stay for the entire service.
URL:https://uufcc.com/event/re-1st-5th-grade-4/2026-04-26/
LOCATION:UUFCC – Sanctuary first\, then Gathering Space
CATEGORIES:Lifespan Religious Exploration,RE Kids & Youth,Young Kids
ORGANIZER;CN="Unitarian Universalist Fellowship of Centre County":MAILTO:office@uufcc.com
END:VEVENT
BEGIN:VEVENT
DTSTART;TZID=America/New_York:20260426T100000
DTEND;TZID=America/New_York:20260426T110000
DTSTAMP:20260420T081304
CREATED:20260120T193158Z
LAST-MODIFIED:20260120T193201Z
UID:10010562-1777197600-1777201200@uufcc.com
SUMMARY:RE: Pre-K & K
DESCRIPTION:Each week our kids gather to explore our world in light of our UU values. Pre-K/K friends will engage in guided exploration of various topics with their wonderful teachers\, Sue Smith and Rocky Landers\, downstairs in Room D.
URL:https://uufcc.com/event/re-pre-k-k-10/2026-04-26/
LOCATION:UUFCC – Gathering Space and Room D\, 780 Waupelani Drive\, State College\, PA\, 16801\, United States
CATEGORIES:Lifespan Religious Exploration,RE Kids & Youth,Young Kids
ORGANIZER;CN="Unitarian Universalist Fellowship of Centre County":MAILTO:office@uufcc.com
END:VEVENT
BEGIN:VEVENT
DTSTART;TZID=America/New_York:20260426T113000
DTEND;TZID=America/New_York:20260426T124500
DTSTAMP:20260420T081304
CREATED:20241220T180130Z
LAST-MODIFIED:20250918T164235Z
UID:10011681-1777203000-1777207500@uufcc.com
SUMMARY:UUFCC Resilience and Acceptance Discussion Group
DESCRIPTION:The participants of the UUFCC Resilience and Acceptance in the Face of Collapse course (which met from October 2023-February 2024) would like to invite UUFCC members and others to participate in the UUFCC Resilience and Acceptance Discussion Group. \nThe purpose of this group is to create a safe and stimulating space for exploring resilience and acceptance in the face of the collapse of modern civilization and for supporting each other in making changes in our lives and communities to lessen the impact of collapse. “Resilience” includes both the capacity within each of us to allow and stay with difficult emotions while also remaining grounded\, as well as the actions we take with other people to meet challenges in our communities. “Collapse\nacceptance” means acknowledging that the collapse of modern industrial civilization is real and already happening and recognizing our inability to stop it. We don’t know if it will lead to the extinction of humans\, but it will bring about “The End Of The World As We Know It.” Collapse acceptance involves embracing what is coming to an end\, living fully in this present moment\, and co-creating a new way of being\, relating\, organizing\, and responding (acting) in these times. \nIf you are interested in participating in our discussions\, please join us on the fourth Sunday of every month in Room B.
URL:https://uufcc.com/event/uufcc-resilience-and-acceptance-discussion-group-2-2-2/2026-04-26/
LOCATION:UUFCC – Room B\, 780 Waupelani Drive\, State College\, PA\, 16801\, United States
CATEGORIES:Adult RE,Lifespan Religious Exploration
ATTACH;FMTTYPE=image/png:https://uufcc.com/wp-content/uploads/2024/01/Resilience-and-Acceptance-in-the-Face-of-Collapse.png
ORGANIZER;CN="Unitarian Universalist Fellowship of Centre County":MAILTO:office@uufcc.com
END:VEVENT
BEGIN:VEVENT
DTSTART;TZID=America/New_York:20260426T113000
DTEND;TZID=America/New_York:20260426T130000
DTSTAMP:20260420T081304
CREATED:20250927T163031Z
LAST-MODIFIED:20250927T163033Z
UID:10011775-1777203000-1777208400@uufcc.com
SUMMARY:Music & Play
DESCRIPTION:For elementary ages\, led by Karen Maynard.
URL:https://uufcc.com/event/music-play-2-2/2026-04-26/
LOCATION:UUFCC – Room B\, 780 Waupelani Drive\, State College\, PA\, 16801\, United States
CATEGORIES:Lifespan Religious Exploration,Young Kids
ORGANIZER;CN="Unitarian Universalist Fellowship of Centre County":MAILTO:office@uufcc.com
END:VEVENT
BEGIN:VEVENT
DTSTART;TZID=America/New_York:20260429T153000
DTEND;TZID=America/New_York:20260429T180000
DTSTAMP:20260420T081304
CREATED:20250412T183626Z
LAST-MODIFIED:20250412T183644Z
UID:10008554-1777476600-1777485600@uufcc.com
SUMMARY:Folk Dancers
DESCRIPTION:Please join this group of folks passionate about dancing to international folk music. Explore different cultures through music and dance.
URL:https://uufcc.com/event/folk-dancers-2/2026-04-29/
LOCATION:UUFCC – Community Room\, 780 Waupelani Drive\, State College\, PA\, 16801\, United States
CATEGORIES:Meeting
ORGANIZER;CN="Unitarian Universalist Fellowship of Centre County":MAILTO:office@uufcc.com
END:VEVENT
BEGIN:VEVENT
DTSTART;TZID=America/New_York:20260429T180000
DTEND;TZID=America/New_York:20260429T210000
DTSTAMP:20260420T081304
CREATED:20231105T152820Z
LAST-MODIFIED:20240313T161106Z
UID:10002448-1777485600-1777496400@uufcc.com
SUMMARY:Game Nights
DESCRIPTION:
URL:https://uufcc.com/event/game-nights/2026-04-29/
LOCATION:UUFCC – Fellowship Hall\, 780 Waupelani Drive\, State College\, PA\, 16801\, United States
CATEGORIES:Meeting
END:VEVENT
BEGIN:VEVENT
DTSTART;TZID=America/New_York:20260430T183000
DTEND;TZID=America/New_York:20260430T193000
DTSTAMP:20260420T081304
CREATED:20240718T162311Z
LAST-MODIFIED:20240718T162311Z
UID:10006576-1777573800-1777577400@uufcc.com
SUMMARY:AA Meeting for Women
DESCRIPTION:Alcoholics Anonymous (AA) meeting. Open to any woman to walk in.
URL:https://uufcc.com/event/aa-meeting-for-women/2026-04-30/
LOCATION:UUFCC – Room A\, 780 Waupelani Drive\, State College\, PA\, 16801\, United States
END:VEVENT
BEGIN:VEVENT
DTSTART;TZID=America/New_York:20260501T153000
DTEND;TZID=America/New_York:20260501T180000
DTSTAMP:20260420T081304
CREATED:20250412T183626Z
LAST-MODIFIED:20250412T183644Z
UID:10008555-1777649400-1777658400@uufcc.com
SUMMARY:Folk Dancers
DESCRIPTION:Please join this group of folks passionate about dancing to international folk music. Explore different cultures through music and dance.
URL:https://uufcc.com/event/folk-dancers-2/2026-05-01/
LOCATION:UUFCC – Community Room\, 780 Waupelani Drive\, State College\, PA\, 16801\, United States
CATEGORIES:Meeting
ORGANIZER;CN="Unitarian Universalist Fellowship of Centre County":MAILTO:office@uufcc.com
END:VEVENT
BEGIN:VEVENT
DTSTART;TZID=America/New_York:20260503T100000
DTEND;TZID=America/New_York:20260503T110000
DTSTAMP:20260420T081304
CREATED:20250924T193017Z
LAST-MODIFIED:20250924T193018Z
UID:10010824-1777802400-1777806000@uufcc.com
SUMMARY:RE: 1st-5th Grade
DESCRIPTION:1st through 5th grade kids are learning our values through the monthly congregational themes\, and have a bi-monthly social justice book project and activity. \nIn services led by Rev. Tracy Sprowls\, children remain in the Sanctuary until the Wisdom Lesson\, then go downstairs to class. In multigenerational services\, they stay for the entire service.
URL:https://uufcc.com/event/re-1st-5th-grade-4/2026-05-03/
LOCATION:UUFCC – Sanctuary first\, then Gathering Space
CATEGORIES:Lifespan Religious Exploration,RE Kids & Youth,Young Kids
ORGANIZER;CN="Unitarian Universalist Fellowship of Centre County":MAILTO:office@uufcc.com
END:VEVENT
BEGIN:VEVENT
DTSTART;TZID=America/New_York:20260503T100000
DTEND;TZID=America/New_York:20260503T110000
DTSTAMP:20260420T081304
CREATED:20260120T193158Z
LAST-MODIFIED:20260120T193201Z
UID:10010563-1777802400-1777806000@uufcc.com
SUMMARY:RE: Pre-K & K
DESCRIPTION:Each week our kids gather to explore our world in light of our UU values. Pre-K/K friends will engage in guided exploration of various topics with their wonderful teachers\, Sue Smith and Rocky Landers\, downstairs in Room D.
URL:https://uufcc.com/event/re-pre-k-k-10/2026-05-03/
LOCATION:UUFCC – Gathering Space and Room D\, 780 Waupelani Drive\, State College\, PA\, 16801\, United States
CATEGORIES:Lifespan Religious Exploration,RE Kids & Youth,Young Kids
ORGANIZER;CN="Unitarian Universalist Fellowship of Centre County":MAILTO:office@uufcc.com
END:VEVENT
BEGIN:VEVENT
DTSTART;TZID=America/New_York:20260503T111500
DTEND;TZID=America/New_York:20260503T120000
DTSTAMP:20260420T081304
CREATED:20240430T181159Z
LAST-MODIFIED:20240430T181159Z
UID:10005472-1777806900-1777809600@uufcc.com
SUMMARY:Getting to Know UU
DESCRIPTION:If you’re new or have questions\, come to the library and chat and learn!
URL:https://uufcc.com/event/getting-to-know-uu/2026-05-03/
LOCATION:UUFCC – Library\, 780 Waupelani Drive\, State College\, PA\, 16801\, United States
CATEGORIES:Event,Interfaith
ORGANIZER;CN="Unitarian Universalist Fellowship of Centre County":MAILTO:office@uufcc.com
END:VEVENT
BEGIN:VEVENT
DTSTART;TZID=America/New_York:20260503T113000
DTEND;TZID=America/New_York:20260503T123000
DTSTAMP:20260420T081304
CREATED:20250226T175011Z
LAST-MODIFIED:20250226T175015Z
UID:10005318-1777807800-1777811400@uufcc.com
SUMMARY:Green Sanctuary
DESCRIPTION:Our goal is to maintain and enhance the UUFCC’s green sanctuary certification by promoting ecojustice and the environmental practices that make ecojustice possible. We do this through projects at the UUFCC and in the broader community\, focusing on renewable energy\, and promoting the use of sustainable food\, green transportation\, and clean water.
URL:https://uufcc.com/event/green-sanctuary-2/2026-05-03/
LOCATION:UUFCC – Room B\, 780 Waupelani Drive\, State College\, PA\, 16801\, United States
CATEGORIES:Meeting,UUFCC Committee
END:VEVENT
BEGIN:VEVENT
DTSTART;TZID=America/New_York:20260503T113000
DTEND;TZID=America/New_York:20260503T130000
DTSTAMP:20260420T081304
CREATED:20250927T163031Z
LAST-MODIFIED:20250927T163033Z
UID:10011776-1777807800-1777813200@uufcc.com
SUMMARY:Music & Play
DESCRIPTION:For elementary ages\, led by Karen Maynard.
URL:https://uufcc.com/event/music-play-2-2/2026-05-03/
LOCATION:UUFCC – Room B\, 780 Waupelani Drive\, State College\, PA\, 16801\, United States
CATEGORIES:Lifespan Religious Exploration,Young Kids
ORGANIZER;CN="Unitarian Universalist Fellowship of Centre County":MAILTO:office@uufcc.com
END:VEVENT
BEGIN:VEVENT
DTSTART;TZID=America/New_York:20260506T153000
DTEND;TZID=America/New_York:20260506T180000
DTSTAMP:20260420T081304
CREATED:20250412T183626Z
LAST-MODIFIED:20250412T183644Z
UID:10008556-1778081400-1778090400@uufcc.com
SUMMARY:Folk Dancers
DESCRIPTION:Please join this group of folks passionate about dancing to international folk music. Explore different cultures through music and dance.
URL:https://uufcc.com/event/folk-dancers-2/2026-05-06/
LOCATION:UUFCC – Community Room\, 780 Waupelani Drive\, State College\, PA\, 16801\, United States
CATEGORIES:Meeting
ORGANIZER;CN="Unitarian Universalist Fellowship of Centre County":MAILTO:office@uufcc.com
END:VEVENT
BEGIN:VEVENT
DTSTART;TZID=America/New_York:20260506T180000
DTEND;TZID=America/New_York:20260506T210000
DTSTAMP:20260420T081304
CREATED:20231105T152820Z
LAST-MODIFIED:20240313T161106Z
UID:10002449-1778090400-1778101200@uufcc.com
SUMMARY:Game Nights
DESCRIPTION:
URL:https://uufcc.com/event/game-nights/2026-05-06/
LOCATION:UUFCC – Fellowship Hall\, 780 Waupelani Drive\, State College\, PA\, 16801\, United States
CATEGORIES:Meeting
END:VEVENT
BEGIN:VEVENT
DTSTART;TZID=America/New_York:20260507T143000
DTEND;TZID=America/New_York:20260507T160000
DTSTAMP:20260420T081304
CREATED:20240430T185149Z
LAST-MODIFIED:20240430T185151Z
UID:10003970-1778164200-1778169600@uufcc.com
SUMMARY:Memoirs Group
DESCRIPTION:
URL:https://uufcc.com/event/memoirs-group-2-2-2/2026-05-07/
LOCATION:UUFCC – Fellowship Hall\, 780 Waupelani Drive\, State College\, PA\, 16801\, United States
CATEGORIES:Adult RE,Lifespan Religious Exploration
END:VEVENT
BEGIN:VEVENT
DTSTART;TZID=America/New_York:20260507T183000
DTEND;TZID=America/New_York:20260507T193000
DTSTAMP:20260420T081304
CREATED:20240718T162311Z
LAST-MODIFIED:20240718T162311Z
UID:10006577-1778178600-1778182200@uufcc.com
SUMMARY:AA Meeting for Women
DESCRIPTION:Alcoholics Anonymous (AA) meeting. Open to any woman to walk in.
URL:https://uufcc.com/event/aa-meeting-for-women/2026-05-07/
LOCATION:UUFCC – Room A\, 780 Waupelani Drive\, State College\, PA\, 16801\, United States
END:VEVENT
BEGIN:VEVENT
DTSTART;TZID=America/New_York:20260508T153000
DTEND;TZID=America/New_York:20260508T180000
DTSTAMP:20260420T081304
CREATED:20250412T183626Z
LAST-MODIFIED:20250412T183644Z
UID:10008557-1778254200-1778263200@uufcc.com
SUMMARY:Folk Dancers
DESCRIPTION:Please join this group of folks passionate about dancing to international folk music. Explore different cultures through music and dance.
URL:https://uufcc.com/event/folk-dancers-2/2026-05-08/
LOCATION:UUFCC – Community Room\, 780 Waupelani Drive\, State College\, PA\, 16801\, United States
CATEGORIES:Meeting
ORGANIZER;CN="Unitarian Universalist Fellowship of Centre County":MAILTO:office@uufcc.com
END:VEVENT
BEGIN:VEVENT
DTSTART;TZID=America/New_York:20260509T170000
DTEND;TZID=America/New_York:20260509T200000
DTSTAMP:20260420T081304
CREATED:20251118T165358Z
LAST-MODIFIED:20251118T165358Z
UID:10012301-1778346000-1778356800@uufcc.com
SUMMARY:Parents' Night Out
DESCRIPTION:Parents\, drop your kids off with our childcare providers for an evening of fun games\, dinner\, and a movie while you have some time for you! Sign up each month.
URL:https://uufcc.com/event/parents-night-out-12/
LOCATION:UUFCC – Gathering Space\, 780 Waupelani Drive\, State College\, PA\, 16801\, United States
CATEGORIES:Lifespan Religious Exploration,RE Kids & Youth,Young Kids
ATTACH;FMTTYPE=image/png:https://uufcc.com/wp-content/uploads/2023/10/Parents-Night-Out.png
ORGANIZER;CN="Unitarian Universalist Fellowship of Centre County":MAILTO:office@uufcc.com
END:VEVENT
BEGIN:VEVENT
DTSTART;TZID=America/New_York:20260510T100000
DTEND;TZID=America/New_York:20260510T110000
DTSTAMP:20260420T081304
CREATED:20250924T193017Z
LAST-MODIFIED:20250924T193018Z
UID:10010825-1778407200-1778410800@uufcc.com
SUMMARY:RE: 1st-5th Grade
DESCRIPTION:1st through 5th grade kids are learning our values through the monthly congregational themes\, and have a bi-monthly social justice book project and activity. \nIn services led by Rev. Tracy Sprowls\, children remain in the Sanctuary until the Wisdom Lesson\, then go downstairs to class. In multigenerational services\, they stay for the entire service.
URL:https://uufcc.com/event/re-1st-5th-grade-4/2026-05-10/
LOCATION:UUFCC – Sanctuary first\, then Gathering Space
CATEGORIES:Lifespan Religious Exploration,RE Kids & Youth,Young Kids
ORGANIZER;CN="Unitarian Universalist Fellowship of Centre County":MAILTO:office@uufcc.com
END:VEVENT
BEGIN:VEVENT
DTSTART;TZID=America/New_York:20260510T100000
DTEND;TZID=America/New_York:20260510T110000
DTSTAMP:20260420T081304
CREATED:20260120T193158Z
LAST-MODIFIED:20260120T193201Z
UID:10010564-1778407200-1778410800@uufcc.com
SUMMARY:RE: Pre-K & K
DESCRIPTION:Each week our kids gather to explore our world in light of our UU values. Pre-K/K friends will engage in guided exploration of various topics with their wonderful teachers\, Sue Smith and Rocky Landers\, downstairs in Room D.
URL:https://uufcc.com/event/re-pre-k-k-10/2026-05-10/
LOCATION:UUFCC – Gathering Space and Room D\, 780 Waupelani Drive\, State College\, PA\, 16801\, United States
CATEGORIES:Lifespan Religious Exploration,RE Kids & Youth,Young Kids
ORGANIZER;CN="Unitarian Universalist Fellowship of Centre County":MAILTO:office@uufcc.com
END:VEVENT
BEGIN:VEVENT
DTSTART;TZID=America/New_York:20260510T113000
DTEND;TZID=America/New_York:20260510T130000
DTSTAMP:20260420T081304
CREATED:20250927T163031Z
LAST-MODIFIED:20250927T163033Z
UID:10011777-1778412600-1778418000@uufcc.com
SUMMARY:Music & Play
DESCRIPTION:For elementary ages\, led by Karen Maynard.
URL:https://uufcc.com/event/music-play-2-2/2026-05-10/
LOCATION:UUFCC – Room B\, 780 Waupelani Drive\, State College\, PA\, 16801\, United States
CATEGORIES:Lifespan Religious Exploration,Young Kids
ORGANIZER;CN="Unitarian Universalist Fellowship of Centre County":MAILTO:office@uufcc.com
END:VEVENT
BEGIN:VEVENT
DTSTART;TZID=America/New_York:20260513T120000
DTEND;TZID=America/New_York:20260513T130000
DTSTAMP:20260420T081304
CREATED:20250716T172931Z
LAST-MODIFIED:20250716T172931Z
UID:10010131-1778673600-1778677200@uufcc.com
SUMMARY:Centre County Interfaith Coalition for Gun Safety
DESCRIPTION:
URL:https://uufcc.com/event/centre-county-interfaith-coalition-for-gun-safety-3/2026-05-13/
LOCATION:UUFCC – Fellowship Hall\, 780 Waupelani Drive\, State College\, PA\, 16801\, United States
CATEGORIES:Community Event,Interfaith
END:VEVENT
BEGIN:VEVENT
DTSTART;TZID=America/New_York:20260513T153000
DTEND;TZID=America/New_York:20260513T180000
DTSTAMP:20260420T081304
CREATED:20250412T183626Z
LAST-MODIFIED:20250412T183644Z
UID:10008558-1778686200-1778695200@uufcc.com
SUMMARY:Folk Dancers
DESCRIPTION:Please join this group of folks passionate about dancing to international folk music. Explore different cultures through music and dance.
URL:https://uufcc.com/event/folk-dancers-2/2026-05-13/
LOCATION:UUFCC – Community Room\, 780 Waupelani Drive\, State College\, PA\, 16801\, United States
CATEGORIES:Meeting
ORGANIZER;CN="Unitarian Universalist Fellowship of Centre County":MAILTO:office@uufcc.com
END:VEVENT
BEGIN:VEVENT
DTSTART;TZID=America/New_York:20260513T180000
DTEND;TZID=America/New_York:20260513T210000
DTSTAMP:20260420T081304
CREATED:20231105T152820Z
LAST-MODIFIED:20240313T161106Z
UID:10002450-1778695200-1778706000@uufcc.com
SUMMARY:Game Nights
DESCRIPTION:
URL:https://uufcc.com/event/game-nights/2026-05-13/
LOCATION:UUFCC – Fellowship Hall\, 780 Waupelani Drive\, State College\, PA\, 16801\, United States
CATEGORIES:Meeting
END:VEVENT
BEGIN:VEVENT
DTSTART;TZID=America/New_York:20260514T183000
DTEND;TZID=America/New_York:20260514T193000
DTSTAMP:20260420T081304
CREATED:20240718T162311Z
LAST-MODIFIED:20240718T162311Z
UID:10006578-1778783400-1778787000@uufcc.com
SUMMARY:AA Meeting for Women
DESCRIPTION:Alcoholics Anonymous (AA) meeting. Open to any woman to walk in.
URL:https://uufcc.com/event/aa-meeting-for-women/2026-05-14/
LOCATION:UUFCC – Room A\, 780 Waupelani Drive\, State College\, PA\, 16801\, United States
END:VEVENT
END:VCALENDAR