BEGIN:VCALENDAR
VERSION:2.0
PRODID:-//UUFCC - ECPv6.15.17//NONSGML v1.0//EN
CALSCALE:GREGORIAN
METHOD:PUBLISH
X-WR-CALNAME:UUFCC
X-ORIGINAL-URL:https://uufcc.com
X-WR-CALDESC:Events for UUFCC
REFRESH-INTERVAL;VALUE=DURATION:PT1H
X-Robots-Tag:noindex
X-PUBLISHED-TTL:PT1H
BEGIN:VTIMEZONE
TZID:America/New_York
BEGIN:DAYLIGHT
TZOFFSETFROM:-0500
TZOFFSETTO:-0400
TZNAME:EDT
DTSTART:20220313T070000
END:DAYLIGHT
BEGIN:STANDARD
TZOFFSETFROM:-0400
TZOFFSETTO:-0500
TZNAME:EST
DTSTART:20221106T060000
END:STANDARD
BEGIN:DAYLIGHT
TZOFFSETFROM:-0500
TZOFFSETTO:-0400
TZNAME:EDT
DTSTART:20230312T070000
END:DAYLIGHT
BEGIN:STANDARD
TZOFFSETFROM:-0400
TZOFFSETTO:-0500
TZNAME:EST
DTSTART:20231105T060000
END:STANDARD
BEGIN:DAYLIGHT
TZOFFSETFROM:-0500
TZOFFSETTO:-0400
TZNAME:EDT
DTSTART:20240310T070000
END:DAYLIGHT
BEGIN:STANDARD
TZOFFSETFROM:-0400
TZOFFSETTO:-0500
TZNAME:EST
DTSTART:20241103T060000
END:STANDARD
END:VTIMEZONE
BEGIN:VEVENT
DTSTART;TZID=America/New_York:20231126T093000
DTEND;TZID=America/New_York:20231126T130000
DTSTAMP:20260423T021421
CREATED:20231128T173038Z
LAST-MODIFIED:20231128T173249Z
UID:10001213-1700991000-1701003600@uufcc.com
SUMMARY:Child Care
DESCRIPTION:Our paid childcare staff have full background clearances and certificates in First Aid and Infant CPR. They are enthusiastic and compassionate and love interacting with our youngest friends! Ages 6 mo. to 4 years old (non-potty trained)
URL:https://uufcc.com/event/child-care-23-11-26/
LOCATION:Unitarian Universalist Fellowship of Centre County\, 780 Waupelani Drive\, State College\, PA\, 16801\, United States
CATEGORIES:Lifespan Religious Exploration,RE Kids & Youth,Young Kids
ORGANIZER;CN="Unitarian Universalist Fellowship of Centre County":MAILTO:office@uufcc.com
END:VEVENT
BEGIN:VEVENT
DTSTART;TZID=America/New_York:20231126T100000
DTEND;TZID=America/New_York:20231126T110000
DTSTAMP:20260423T021421
CREATED:20231112T063536Z
LAST-MODIFIED:20231112T063536Z
UID:10002889-1700992800-1700996400@uufcc.com
SUMMARY:Sunday Service - "Ours and Theirs: Navigating Pluralism"
DESCRIPTION:With Rev. Kristin Grassel Schmidt \nUnitarian Universalism has been pluralist for generations\, and wisdom from other traditions is one of our named sources of faith. But putting these values into practice isn’t always easy or straightforward. Join us this week as we consider our faith’s approach to pluralism\, and how we strive to relate to other faiths with humility and respect.
URL:https://uufcc.com/event/sunday-service-ours-and-theirs-navigating-pluralism/
LOCATION:Unitarian Universalist Fellowship of Centre County\, 780 Waupelani Drive\, State College\, PA\, 16801\, United States
CATEGORIES:Sunday Worship Service,Worship Service
ATTACH;FMTTYPE=image/png:https://uufcc.com/wp-content/uploads/2023/11/Navigating-Pluralism.png
ORGANIZER;CN="Unitarian Universalist Fellowship of Centre County":MAILTO:office@uufcc.com
END:VEVENT
BEGIN:VEVENT
DTSTART;TZID=America/New_York:20231126T100000
DTEND;TZID=America/New_York:20231126T111500
DTSTAMP:20260423T021421
CREATED:20231121T142310Z
LAST-MODIFIED:20231122T200844Z
UID:10000681-1700992800-1700997300@uufcc.com
SUMMARY:RE Kids & Youth
DESCRIPTION:Each week our Pre-K and Kindergarten friends will explore their world in light of our UU values with our wonderful teachers! \n\nPre-K through 5th Grade will have an All Ages RE time downstairs in the Gathering Space after the Wisdom Lesson. Come for games\, sharing\, and fun! Sign-in at the Welcome Table.
URL:https://uufcc.com/event/re-kids-youth-2-5/
LOCATION:Unitarian Universalist Fellowship of Centre County\, 780 Waupelani Drive\, State College\, PA\, 16801\, United States
CATEGORIES:Lifespan Religious Exploration,RE Kids & Youth,Young Kids
ATTACH;FMTTYPE=image/png:https://uufcc.com/wp-content/uploads/2023/10/RE-Elementary-Pre-K.png
ORGANIZER;CN="Unitarian Universalist Fellowship of Centre County":MAILTO:office@uufcc.com
END:VEVENT
BEGIN:VEVENT
DTSTART;TZID=America/New_York:20231126T100000
DTEND;TZID=America/New_York:20231126T111500
DTSTAMP:20260423T021421
CREATED:20231121T142948Z
LAST-MODIFIED:20231121T142948Z
UID:10000947-1700992800-1700997300@uufcc.com
SUMMARY:Middle School Youth
DESCRIPTION:Join our Middle School Youth program! \nThis year our Middle School youth will engage in a social justice and anti-racism program exploring various topics and working to take action. Part of the year will be spent in a discussion group on the book\, Stamped from the Beginning by Ibram X. Kendi. Films and other activities will enhance learning. \nThis week please join in the All Ages RE time downstairs in the Gathering Space\, or join the service!
URL:https://uufcc.com/event/middle-school-youth-2-2/
LOCATION:UUFCC – Room 6\, 780 Waupelani Drive\, State College\, PA\, 16801\, United States
CATEGORIES:Lifespan Religious Exploration,Middle School Youth,RE Kids & Youth
ATTACH;FMTTYPE=image/png:https://uufcc.com/wp-content/uploads/2023/10/Middle-School-Youth.png
ORGANIZER;CN="Unitarian Universalist Fellowship of Centre County":MAILTO:office@uufcc.com
END:VEVENT
BEGIN:VEVENT
DTSTART;TZID=America/New_York:20231127T123000
DTEND;TZID=America/New_York:20231127T130000
DTSTAMP:20260423T021421
CREATED:20231021T021336Z
LAST-MODIFIED:20250419T193312Z
UID:10000019-1701088200-1701090000@uufcc.com
SUMMARY:Meditation Monday
DESCRIPTION:Open to the public.\nJoin Kelle Kersten on Zoom for a guided meditation during your lunch to center yourself for the coming week!\nClick here to join the Zoom meeting.
URL:https://uufcc.com/event/meditation-monday/2023-11-27/
LOCATION:PA
CATEGORIES:Adult RE,Lifespan Religious Exploration
ATTACH;FMTTYPE=image/png:https://uufcc.com/wp-content/uploads/2023/10/UUFCC-Meditation-Mondays-540.png
END:VEVENT
BEGIN:VEVENT
DTSTART;TZID=America/New_York:20231129T180000
DTEND;TZID=America/New_York:20231129T210000
DTSTAMP:20260423T021421
CREATED:20231105T152820Z
LAST-MODIFIED:20240313T161106Z
UID:10002322-1701280800-1701291600@uufcc.com
SUMMARY:Game Nights
DESCRIPTION:
URL:https://uufcc.com/event/game-nights/2023-11-29/
LOCATION:UUFCC – Fellowship Hall\, 780 Waupelani Drive\, State College\, PA\, 16801\, United States
CATEGORIES:Meeting
END:VEVENT
BEGIN:VEVENT
DTSTART;TZID=America/New_York:20231129T190000
DTEND;TZID=America/New_York:20231129T200000
DTSTAMP:20260423T021421
CREATED:20231121T174438Z
LAST-MODIFIED:20231121T174529Z
UID:10001627-1701284400-1701288000@uufcc.com
SUMMARY:Soulful Sundown - "Waiting"
DESCRIPTION:With Linda Bryce \nHow well do we wait?
URL:https://uufcc.com/event/soulful-sundown-2023-11-29/
LOCATION:PA
CATEGORIES:Soulful Sundown,Worship Service
ATTACH;FMTTYPE=image/png:https://uufcc.com/wp-content/uploads/2023/09/Soulful-Sundown-square.png
END:VEVENT
BEGIN:VEVENT
DTSTART;TZID=America/New_York:20231130T190000
DTEND;TZID=America/New_York:20231130T210000
DTSTAMP:20260423T021421
CREATED:20231021T021850Z
LAST-MODIFIED:20231021T021850Z
UID:10000280-1701370800-1701378000@uufcc.com
SUMMARY:UUFCC Choir Rehearsal
DESCRIPTION:Performs for hymns and extra music during Sunday Services three times a month. \nDirected by Colleen Kennedy.
URL:https://uufcc.com/event/uufcc-choir-rehearsal/2023-11-30/
LOCATION:UUFCC – Sanctuary\, 780 Waupelani Drive\, State College\, PA\, 16801\, United States
CATEGORIES:Music
END:VEVENT
BEGIN:VEVENT
DTSTART;TZID=America/New_York:20231202T100000
DTEND;TZID=America/New_York:20231202T120000
DTSTAMP:20260423T021421
CREATED:20231103T141056Z
LAST-MODIFIED:20231105T151117Z
UID:10001869-1701511200-1701518400@uufcc.com
SUMMARY:Educational Justice League
DESCRIPTION:EJL’s mission is to establish a powerful social justice coalition that actively advocates for and promotes equity for marginalized populations. \nWe are committed to addressing the unique challenges faced by communities of color\, individuals who identify as women\, LGBTQ+ individuals\, promoting accessibility for people with disabilities\, respecting and supporting individuals of all religions\, and bridging the socioeconomic gap through equitable education.
URL:https://uufcc.com/event/educational-justice-league/2023-12-02/
LOCATION:UUFCC – Room B\, 780 Waupelani Drive\, State College\, PA\, 16801\, United States
CATEGORIES:Meeting
END:VEVENT
BEGIN:VEVENT
DTSTART;TZID=America/New_York:20231202T160000
DTEND;TZID=America/New_York:20231202T210000
DTSTAMP:20260423T021421
CREATED:20231021T172402Z
LAST-MODIFIED:20231112T063756Z
UID:10000663-1701532800-1701550800@uufcc.com
SUMMARY:Jingle\, Jangle: A Christmas Story - Tree Cutting and Decorating\, Potluck\, and Movie Night for Kids\, Families\, and All Ages!
DESCRIPTION:Meet at UUFCC to then caravan to a tree farm to pick out a tree for our Fellowship (and for your family!). Then we’ll light it and decorate it in the sanctuary! Followed by a potluck\, hot beverages\, holiday treats\, and a movie (Jingle\, Jangle: A Christmas Story) All ages welcome! (Please bring a dish to share!). Sign up HERE!
URL:https://uufcc.com/event/christmas-tree-setup-and-movie-night/
LOCATION:UUFCC – Sanctuary\, 780 Waupelani Drive\, State College\, PA\, 16801\, United States
CATEGORIES:Event,High School Youth,Intergenerational RE,Lifespan Religious Exploration,Middle School Youth,RE Kids & Youth,Young Kids
ATTACH;FMTTYPE=image/png:https://uufcc.com/wp-content/uploads/2023/10/Christmas-Tree-Movie-Night.png
ORGANIZER;CN="Unitarian Universalist Fellowship of Centre County":MAILTO:office@uufcc.com
END:VEVENT
END:VCALENDAR