BEGIN:VCALENDAR
VERSION:2.0
PRODID:-//UUFCC - ECPv6.15.17//NONSGML v1.0//EN
CALSCALE:GREGORIAN
METHOD:PUBLISH
X-ORIGINAL-URL:https://uufcc.com
X-WR-CALDESC:Events for UUFCC
REFRESH-INTERVAL;VALUE=DURATION:PT1H
X-Robots-Tag:noindex
X-PUBLISHED-TTL:PT1H
BEGIN:VTIMEZONE
TZID:America/New_York
BEGIN:DAYLIGHT
TZOFFSETFROM:-0500
TZOFFSETTO:-0400
TZNAME:EDT
DTSTART:20230312T070000
END:DAYLIGHT
BEGIN:STANDARD
TZOFFSETFROM:-0400
TZOFFSETTO:-0500
TZNAME:EST
DTSTART:20231105T060000
END:STANDARD
BEGIN:DAYLIGHT
TZOFFSETFROM:-0500
TZOFFSETTO:-0400
TZNAME:EDT
DTSTART:20240310T070000
END:DAYLIGHT
BEGIN:STANDARD
TZOFFSETFROM:-0400
TZOFFSETTO:-0500
TZNAME:EST
DTSTART:20241103T060000
END:STANDARD
BEGIN:DAYLIGHT
TZOFFSETFROM:-0500
TZOFFSETTO:-0400
TZNAME:EDT
DTSTART:20250309T070000
END:DAYLIGHT
BEGIN:STANDARD
TZOFFSETFROM:-0400
TZOFFSETTO:-0500
TZNAME:EST
DTSTART:20251102T060000
END:STANDARD
END:VTIMEZONE
BEGIN:VEVENT
DTSTART;TZID=America/New_York:20240915T093000
DTEND;TZID=America/New_York:20240915T130000
DTSTAMP:20260424T205209
CREATED:20231128T173327Z
LAST-MODIFIED:20231128T173552Z
UID:10003520-1726392600-1726405200@uufcc.com
SUMMARY:Child Care
DESCRIPTION:
URL:https://uufcc.com/event/child-care-2/2024-09-15/
LOCATION:UUFCC – Room C\, 780 Waupelani Drive\, State College\, PA\, 16801\, United States
CATEGORIES:Lifespan Religious Exploration,RE Kids & Youth,Young Kids
ORGANIZER;CN="Unitarian Universalist Fellowship of Centre County":MAILTO:office@uufcc.com
END:VEVENT
BEGIN:VEVENT
DTSTART;TZID=America/New_York:20240915T100000
DTEND;TZID=America/New_York:20240915T110000
DTSTAMP:20260424T205209
CREATED:20240911T160248Z
LAST-MODIFIED:20240911T164332Z
UID:10006969-1726394400-1726398000@uufcc.com
SUMMARY:Sunday Service - "Please\, Stop Volunteering"
DESCRIPTION:…with Rev. Tracy Sprowls. \nOur theme this month is thresholds. Thresholds mark the moments when we move from one state of being to another. Thresholds are those liminal spaces between one thing and the next. Our question we consider this morning is can people be thresholds?
URL:https://uufcc.com/event/sunday-service-please-stop-volunteering/
LOCATION:UUFCC – Sanctuary\, 780 Waupelani Drive\, State College\, PA\, 16801\, United States
CATEGORIES:Sunday Worship Service,Worship Service
ATTACH;FMTTYPE=image/png:https://uufcc.com/wp-content/uploads/2024/09/Sept-15-Please-Stop-Volunteering.png
ORGANIZER;CN="Unitarian Universalist Fellowship of Centre County":MAILTO:office@uufcc.com
END:VEVENT
BEGIN:VEVENT
DTSTART;TZID=America/New_York:20240915T110000
DTEND;TZID=America/New_York:20240915T123000
DTSTAMP:20260424T205209
CREATED:20240911T164819Z
LAST-MODIFIED:20240911T165255Z
UID:10006970-1726398000-1726403400@uufcc.com
SUMMARY:Engagement Fair
DESCRIPTION:How can I connect to this community? One way is nurturing relationships and another is by getting involved and engaged in what is happening here at UUFCC. After the service\, please take a walk through the Community Room to visit our Engagement Fair. Different committees\, programs\, and ministries of the congregation will be on display. How will you be engaged with UUFCC this year?\n\nThe Engagement Fair is more than an ask for you to join a committee\, although we always need that. But also a presentation of all the happenings and opportunities at the fellowship. And it is a way to let us know what you might want or need. See you Sunday!
URL:https://uufcc.com/event/engagement-fair-2024/
LOCATION:UUFCC – Community Room\, 780 Waupelani Drive\, State College\, PA\, 16801\, United States
CATEGORIES:Event
ORGANIZER;CN="Unitarian Universalist Fellowship of Centre County":MAILTO:office@uufcc.com
END:VEVENT
BEGIN:VEVENT
DTSTART;TZID=America/New_York:20240915T120000
DTEND;TZID=America/New_York:20240915T133000
DTSTAMP:20260424T205209
CREATED:20240911T175727Z
LAST-MODIFIED:20240911T175728Z
UID:10004442-1726401600-1726407000@uufcc.com
SUMMARY:UUFCC Jazz Band Rehearsal
DESCRIPTION:The UUFCC Jazz Band is open to all. Rehearsals occur on Sundays in the Sanctuary\, although occasionally the band may rehearse in Room 6 due to major church events. \nContact David Morris if interested.
URL:https://uufcc.com/event/uufcc-jazz-band-rehearsal-3/2024-09-15/
LOCATION:UUFCC – Sanctuary\, 780 Waupelani Drive\, State College\, PA\, 16801\, United States
CATEGORIES:Meeting,Music
ORGANIZER;CN="Unitarian Universalist Fellowship of Centre County":MAILTO:office@uufcc.com
END:VEVENT
BEGIN:VEVENT
DTSTART;TZID=America/New_York:20240916T123000
DTEND;TZID=America/New_York:20240916T130000
DTSTAMP:20260424T205209
CREATED:20231021T021336Z
LAST-MODIFIED:20250419T193312Z
UID:10000061-1726489800-1726491600@uufcc.com
SUMMARY:Meditation Monday
DESCRIPTION:Open to the public.\nJoin Kelle Kersten on Zoom for a guided meditation during your lunch to center yourself for the coming week!\nClick here to join the Zoom meeting.
URL:https://uufcc.com/event/meditation-monday/2024-09-16/
LOCATION:PA
CATEGORIES:Adult RE,Lifespan Religious Exploration
ATTACH;FMTTYPE=image/png:https://uufcc.com/wp-content/uploads/2023/10/UUFCC-Meditation-Mondays-540.png
END:VEVENT
BEGIN:VEVENT
DTSTART;TZID=America/New_York:20240917T153000
DTEND;TZID=America/New_York:20240917T180000
DTSTAMP:20260424T205209
CREATED:20240718T161006Z
LAST-MODIFIED:20240718T161006Z
UID:10005975-1726587000-1726596000@uufcc.com
SUMMARY:Folk Dancers
DESCRIPTION:Please join this group of folks passionate about dancing to international folk music. Explore different cultures through music and dance. \n*On 3rd Thursdays we ends at 5:30PM (in time for Fellowship Supper).
URL:https://uufcc.com/event/folk-dancers/2024-09-17/
LOCATION:UUFCC – Community Room\, 780 Waupelani Drive\, State College\, PA\, 16801\, United States
CATEGORIES:Meeting
ORGANIZER;CN="Unitarian Universalist Fellowship of Centre County":MAILTO:office@uufcc.com
END:VEVENT
BEGIN:VEVENT
DTSTART;TZID=America/New_York:20240917T190000
DTEND;TZID=America/New_York:20240917T210000
DTSTAMP:20260424T205209
CREATED:20240618T175644Z
LAST-MODIFIED:20240618T175645Z
UID:10005766-1726599600-1726606800@uufcc.com
SUMMARY:Board of Trustees
DESCRIPTION:
URL:https://uufcc.com/event/board-of-trustees-3/2024-09-17/
LOCATION:UUFCC – Room 6\, 780 Waupelani Drive\, State College\, PA\, 16801\, United States
CATEGORIES:Meeting
ORGANIZER;CN="Unitarian Universalist Fellowship of Centre County":MAILTO:office@uufcc.com
END:VEVENT
BEGIN:VEVENT
DTSTART;TZID=America/New_York:20240918T173000
DTEND;TZID=America/New_York:20240918T183000
DTSTAMP:20260424T205209
CREATED:20231114T201844Z
LAST-MODIFIED:20231114T201908Z
UID:10002902-1726680600-1726684200@uufcc.com
SUMMARY:Racial Justice Committee
DESCRIPTION:Contact Janet Irons for the Zoom information.
URL:https://uufcc.com/event/racial-justice-committee/2024-09-18/
LOCATION:Unitarian Universalist Fellowship of Centre County\, 780 Waupelani Drive\, State College\, PA\, 16801\, United States
CATEGORIES:Meeting,UUFCC Committee
END:VEVENT
BEGIN:VEVENT
DTSTART;TZID=America/New_York:20240918T180000
DTEND;TZID=America/New_York:20240918T210000
DTSTAMP:20260424T205209
CREATED:20231105T152820Z
LAST-MODIFIED:20240313T161106Z
UID:10002364-1726682400-1726693200@uufcc.com
SUMMARY:Game Nights
DESCRIPTION:
URL:https://uufcc.com/event/game-nights/2024-09-18/
LOCATION:UUFCC – Fellowship Hall\, 780 Waupelani Drive\, State College\, PA\, 16801\, United States
CATEGORIES:Meeting
END:VEVENT
BEGIN:VEVENT
DTSTART;TZID=America/New_York:20240919T143000
DTEND;TZID=America/New_York:20240919T160000
DTSTAMP:20260424T205209
CREATED:20240430T185149Z
LAST-MODIFIED:20240430T185151Z
UID:10005515-1726756200-1726761600@uufcc.com
SUMMARY:Memoirs Group
DESCRIPTION:
URL:https://uufcc.com/event/memoirs-group-2-2-2/2024-09-19/
LOCATION:UUFCC – Fellowship Hall\, 780 Waupelani Drive\, State College\, PA\, 16801\, United States
CATEGORIES:Adult RE,Lifespan Religious Exploration
END:VEVENT
BEGIN:VEVENT
DTSTART;TZID=America/New_York:20240919T153000
DTEND;TZID=America/New_York:20240919T180000
DTSTAMP:20260424T205209
CREATED:20240718T161006Z
LAST-MODIFIED:20240718T161006Z
UID:10005976-1726759800-1726768800@uufcc.com
SUMMARY:Folk Dancers
DESCRIPTION:Please join this group of folks passionate about dancing to international folk music. Explore different cultures through music and dance. \n*On 3rd Thursdays we ends at 5:30PM (in time for Fellowship Supper).
URL:https://uufcc.com/event/folk-dancers/2024-09-19/
LOCATION:UUFCC – Community Room\, 780 Waupelani Drive\, State College\, PA\, 16801\, United States
CATEGORIES:Meeting
ORGANIZER;CN="Unitarian Universalist Fellowship of Centre County":MAILTO:office@uufcc.com
END:VEVENT
BEGIN:VEVENT
DTSTART;TZID=America/New_York:20240919T180000
DTEND;TZID=America/New_York:20240919T190000
DTSTAMP:20260424T205209
CREATED:20240309T054252Z
LAST-MODIFIED:20240309T054253Z
UID:10001817-1726768800-1726772400@uufcc.com
SUMMARY:Fellowship Supper
DESCRIPTION:Join us for a community potluck each month in Fellowship Hall! This is a wonderful time out to connect with UUFCC friends\, eat a delicious meal\, and celebrate birthdays of the month.
URL:https://uufcc.com/event/fellowship-suppers-3/2024-09-19/
LOCATION:UUFCC – Fellowship Hall\, 780 Waupelani Drive\, State College\, PA\, 16801\, United States
CATEGORIES:Event
ATTACH;FMTTYPE=image/jpeg:https://uufcc.com/wp-content/uploads/2024/03/Fellowship-Supper.jpg
ORGANIZER;CN="Unitarian Universalist Fellowship of Centre County":MAILTO:office@uufcc.com
END:VEVENT
BEGIN:VEVENT
DTSTART;TZID=America/New_York:20240919T183000
DTEND;TZID=America/New_York:20240919T193000
DTSTAMP:20260424T205209
CREATED:20240718T162311Z
LAST-MODIFIED:20240718T162311Z
UID:10006492-1726770600-1726774200@uufcc.com
SUMMARY:AA Meeting for Women
DESCRIPTION:Alcoholics Anonymous (AA) meeting. Open to any woman to walk in.
URL:https://uufcc.com/event/aa-meeting-for-women/2024-09-19/
LOCATION:UUFCC – Room A\, 780 Waupelani Drive\, State College\, PA\, 16801\, United States
END:VEVENT
BEGIN:VEVENT
DTSTART;TZID=America/New_York:20240919T190000
DTEND;TZID=America/New_York:20240919T210000
DTSTAMP:20260424T205209
CREATED:20240618T175945Z
LAST-MODIFIED:20240618T175946Z
UID:10000322-1726772400-1726779600@uufcc.com
SUMMARY:UUFCC Choir Rehearsal
DESCRIPTION:Performs for hymns and extra music during Sunday Services three times a month.
URL:https://uufcc.com/event/uufcc-choir-rehearsal-6/2024-09-19/
LOCATION:UUFCC – Sanctuary\, 780 Waupelani Drive\, State College\, PA\, 16801\, United States
CATEGORIES:Music
END:VEVENT
BEGIN:VEVENT
DTSTART;TZID=America/New_York:20240920T190000
DTEND;TZID=America/New_York:20240920T210000
DTSTAMP:20260424T205209
CREATED:20240917T142546Z
LAST-MODIFIED:20240917T142555Z
UID:10002713-1726858800-1726866000@uufcc.com
SUMMARY:Song Circle
DESCRIPTION:The UUFCC Song Circle offers a fun\, monthly opportunity to make music together with voices\, guitars\, banjos\, ukuleles\, drums\, kazoos\, etc. Anyone from the Fellowship or local community can join us to play\, sing\, or listen. We go around the circle with each person choosing the next song\, either from our song-books or a song they brought to share. \nContact Pam Short for more information.
URL:https://uufcc.com/event/song-circle-6/
LOCATION:UUFCC – Sanctuary\, 780 Waupelani Drive\, State College\, PA\, 16801\, United States
CATEGORIES:Music
ATTACH;FMTTYPE=image/jpeg:https://uufcc.com/wp-content/uploads/2024/04/song-circle-in-a-circle-scaled.jpg
ORGANIZER;CN="Unitarian Universalist Fellowship of Centre County":MAILTO:office@uufcc.com
END:VEVENT
BEGIN:VEVENT
DTSTART;TZID=America/New_York:20240921T120000
DTEND;TZID=America/New_York:20240921T130000
DTSTAMP:20260424T205209
CREATED:20240909T181136Z
LAST-MODIFIED:20250213T230645Z
UID:10008237-1726920000-1726923600@uufcc.com
SUMMARY:Lunch with Tracy
DESCRIPTION:Enjoy lunch with Rev Tracy and bring whatever topic you’d like to chat about! Open to all ages. Bring your own lunch.
URL:https://uufcc.com/event/lunch-with-tracy-4/2024-09-21/
LOCATION:UUFCC – Fellowship Hall\, 780 Waupelani Drive\, State College\, PA\, 16801\, United States
CATEGORIES:Event
ATTACH;FMTTYPE=image/png:https://uufcc.com/wp-content/uploads/2024/09/Lunch-with-Rev.-Tracy.png
ORGANIZER;CN="Unitarian Universalist Fellowship of Centre County":MAILTO:office@uufcc.com
END:VEVENT
END:VCALENDAR