BEGIN:VCALENDAR
VERSION:2.0
PRODID:-//UUFCC - ECPv6.15.17//NONSGML v1.0//EN
CALSCALE:GREGORIAN
METHOD:PUBLISH
X-ORIGINAL-URL:https://uufcc.com
X-WR-CALDESC:Events for UUFCC
REFRESH-INTERVAL;VALUE=DURATION:PT1H
X-Robots-Tag:noindex
X-PUBLISHED-TTL:PT1H
BEGIN:VTIMEZONE
TZID:America/New_York
BEGIN:DAYLIGHT
TZOFFSETFROM:-0500
TZOFFSETTO:-0400
TZNAME:EDT
DTSTART:20230312T070000
END:DAYLIGHT
BEGIN:STANDARD
TZOFFSETFROM:-0400
TZOFFSETTO:-0500
TZNAME:EST
DTSTART:20231105T060000
END:STANDARD
BEGIN:DAYLIGHT
TZOFFSETFROM:-0500
TZOFFSETTO:-0400
TZNAME:EDT
DTSTART:20240310T070000
END:DAYLIGHT
BEGIN:STANDARD
TZOFFSETFROM:-0400
TZOFFSETTO:-0500
TZNAME:EST
DTSTART:20241103T060000
END:STANDARD
BEGIN:DAYLIGHT
TZOFFSETFROM:-0500
TZOFFSETTO:-0400
TZNAME:EDT
DTSTART:20250309T070000
END:DAYLIGHT
BEGIN:STANDARD
TZOFFSETFROM:-0400
TZOFFSETTO:-0500
TZNAME:EST
DTSTART:20251102T060000
END:STANDARD
BEGIN:DAYLIGHT
TZOFFSETFROM:-0500
TZOFFSETTO:-0400
TZNAME:EDT
DTSTART:20260308T070000
END:DAYLIGHT
BEGIN:STANDARD
TZOFFSETFROM:-0400
TZOFFSETTO:-0500
TZNAME:EST
DTSTART:20261101T060000
END:STANDARD
END:VTIMEZONE
BEGIN:VEVENT
DTSTART;TZID=America/New_York:20241229T093000
DTEND;TZID=America/New_York:20241229T130000
DTSTAMP:20260421T231410
CREATED:20231128T173327Z
LAST-MODIFIED:20231128T173552Z
UID:10003535-1735464600-1735477200@uufcc.com
SUMMARY:Child Care
DESCRIPTION:
URL:https://uufcc.com/event/child-care-2/2024-12-29/
LOCATION:UUFCC – Room C\, 780 Waupelani Drive\, State College\, PA\, 16801\, United States
CATEGORIES:Lifespan Religious Exploration,RE Kids & Youth,Young Kids
ORGANIZER;CN="Unitarian Universalist Fellowship of Centre County":MAILTO:office@uufcc.com
END:VEVENT
BEGIN:VEVENT
DTSTART;TZID=America/New_York:20241229T100000
DTEND;TZID=America/New_York:20241229T110000
DTSTAMP:20260421T231410
CREATED:20241105T233123Z
LAST-MODIFIED:20241201T001842Z
UID:10007723-1735466400-1735470000@uufcc.com
SUMMARY:RE Elementary (Pre-K-5th Grade) - All Ages RE
DESCRIPTION:Our Childcare team will lead a fun morning of games.
URL:https://uufcc.com/event/re-elementary-1st-5th-grade-all-ages-re/2024-12-29/
LOCATION:UUFCC – Gathering Space\, 780 Waupelani Drive\, State College\, PA\, 16801\, United States
CATEGORIES:Lifespan Religious Exploration,RE Kids & Youth,Young Kids
ATTACH;FMTTYPE=image/png:https://uufcc.com/wp-content/uploads/2024/01/RE-Kids.png
ORGANIZER;CN="Unitarian Universalist Fellowship of Centre County":MAILTO:office@uufcc.com
END:VEVENT
BEGIN:VEVENT
DTSTART;TZID=America/New_York:20241229T100000
DTEND;TZID=America/New_York:20241229T110000
DTSTAMP:20260421T231410
CREATED:20241219T181725Z
LAST-MODIFIED:20241224T152908Z
UID:10007405-1735466400-1735470000@uufcc.com
SUMMARY:Sunday Service - "Old Year\, New Year"
DESCRIPTION:…with Elaine Jurs.\nOn the cusp of a new year\, like the God Janus\, we look both backward and forward. What do we need to let go of? Past regrets\, fears for the future\, things left undone or unsaid? And what do we look forward to? Together\, we will ponder these questions. Through music\, readings\, sharings\, reflections\, and a communal ritual\, we will help one another to have hope in these trying times.\nMusic: Bhakti Chan\, piano
URL:https://uufcc.com/event/sunday-service-8/
LOCATION:UUFCC – Sanctuary\, 780 Waupelani Drive\, State College\, PA\, 16801\, United States
CATEGORIES:Sunday Worship Service,Worship Service
ATTACH;FMTTYPE=image/png:https://uufcc.com/wp-content/uploads/2024/12/Dec-29-Greeting-the-New-Year.png
ORGANIZER;CN="Unitarian Universalist Fellowship of Centre County":MAILTO:office@uufcc.com
END:VEVENT
BEGIN:VEVENT
DTSTART;TZID=America/New_York:20241229T120000
DTEND;TZID=America/New_York:20241229T133000
DTSTAMP:20260421T231410
CREATED:20240911T175727Z
LAST-MODIFIED:20240911T175728Z
UID:10006987-1735473600-1735479000@uufcc.com
SUMMARY:UUFCC Jazz Band Rehearsal
DESCRIPTION:The UUFCC Jazz Band is open to all. Rehearsals occur on Sundays in the Sanctuary\, although occasionally the band may rehearse in Room 6 due to major church events. \nContact David Morris if interested.
URL:https://uufcc.com/event/uufcc-jazz-band-rehearsal-3/2024-12-29/
LOCATION:UUFCC – Sanctuary\, 780 Waupelani Drive\, State College\, PA\, 16801\, United States
CATEGORIES:Meeting,Music
ORGANIZER;CN="Unitarian Universalist Fellowship of Centre County":MAILTO:office@uufcc.com
END:VEVENT
BEGIN:VEVENT
DTSTART;TZID=America/New_York:20241231T153000
DTEND;TZID=America/New_York:20241231T180000
DTSTAMP:20260421T231410
CREATED:20240718T161006Z
LAST-MODIFIED:20240718T161006Z
UID:10006005-1735659000-1735668000@uufcc.com
SUMMARY:Folk Dancers
DESCRIPTION:Please join this group of folks passionate about dancing to international folk music. Explore different cultures through music and dance. \n*On 3rd Thursdays we ends at 5:30PM (in time for Fellowship Supper).
URL:https://uufcc.com/event/folk-dancers/2024-12-31/
LOCATION:UUFCC – Community Room\, 780 Waupelani Drive\, State College\, PA\, 16801\, United States
CATEGORIES:Meeting
ORGANIZER;CN="Unitarian Universalist Fellowship of Centre County":MAILTO:office@uufcc.com
END:VEVENT
BEGIN:VEVENT
DTSTART;TZID=America/New_York:20241231T180000
DTEND;TZID=America/New_York:20250101T020000
DTSTAMP:20260421T231410
CREATED:20241217T200325Z
LAST-MODIFIED:20241217T200325Z
UID:10007908-1735668000-1735696800@uufcc.com
SUMMARY:New Years' Eve Game Night
DESCRIPTION:
URL:https://uufcc.com/event/new-years-eve-game-night/
LOCATION:UUFCC – Fellowship Hall\, 780 Waupelani Drive\, State College\, PA\, 16801\, United States
CATEGORIES:Meeting
ORGANIZER;CN="Unitarian Universalist Fellowship of Centre County":MAILTO:office@uufcc.com
END:VEVENT
BEGIN:VEVENT
DTSTART;TZID=America/New_York:20250101T180000
DTEND;TZID=America/New_York:20250101T210000
DTSTAMP:20260421T231410
CREATED:20231105T152820Z
LAST-MODIFIED:20240313T161106Z
UID:10002379-1735754400-1735765200@uufcc.com
SUMMARY:Game Nights
DESCRIPTION:
URL:https://uufcc.com/event/game-nights/2025-01-01/
LOCATION:UUFCC – Fellowship Hall\, 780 Waupelani Drive\, State College\, PA\, 16801\, United States
CATEGORIES:Meeting
END:VEVENT
BEGIN:VEVENT
DTSTART;TZID=America/New_York:20250101T190000
DTEND;TZID=America/New_York:20250101T210000
DTSTAMP:20260421T231410
CREATED:20241023T183250Z
LAST-MODIFIED:20241023T183252Z
UID:10010411-1735758000-1735765200@uufcc.com
SUMMARY:Worship Committee Meeting
DESCRIPTION:
URL:https://uufcc.com/event/worship-committee-meeting-3/2025-01-01/
CATEGORIES:Meeting,UUFCC Committee
ORGANIZER;CN="Unitarian Universalist Fellowship of Centre County":MAILTO:office@uufcc.com
END:VEVENT
BEGIN:VEVENT
DTSTART;TZID=America/New_York:20250102T143000
DTEND;TZID=America/New_York:20250102T160000
DTSTAMP:20260421T231410
CREATED:20240430T185149Z
LAST-MODIFIED:20240430T185151Z
UID:10003958-1735828200-1735833600@uufcc.com
SUMMARY:Memoirs Group
DESCRIPTION:
URL:https://uufcc.com/event/memoirs-group-2-2-2/2025-01-02/
LOCATION:UUFCC – Fellowship Hall\, 780 Waupelani Drive\, State College\, PA\, 16801\, United States
CATEGORIES:Adult RE,Lifespan Religious Exploration
END:VEVENT
BEGIN:VEVENT
DTSTART;TZID=America/New_York:20250102T153000
DTEND;TZID=America/New_York:20250102T180000
DTSTAMP:20260421T231410
CREATED:20240718T161006Z
LAST-MODIFIED:20240718T161006Z
UID:10006006-1735831800-1735840800@uufcc.com
SUMMARY:Folk Dancers
DESCRIPTION:Please join this group of folks passionate about dancing to international folk music. Explore different cultures through music and dance. \n*On 3rd Thursdays we ends at 5:30PM (in time for Fellowship Supper).
URL:https://uufcc.com/event/folk-dancers/2025-01-02/
LOCATION:UUFCC – Community Room\, 780 Waupelani Drive\, State College\, PA\, 16801\, United States
CATEGORIES:Meeting
ORGANIZER;CN="Unitarian Universalist Fellowship of Centre County":MAILTO:office@uufcc.com
END:VEVENT
BEGIN:VEVENT
DTSTART;TZID=America/New_York:20250102T183000
DTEND;TZID=America/New_York:20250102T193000
DTSTAMP:20260421T231410
CREATED:20240718T162311Z
LAST-MODIFIED:20240718T162311Z
UID:10006507-1735842600-1735846200@uufcc.com
SUMMARY:AA Meeting for Women
DESCRIPTION:Alcoholics Anonymous (AA) meeting. Open to any woman to walk in.
URL:https://uufcc.com/event/aa-meeting-for-women/2025-01-02/
LOCATION:UUFCC – Room A\, 780 Waupelani Drive\, State College\, PA\, 16801\, United States
END:VEVENT
BEGIN:VEVENT
DTSTART;TZID=America/New_York:20250102T190000
DTEND;TZID=America/New_York:20250102T210000
DTSTAMP:20260421T231410
CREATED:20240618T175945Z
LAST-MODIFIED:20240618T175946Z
UID:10000337-1735844400-1735851600@uufcc.com
SUMMARY:UUFCC Choir Rehearsal
DESCRIPTION:Performs for hymns and extra music during Sunday Services three times a month.
URL:https://uufcc.com/event/uufcc-choir-rehearsal-6/2025-01-02/
LOCATION:UUFCC – Sanctuary\, 780 Waupelani Drive\, State College\, PA\, 16801\, United States
CATEGORIES:Music
END:VEVENT
BEGIN:VEVENT
DTSTART;TZID=America/New_York:20250104T100000
DTEND;TZID=America/New_York:20250104T120000
DTSTAMP:20260421T231410
CREATED:20240129T190714Z
LAST-MODIFIED:20240129T190714Z
UID:10004941-1735984800-1735992000@uufcc.com
SUMMARY:Educational Justice League
DESCRIPTION:EJL’s mission is to establish a powerful social justice coalition that actively advocates for and promotes equity for marginalized populations. \nWe are committed to addressing the unique challenges faced by communities of color\, individuals who identify as women\, LGBTQ+ individuals\, promoting accessibility for people with disabilities\, respecting and supporting individuals of all religions\, and bridging the socioeconomic gap through equitable education.
URL:https://uufcc.com/event/educational-justice-league-2/2025-01-04/
LOCATION:UUFCC – Room B\, 780 Waupelani Drive\, State College\, PA\, 16801\, United States
CATEGORIES:Meeting
END:VEVENT
BEGIN:VEVENT
DTSTART;TZID=America/New_York:20250104T140000
DTEND;TZID=America/New_York:20250104T160000
DTSTAMP:20260421T231410
CREATED:20241226T000058Z
LAST-MODIFIED:20241226T000058Z
UID:10008144-1735999200-1736006400@uufcc.com
SUMMARY:Memorial for Joan Sabatino
DESCRIPTION:More information coming soon.
URL:https://uufcc.com/event/memorial-for-joan-sabatino/
LOCATION:UUFCC – Sanctuary\, 780 Waupelani Drive\, State College\, PA\, 16801\, United States
CATEGORIES:Memorial
END:VEVENT
END:VCALENDAR