BEGIN:VCALENDAR
VERSION:2.0
PRODID:-//UUFCC - ECPv6.15.17//NONSGML v1.0//EN
CALSCALE:GREGORIAN
METHOD:PUBLISH
X-WR-CALNAME:UUFCC
X-ORIGINAL-URL:https://uufcc.com
X-WR-CALDESC:Events for UUFCC
REFRESH-INTERVAL;VALUE=DURATION:PT1H
X-Robots-Tag:noindex
X-PUBLISHED-TTL:PT1H
BEGIN:VTIMEZONE
TZID:America/New_York
BEGIN:DAYLIGHT
TZOFFSETFROM:-0500
TZOFFSETTO:-0400
TZNAME:EDT
DTSTART:20240310T070000
END:DAYLIGHT
BEGIN:STANDARD
TZOFFSETFROM:-0400
TZOFFSETTO:-0500
TZNAME:EST
DTSTART:20241103T060000
END:STANDARD
BEGIN:DAYLIGHT
TZOFFSETFROM:-0500
TZOFFSETTO:-0400
TZNAME:EDT
DTSTART:20250309T070000
END:DAYLIGHT
BEGIN:STANDARD
TZOFFSETFROM:-0400
TZOFFSETTO:-0500
TZNAME:EST
DTSTART:20251102T060000
END:STANDARD
BEGIN:DAYLIGHT
TZOFFSETFROM:-0500
TZOFFSETTO:-0400
TZNAME:EDT
DTSTART:20260308T070000
END:DAYLIGHT
BEGIN:STANDARD
TZOFFSETFROM:-0400
TZOFFSETTO:-0500
TZNAME:EST
DTSTART:20261101T060000
END:STANDARD
END:VTIMEZONE
BEGIN:VEVENT
DTSTART;TZID=America/New_York:20250831T093000
DTEND;TZID=America/New_York:20250831T120000
DTSTAMP:20260421T005715
CREATED:20250611T181412Z
LAST-MODIFIED:20250618T194932Z
UID:10003570-1756632600-1756641600@uufcc.com
SUMMARY:Child Care (includes Pre-K/K)
DESCRIPTION:Childcare will shorten to 9:30 am to 12:00 noon for the summer starting June 22 (sign-in in the Toddler Room – Room 3) \nAll Pre-K/K children are invited into childcare for the summer
URL:https://uufcc.com/event/child-care-2-2/2025-08-31/
LOCATION:UUFCC – Room C\, 780 Waupelani Drive\, State College\, PA\, 16801\, United States
CATEGORIES:Lifespan Religious Exploration,RE Kids & Youth,Young Kids
ORGANIZER;CN="Unitarian Universalist Fellowship of Centre County":MAILTO:office@uufcc.com
END:VEVENT
BEGIN:VEVENT
DTSTART;TZID=America/New_York:20250831T100000
DTEND;TZID=America/New_York:20250831T110000
DTSTAMP:20260421T005715
CREATED:20250705T205342Z
LAST-MODIFIED:20250705T205342Z
UID:10010093-1756634400-1756638000@uufcc.com
SUMMARY:RE Elementary and Middle School Youth
DESCRIPTION:Some Sundays we will work in the new Layered Pollinator Habitat building pathways\, labeling plants\, and learning about what grows there. Other Sundays we will engage in Music and Play\, a special curriculum developed by Karen Maynard. We hope your kiddos will participate!
URL:https://uufcc.com/event/re-elementary-and-middle-school-youth/2025-08-31/
LOCATION:Unitarian Universalist Fellowship of Centre County\, 780 Waupelani Drive\, State College\, PA\, 16801\, United States
CATEGORIES:Lifespan Religious Exploration,Middle School Youth,RE Kids & Youth,Young Kids
END:VEVENT
BEGIN:VEVENT
DTSTART;TZID=America/New_York:20250831T100000
DTEND;TZID=America/New_York:20250831T110000
DTSTAMP:20260421T005715
CREATED:20250827T183058Z
LAST-MODIFIED:20250827T184712Z
UID:10009988-1756634400-1756638000@uufcc.com
SUMMARY:Sunday Service - "Clean Up Our Act!"
DESCRIPTION:with Elaine Jurs. Music: Adam Smith. \nJoin us for a short Worship Service\, followed by a “work hour!” You may choose from a list of tasks both inside and outside the building. Grab a snack after the service\, and come ready to help tidy up our Fellowship spaces. Working together is an act of service and love for our Beloved Community! We will have tasks for those who need to sit. Thank you!
URL:https://uufcc.com/event/sunday-service-28/
LOCATION:UUFCC – Sanctuary\, 780 Waupelani Drive\, State College\, PA\, 16801\, United States
CATEGORIES:Sunday Worship Service,Worship Service
ORGANIZER;CN="Unitarian Universalist Fellowship of Centre County":MAILTO:office@uufcc.com
END:VEVENT
BEGIN:VEVENT
DTSTART;TZID=America/New_York:20250831T120000
DTEND;TZID=America/New_York:20250831T133000
DTSTAMP:20260421T005715
CREATED:20240911T175727Z
LAST-MODIFIED:20240911T175728Z
UID:10007022-1756641600-1756647000@uufcc.com
SUMMARY:UUFCC Jazz Band Rehearsal
DESCRIPTION:The UUFCC Jazz Band is open to all. Rehearsals occur on Sundays in the Sanctuary\, although occasionally the band may rehearse in Room 6 due to major church events. \nContact David Morris if interested.
URL:https://uufcc.com/event/uufcc-jazz-band-rehearsal-3/2025-08-31/
LOCATION:UUFCC – Sanctuary\, 780 Waupelani Drive\, State College\, PA\, 16801\, United States
CATEGORIES:Meeting,Music
ORGANIZER;CN="Unitarian Universalist Fellowship of Centre County":MAILTO:office@uufcc.com
END:VEVENT
BEGIN:VEVENT
DTSTART;TZID=America/New_York:20250903T153000
DTEND;TZID=America/New_York:20250903T180000
DTSTAMP:20260421T005715
CREATED:20250412T183626Z
LAST-MODIFIED:20250412T183644Z
UID:10008486-1756913400-1756922400@uufcc.com
SUMMARY:Folk Dancers
DESCRIPTION:Please join this group of folks passionate about dancing to international folk music. Explore different cultures through music and dance.
URL:https://uufcc.com/event/folk-dancers-2/2025-09-03/
LOCATION:UUFCC – Community Room\, 780 Waupelani Drive\, State College\, PA\, 16801\, United States
CATEGORIES:Meeting
ORGANIZER;CN="Unitarian Universalist Fellowship of Centre County":MAILTO:office@uufcc.com
END:VEVENT
BEGIN:VEVENT
DTSTART;TZID=America/New_York:20250903T180000
DTEND;TZID=America/New_York:20250903T210000
DTSTAMP:20260421T005715
CREATED:20231105T152820Z
LAST-MODIFIED:20240313T161106Z
UID:10002414-1756922400-1756933200@uufcc.com
SUMMARY:Game Nights
DESCRIPTION:
URL:https://uufcc.com/event/game-nights/2025-09-03/
LOCATION:UUFCC – Fellowship Hall\, 780 Waupelani Drive\, State College\, PA\, 16801\, United States
CATEGORIES:Meeting
END:VEVENT
BEGIN:VEVENT
DTSTART;TZID=America/New_York:20250903T190000
DTEND;TZID=America/New_York:20250903T200000
DTSTAMP:20260421T005715
CREATED:20250827T181328Z
LAST-MODIFIED:20250827T181409Z
UID:10008030-1756926000-1756929600@uufcc.com
SUMMARY:Soulful Sundown - "Animal-Human Connections"
DESCRIPTION:…with Linda Bryce.\nSome indigenous cultures believe that each of us has a spirit animal companion. In guided meditation we will discover our animal companion and what gifts it shares with us.
URL:https://uufcc.com/event/soulful-sundown-47/
CATEGORIES:Soulful Sundown,Worship Service
ATTACH;FMTTYPE=image/png:https://uufcc.com/wp-content/uploads/2023/09/Soulful-Sundown-square.png
END:VEVENT
BEGIN:VEVENT
DTSTART;TZID=America/New_York:20250903T190000
DTEND;TZID=America/New_York:20250903T210000
DTSTAMP:20260421T005715
CREATED:20241023T183250Z
LAST-MODIFIED:20241023T183252Z
UID:10007290-1756926000-1756933200@uufcc.com
SUMMARY:Worship Committee Meeting
DESCRIPTION:
URL:https://uufcc.com/event/worship-committee-meeting-3/2025-09-03/
CATEGORIES:Meeting,UUFCC Committee
ORGANIZER;CN="Unitarian Universalist Fellowship of Centre County":MAILTO:office@uufcc.com
END:VEVENT
BEGIN:VEVENT
DTSTART;TZID=America/New_York:20250904T143000
DTEND;TZID=America/New_York:20250904T160000
DTSTAMP:20260421T005715
CREATED:20240430T185149Z
LAST-MODIFIED:20240430T185151Z
UID:10005528-1756996200-1757001600@uufcc.com
SUMMARY:Memoirs Group
DESCRIPTION:
URL:https://uufcc.com/event/memoirs-group-2-2-2/2025-09-04/
LOCATION:UUFCC – Fellowship Hall\, 780 Waupelani Drive\, State College\, PA\, 16801\, United States
CATEGORIES:Adult RE,Lifespan Religious Exploration
END:VEVENT
BEGIN:VEVENT
DTSTART;TZID=America/New_York:20250904T183000
DTEND;TZID=America/New_York:20250904T193000
DTSTAMP:20260421T005715
CREATED:20240718T162311Z
LAST-MODIFIED:20240718T162311Z
UID:10006542-1757010600-1757014200@uufcc.com
SUMMARY:AA Meeting for Women
DESCRIPTION:Alcoholics Anonymous (AA) meeting. Open to any woman to walk in.
URL:https://uufcc.com/event/aa-meeting-for-women/2025-09-04/
LOCATION:UUFCC – Room A\, 780 Waupelani Drive\, State College\, PA\, 16801\, United States
END:VEVENT
BEGIN:VEVENT
DTSTART;TZID=America/New_York:20250905T153000
DTEND;TZID=America/New_York:20250905T180000
DTSTAMP:20260421T005715
CREATED:20250412T183626Z
LAST-MODIFIED:20250412T183644Z
UID:10008487-1757086200-1757095200@uufcc.com
SUMMARY:Folk Dancers
DESCRIPTION:Please join this group of folks passionate about dancing to international folk music. Explore different cultures through music and dance.
URL:https://uufcc.com/event/folk-dancers-2/2025-09-05/
LOCATION:UUFCC – Community Room\, 780 Waupelani Drive\, State College\, PA\, 16801\, United States
CATEGORIES:Meeting
ORGANIZER;CN="Unitarian Universalist Fellowship of Centre County":MAILTO:office@uufcc.com
END:VEVENT
BEGIN:VEVENT
DTSTART;TZID=America/New_York:20250905T190000
DTEND;TZID=America/New_York:20250905T210000
DTSTAMP:20260421T005715
CREATED:20250830T184146Z
LAST-MODIFIED:20250830T184158Z
UID:10000372-1757098800-1757106000@uufcc.com
SUMMARY:UUFCC Choir Rehearsal
DESCRIPTION:Performs for hymns and extra music during Sunday Services three times a month.
URL:https://uufcc.com/event/uufcc-choir-rehearsal-8/
LOCATION:UUFCC – Sanctuary\, 780 Waupelani Drive\, State College\, PA\, 16801\, United States
CATEGORIES:Music
END:VEVENT
BEGIN:VEVENT
DTSTART;TZID=America/New_York:20250905T193000
DTEND;TZID=America/New_York:20250905T210000
DTSTAMP:20260421T005715
CREATED:20250604T150226Z
LAST-MODIFIED:20250611T180339Z
UID:10009642-1757100600-1757106000@uufcc.com
SUMMARY:Justice Singers
DESCRIPTION:The Justice Singers of Centre County are an open community gathering for those who find power\, healing\, and connection through song in the face of injustice. The group sings songs of protest\, resilience\, and hope\, drawing from resources like Rise Up Singing. Participants are encouraged to bring themselves\, a friend\, and an instrument if they like\, but no experience is required—just a willingness to lift your voice. The circle also explores opportunities to sing at local actions and events\, such as the May Day Strong Day of Action\, Pride\, and other protests.
URL:https://uufcc.com/event/justice-singers/2025-09-05/
LOCATION:UUFCC – Room 6\, 780 Waupelani Drive\, State College\, PA\, 16801\, United States
CATEGORIES:Meeting,Music
END:VEVENT
END:VCALENDAR