BEGIN:VCALENDAR
VERSION:2.0
PRODID:-//UUFCC - ECPv6.15.17//NONSGML v1.0//EN
CALSCALE:GREGORIAN
METHOD:PUBLISH
X-ORIGINAL-URL:https://uufcc.com
X-WR-CALDESC:Events for UUFCC
REFRESH-INTERVAL;VALUE=DURATION:PT1H
X-Robots-Tag:noindex
X-PUBLISHED-TTL:PT1H
BEGIN:VTIMEZONE
TZID:America/New_York
BEGIN:DAYLIGHT
TZOFFSETFROM:-0500
TZOFFSETTO:-0400
TZNAME:EDT
DTSTART:20250309T070000
END:DAYLIGHT
BEGIN:STANDARD
TZOFFSETFROM:-0400
TZOFFSETTO:-0500
TZNAME:EST
DTSTART:20251102T060000
END:STANDARD
BEGIN:DAYLIGHT
TZOFFSETFROM:-0500
TZOFFSETTO:-0400
TZNAME:EDT
DTSTART:20260308T070000
END:DAYLIGHT
BEGIN:STANDARD
TZOFFSETFROM:-0400
TZOFFSETTO:-0500
TZNAME:EST
DTSTART:20261101T060000
END:STANDARD
BEGIN:DAYLIGHT
TZOFFSETFROM:-0500
TZOFFSETTO:-0400
TZNAME:EDT
DTSTART:20270314T070000
END:DAYLIGHT
BEGIN:STANDARD
TZOFFSETFROM:-0400
TZOFFSETTO:-0500
TZNAME:EST
DTSTART:20271107T060000
END:STANDARD
BEGIN:DAYLIGHT
TZOFFSETFROM:-0500
TZOFFSETTO:-0400
TZNAME:EDT
DTSTART:20280312T070000
END:DAYLIGHT
BEGIN:STANDARD
TZOFFSETFROM:-0400
TZOFFSETTO:-0500
TZNAME:EST
DTSTART:20281105T060000
END:STANDARD
END:VTIMEZONE
BEGIN:VEVENT
DTSTART;TZID=America/New_York:20260515T103000
DTEND;TZID=America/New_York:20260515T113000
DTSTAMP:20260423T040848
CREATED:20241217T170113Z
LAST-MODIFIED:20241219T165417Z
UID:10007865-1778841000-1778844600@uufcc.com
SUMMARY:Rev. Tracy at Foxdale
DESCRIPTION:Rev. Tracy visits with the residents of Foxdale on the third Friday of each month. The meetings are free-flowing conversations on topics ranging from Unitarian Universalism to local news and world issues.
URL:https://uufcc.com/event/rev-tracy-at-foxdale/2026-05-15/
LOCATION:Foxdale Living Room\, 500 E Marylyn Ave\, State College\, PA\, 16801\, United States
CATEGORIES:Event,Meeting
END:VEVENT
BEGIN:VEVENT
DTSTART;TZID=America/New_York:20260619T103000
DTEND;TZID=America/New_York:20260619T113000
DTSTAMP:20260423T040848
CREATED:20241217T170113Z
LAST-MODIFIED:20241219T165417Z
UID:10007866-1781865000-1781868600@uufcc.com
SUMMARY:Rev. Tracy at Foxdale
DESCRIPTION:Rev. Tracy visits with the residents of Foxdale on the third Friday of each month. The meetings are free-flowing conversations on topics ranging from Unitarian Universalism to local news and world issues.
URL:https://uufcc.com/event/rev-tracy-at-foxdale/2026-06-19/
LOCATION:Foxdale Living Room\, 500 E Marylyn Ave\, State College\, PA\, 16801\, United States
CATEGORIES:Event,Meeting
END:VEVENT
BEGIN:VEVENT
DTSTART;TZID=America/New_York:20260717T103000
DTEND;TZID=America/New_York:20260717T113000
DTSTAMP:20260423T040848
CREATED:20241217T170113Z
LAST-MODIFIED:20241219T165417Z
UID:10007867-1784284200-1784287800@uufcc.com
SUMMARY:Rev. Tracy at Foxdale
DESCRIPTION:Rev. Tracy visits with the residents of Foxdale on the third Friday of each month. The meetings are free-flowing conversations on topics ranging from Unitarian Universalism to local news and world issues.
URL:https://uufcc.com/event/rev-tracy-at-foxdale/2026-07-17/
LOCATION:Foxdale Living Room\, 500 E Marylyn Ave\, State College\, PA\, 16801\, United States
CATEGORIES:Event,Meeting
END:VEVENT
BEGIN:VEVENT
DTSTART;TZID=America/New_York:20260821T103000
DTEND;TZID=America/New_York:20260821T113000
DTSTAMP:20260423T040848
CREATED:20241217T170113Z
LAST-MODIFIED:20241219T165417Z
UID:10007868-1787308200-1787311800@uufcc.com
SUMMARY:Rev. Tracy at Foxdale
DESCRIPTION:Rev. Tracy visits with the residents of Foxdale on the third Friday of each month. The meetings are free-flowing conversations on topics ranging from Unitarian Universalism to local news and world issues.
URL:https://uufcc.com/event/rev-tracy-at-foxdale/2026-08-21/
LOCATION:Foxdale Living Room\, 500 E Marylyn Ave\, State College\, PA\, 16801\, United States
CATEGORIES:Event,Meeting
END:VEVENT
BEGIN:VEVENT
DTSTART;TZID=America/New_York:20260918T103000
DTEND;TZID=America/New_York:20260918T113000
DTSTAMP:20260423T040848
CREATED:20241217T170113Z
LAST-MODIFIED:20241219T165417Z
UID:10007869-1789727400-1789731000@uufcc.com
SUMMARY:Rev. Tracy at Foxdale
DESCRIPTION:Rev. Tracy visits with the residents of Foxdale on the third Friday of each month. The meetings are free-flowing conversations on topics ranging from Unitarian Universalism to local news and world issues.
URL:https://uufcc.com/event/rev-tracy-at-foxdale/2026-09-18/
LOCATION:Foxdale Living Room\, 500 E Marylyn Ave\, State College\, PA\, 16801\, United States
CATEGORIES:Event,Meeting
END:VEVENT
BEGIN:VEVENT
DTSTART;TZID=America/New_York:20261016T103000
DTEND;TZID=America/New_York:20261016T113000
DTSTAMP:20260423T040848
CREATED:20241217T170113Z
LAST-MODIFIED:20241219T165417Z
UID:10007870-1792146600-1792150200@uufcc.com
SUMMARY:Rev. Tracy at Foxdale
DESCRIPTION:Rev. Tracy visits with the residents of Foxdale on the third Friday of each month. The meetings are free-flowing conversations on topics ranging from Unitarian Universalism to local news and world issues.
URL:https://uufcc.com/event/rev-tracy-at-foxdale/2026-10-16/
LOCATION:Foxdale Living Room\, 500 E Marylyn Ave\, State College\, PA\, 16801\, United States
CATEGORIES:Event,Meeting
END:VEVENT
BEGIN:VEVENT
DTSTART;TZID=America/New_York:20261120T103000
DTEND;TZID=America/New_York:20261120T113000
DTSTAMP:20260423T040848
CREATED:20241217T170113Z
LAST-MODIFIED:20241219T165417Z
UID:10007871-1795170600-1795174200@uufcc.com
SUMMARY:Rev. Tracy at Foxdale
DESCRIPTION:Rev. Tracy visits with the residents of Foxdale on the third Friday of each month. The meetings are free-flowing conversations on topics ranging from Unitarian Universalism to local news and world issues.
URL:https://uufcc.com/event/rev-tracy-at-foxdale/2026-11-20/
LOCATION:Foxdale Living Room\, 500 E Marylyn Ave\, State College\, PA\, 16801\, United States
CATEGORIES:Event,Meeting
END:VEVENT
BEGIN:VEVENT
DTSTART;TZID=America/New_York:20261218T103000
DTEND;TZID=America/New_York:20261218T113000
DTSTAMP:20260423T040848
CREATED:20241217T170113Z
LAST-MODIFIED:20241219T165417Z
UID:10007872-1797589800-1797593400@uufcc.com
SUMMARY:Rev. Tracy at Foxdale
DESCRIPTION:Rev. Tracy visits with the residents of Foxdale on the third Friday of each month. The meetings are free-flowing conversations on topics ranging from Unitarian Universalism to local news and world issues.
URL:https://uufcc.com/event/rev-tracy-at-foxdale/2026-12-18/
LOCATION:Foxdale Living Room\, 500 E Marylyn Ave\, State College\, PA\, 16801\, United States
CATEGORIES:Event,Meeting
END:VEVENT
BEGIN:VEVENT
DTSTART;TZID=America/New_York:20270115T103000
DTEND;TZID=America/New_York:20270115T113000
DTSTAMP:20260423T040848
CREATED:20241217T170113Z
LAST-MODIFIED:20241219T165417Z
UID:10007873-1800009000-1800012600@uufcc.com
SUMMARY:Rev. Tracy at Foxdale
DESCRIPTION:Rev. Tracy visits with the residents of Foxdale on the third Friday of each month. The meetings are free-flowing conversations on topics ranging from Unitarian Universalism to local news and world issues.
URL:https://uufcc.com/event/rev-tracy-at-foxdale/2027-01-15/
LOCATION:Foxdale Living Room\, 500 E Marylyn Ave\, State College\, PA\, 16801\, United States
CATEGORIES:Event,Meeting
END:VEVENT
BEGIN:VEVENT
DTSTART;TZID=America/New_York:20270219T103000
DTEND;TZID=America/New_York:20270219T113000
DTSTAMP:20260423T040848
CREATED:20241217T170113Z
LAST-MODIFIED:20241219T165417Z
UID:10007874-1803033000-1803036600@uufcc.com
SUMMARY:Rev. Tracy at Foxdale
DESCRIPTION:Rev. Tracy visits with the residents of Foxdale on the third Friday of each month. The meetings are free-flowing conversations on topics ranging from Unitarian Universalism to local news and world issues.
URL:https://uufcc.com/event/rev-tracy-at-foxdale/2027-02-19/
LOCATION:Foxdale Living Room\, 500 E Marylyn Ave\, State College\, PA\, 16801\, United States
CATEGORIES:Event,Meeting
END:VEVENT
BEGIN:VEVENT
DTSTART;TZID=America/New_York:20270319T103000
DTEND;TZID=America/New_York:20270319T113000
DTSTAMP:20260423T040848
CREATED:20241217T170113Z
LAST-MODIFIED:20241219T165417Z
UID:10007875-1805452200-1805455800@uufcc.com
SUMMARY:Rev. Tracy at Foxdale
DESCRIPTION:Rev. Tracy visits with the residents of Foxdale on the third Friday of each month. The meetings are free-flowing conversations on topics ranging from Unitarian Universalism to local news and world issues.
URL:https://uufcc.com/event/rev-tracy-at-foxdale/2027-03-19/
LOCATION:Foxdale Living Room\, 500 E Marylyn Ave\, State College\, PA\, 16801\, United States
CATEGORIES:Event,Meeting
END:VEVENT
BEGIN:VEVENT
DTSTART;TZID=America/New_York:20270416T103000
DTEND;TZID=America/New_York:20270416T113000
DTSTAMP:20260423T040848
CREATED:20241217T170113Z
LAST-MODIFIED:20241219T165417Z
UID:10007876-1807871400-1807875000@uufcc.com
SUMMARY:Rev. Tracy at Foxdale
DESCRIPTION:Rev. Tracy visits with the residents of Foxdale on the third Friday of each month. The meetings are free-flowing conversations on topics ranging from Unitarian Universalism to local news and world issues.
URL:https://uufcc.com/event/rev-tracy-at-foxdale/2027-04-16/
LOCATION:Foxdale Living Room\, 500 E Marylyn Ave\, State College\, PA\, 16801\, United States
CATEGORIES:Event,Meeting
END:VEVENT
BEGIN:VEVENT
DTSTART;TZID=America/New_York:20270521T103000
DTEND;TZID=America/New_York:20270521T113000
DTSTAMP:20260423T040848
CREATED:20241217T170113Z
LAST-MODIFIED:20241219T165417Z
UID:10007877-1810895400-1810899000@uufcc.com
SUMMARY:Rev. Tracy at Foxdale
DESCRIPTION:Rev. Tracy visits with the residents of Foxdale on the third Friday of each month. The meetings are free-flowing conversations on topics ranging from Unitarian Universalism to local news and world issues.
URL:https://uufcc.com/event/rev-tracy-at-foxdale/2027-05-21/
LOCATION:Foxdale Living Room\, 500 E Marylyn Ave\, State College\, PA\, 16801\, United States
CATEGORIES:Event,Meeting
END:VEVENT
BEGIN:VEVENT
DTSTART;TZID=America/New_York:20270618T103000
DTEND;TZID=America/New_York:20270618T113000
DTSTAMP:20260423T040848
CREATED:20241217T170113Z
LAST-MODIFIED:20241219T165417Z
UID:10007878-1813314600-1813318200@uufcc.com
SUMMARY:Rev. Tracy at Foxdale
DESCRIPTION:Rev. Tracy visits with the residents of Foxdale on the third Friday of each month. The meetings are free-flowing conversations on topics ranging from Unitarian Universalism to local news and world issues.
URL:https://uufcc.com/event/rev-tracy-at-foxdale/2027-06-18/
LOCATION:Foxdale Living Room\, 500 E Marylyn Ave\, State College\, PA\, 16801\, United States
CATEGORIES:Event,Meeting
END:VEVENT
END:VCALENDAR