BEGIN:VCALENDAR
VERSION:2.0
PRODID:-//UUFCC - ECPv6.15.17//NONSGML v1.0//EN
CALSCALE:GREGORIAN
METHOD:PUBLISH
X-ORIGINAL-URL:https://uufcc.com
X-WR-CALDESC:Events for UUFCC
REFRESH-INTERVAL;VALUE=DURATION:PT1H
X-Robots-Tag:noindex
X-PUBLISHED-TTL:PT1H
BEGIN:VTIMEZONE
TZID:America/New_York
BEGIN:DAYLIGHT
TZOFFSETFROM:-0500
TZOFFSETTO:-0400
TZNAME:EDT
DTSTART:20240310T070000
END:DAYLIGHT
BEGIN:STANDARD
TZOFFSETFROM:-0400
TZOFFSETTO:-0500
TZNAME:EST
DTSTART:20241103T060000
END:STANDARD
BEGIN:DAYLIGHT
TZOFFSETFROM:-0500
TZOFFSETTO:-0400
TZNAME:EDT
DTSTART:20250309T070000
END:DAYLIGHT
BEGIN:STANDARD
TZOFFSETFROM:-0400
TZOFFSETTO:-0500
TZNAME:EST
DTSTART:20251102T060000
END:STANDARD
BEGIN:DAYLIGHT
TZOFFSETFROM:-0500
TZOFFSETTO:-0400
TZNAME:EDT
DTSTART:20260308T070000
END:DAYLIGHT
BEGIN:STANDARD
TZOFFSETFROM:-0400
TZOFFSETTO:-0500
TZNAME:EST
DTSTART:20261101T060000
END:STANDARD
BEGIN:DAYLIGHT
TZOFFSETFROM:-0500
TZOFFSETTO:-0400
TZNAME:EDT
DTSTART:20270314T070000
END:DAYLIGHT
BEGIN:STANDARD
TZOFFSETFROM:-0400
TZOFFSETTO:-0500
TZNAME:EST
DTSTART:20271107T060000
END:STANDARD
END:VTIMEZONE
BEGIN:VEVENT
DTSTART;TZID=America/New_York:20260419T113000
DTEND;TZID=America/New_York:20260419T130000
DTSTAMP:20260420T133251
CREATED:20260304T232015Z
LAST-MODIFIED:20260304T232227Z
UID:10012808-1776598200-1776603600@uufcc.com
SUMMARY:The history of Israel and Palestine Class Series
DESCRIPTION:Sponsored by the Justice Committee & led by Janet Irons every Sunday in April. \nJoin us for a discussion class exploring the history of Israel and Palestine in a safe space dedicated to providing you with deeper understanding and conversation. Utilizing resources from the UUA and Unitarian Universalists for Justice in the Middle East\, we will guide you through historical contexts and terminology while highlighting local efforts to elevate the understanding of this crisis in our own community. Through sharing and reflection\, we will discover meaningful activism opportunities and paths for action to support justice and peace both locally and beyond.
URL:https://uufcc.com/event/the-history-of-israel-and-palestine-class-series/2026-04-19/
LOCATION:UUFCC – Room 6\, 780 Waupelani Drive\, State College\, PA\, 16801\, United States
CATEGORIES:Adult RE,Lifespan Religious Exploration
ATTACH;FMTTYPE=image/jpeg:https://uufcc.com/wp-content/uploads/2026/03/israelpalestineclassflier.jpg
END:VEVENT
BEGIN:VEVENT
DTSTART;TZID=America/New_York:20260412T113000
DTEND;TZID=America/New_York:20260412T130000
DTSTAMP:20260420T133251
CREATED:20260318T173443Z
LAST-MODIFIED:20260318T173443Z
UID:10012490-1775993400-1775998800@uufcc.com
SUMMARY:It Matters What You Believe
DESCRIPTION:This series explores the 5 smooth stones of Unitarian Universalism written by James Luther Adams as our starting point and container. The sessions cover: truth\, connection\, justice\, agency\, and hope. Come to any one session or all. Sign up here.
URL:https://uufcc.com/event/it-matters-what-you-believe-6/
LOCATION:UUFCC – Room 6\, 780 Waupelani Drive\, State College\, PA\, 16801\, United States
CATEGORIES:Adult RE,Lifespan Religious Exploration
ATTACH;FMTTYPE=image/jpeg:https://uufcc.com/wp-content/uploads/2025/12/itmatters.jpg
ORGANIZER;CN="Unitarian Universalist Fellowship of Centre County":MAILTO:office@uufcc.com
END:VEVENT
BEGIN:VEVENT
DTSTART;TZID=America/New_York:20260412T113000
DTEND;TZID=America/New_York:20260412T130000
DTSTAMP:20260420T133251
CREATED:20260304T232015Z
LAST-MODIFIED:20260304T232227Z
UID:10012807-1775993400-1775998800@uufcc.com
SUMMARY:The history of Israel and Palestine Class Series
DESCRIPTION:Sponsored by the Justice Committee & led by Janet Irons every Sunday in April. \nJoin us for a discussion class exploring the history of Israel and Palestine in a safe space dedicated to providing you with deeper understanding and conversation. Utilizing resources from the UUA and Unitarian Universalists for Justice in the Middle East\, we will guide you through historical contexts and terminology while highlighting local efforts to elevate the understanding of this crisis in our own community. Through sharing and reflection\, we will discover meaningful activism opportunities and paths for action to support justice and peace both locally and beyond.
URL:https://uufcc.com/event/the-history-of-israel-and-palestine-class-series/2026-04-12/
LOCATION:UUFCC – Room 6\, 780 Waupelani Drive\, State College\, PA\, 16801\, United States
CATEGORIES:Adult RE,Lifespan Religious Exploration
ATTACH;FMTTYPE=image/jpeg:https://uufcc.com/wp-content/uploads/2026/03/israelpalestineclassflier.jpg
END:VEVENT
BEGIN:VEVENT
DTSTART;TZID=America/New_York:20260411T170000
DTEND;TZID=America/New_York:20260411T200000
DTSTAMP:20260420T133251
CREATED:20260218T171817Z
LAST-MODIFIED:20260318T225725Z
UID:10012758-1775926800-1775937600@uufcc.com
SUMMARY:Starting Point - Session 1
DESCRIPTION:Please sign up for Starting Point here. Child care is available. Food will be provided at this workshop.
URL:https://uufcc.com/event/starting-point-session-1/
LOCATION:UUFCC – Room 6\, 780 Waupelani Drive\, State College\, PA\, 16801\, United States
CATEGORIES:Adult RE,Lifespan Religious Exploration
ATTACH;FMTTYPE=image/jpeg:https://uufcc.com/wp-content/uploads/2026/02/Starting-Point-Flyer-2026.jpg
END:VEVENT
BEGIN:VEVENT
DTSTART;TZID=America/New_York:20260409T130000
DTEND;TZID=America/New_York:20260409T150000
DTSTAMP:20260420T133251
CREATED:20240903T175952Z
LAST-MODIFIED:20240903T175953Z
UID:10006782-1775739600-1775746800@uufcc.com
SUMMARY:Finance and Stewardship Committee
DESCRIPTION:
URL:https://uufcc.com/event/finance-and-stewardship-committee-3/2026-04-09/
LOCATION:UUFCC – Room 6\, 780 Waupelani Drive\, State College\, PA\, 16801\, United States
CATEGORIES:Meeting,UUFCC Committee
ORGANIZER;CN="Unitarian Universalist Fellowship of Centre County":MAILTO:office@uufcc.com
END:VEVENT
BEGIN:VEVENT
DTSTART;TZID=America/New_York:20260405T113000
DTEND;TZID=America/New_York:20260405T130000
DTSTAMP:20260420T133251
CREATED:20260304T232015Z
LAST-MODIFIED:20260304T232227Z
UID:10012806-1775388600-1775394000@uufcc.com
SUMMARY:The history of Israel and Palestine Class Series
DESCRIPTION:Sponsored by the Justice Committee & led by Janet Irons every Sunday in April. \nJoin us for a discussion class exploring the history of Israel and Palestine in a safe space dedicated to providing you with deeper understanding and conversation. Utilizing resources from the UUA and Unitarian Universalists for Justice in the Middle East\, we will guide you through historical contexts and terminology while highlighting local efforts to elevate the understanding of this crisis in our own community. Through sharing and reflection\, we will discover meaningful activism opportunities and paths for action to support justice and peace both locally and beyond.
URL:https://uufcc.com/event/the-history-of-israel-and-palestine-class-series/2026-04-05/
LOCATION:UUFCC – Room 6\, 780 Waupelani Drive\, State College\, PA\, 16801\, United States
CATEGORIES:Adult RE,Lifespan Religious Exploration
ATTACH;FMTTYPE=image/jpeg:https://uufcc.com/wp-content/uploads/2026/03/israelpalestineclassflier.jpg
END:VEVENT
BEGIN:VEVENT
DTSTART;TZID=America/New_York:20260403T193000
DTEND;TZID=America/New_York:20260403T210000
DTSTAMP:20260420T133251
CREATED:20250604T150226Z
LAST-MODIFIED:20250611T180339Z
UID:10009649-1775244600-1775250000@uufcc.com
SUMMARY:Justice Singers
DESCRIPTION:The Justice Singers of Centre County are an open community gathering for those who find power\, healing\, and connection through song in the face of injustice. The group sings songs of protest\, resilience\, and hope\, drawing from resources like Rise Up Singing. Participants are encouraged to bring themselves\, a friend\, and an instrument if they like\, but no experience is required—just a willingness to lift your voice. The circle also explores opportunities to sing at local actions and events\, such as the May Day Strong Day of Action\, Pride\, and other protests.
URL:https://uufcc.com/event/justice-singers/2026-04-03/
LOCATION:UUFCC – Room 6\, 780 Waupelani Drive\, State College\, PA\, 16801\, United States
CATEGORIES:Meeting,Music
END:VEVENT
BEGIN:VEVENT
DTSTART;TZID=America/New_York:20260329T113000
DTEND;TZID=America/New_York:20260329T130000
DTSTAMP:20260420T133251
CREATED:20260304T231334Z
LAST-MODIFIED:20260328T042341Z
UID:10012805-1774783800-1774789200@uufcc.com
SUMMARY:D.E.A.L. Book Discussion: Against Technoablelism
DESCRIPTION:This badly needed introduction to disability expertise considers mobility devices\, medical infrastructure\, neurodivergence\, and the crucial relationship between disability and race. The future\, Shew points out\, is surely disabled―whether through changing climate\, new diseases\, or even through space travel. \n\nPRINT COPIES ARE AVAILABLE FOR FREE – SEE ASHLEY HAMLIN (WHILE SUPPLIES LASTS)\nTHE AUDIOBOOK & E-BOOK VERSIONS CAN BE FOUND THROUGH THE LIBBY APP\nPLEASE ALSO CONSIDER SUPPORTING YOUR LOCAL LIBRARY OR INDEPENDENT BOOKSTORE\n\nThis group is open to all folks who would like to join! Even if you are unable to or haven’t read the book\, but would like to join the conversation\, we welcome you. \nThe thoughts and words expressed in this book club and the books being read belong only to those who speak them and are not tied to The Unitarian Universalist Fellowship of Centre County’s views.
URL:https://uufcc.com/event/d-e-a-l-book-discussion-against-technoablelism/
LOCATION:UUFCC – Room 6\, 780 Waupelani Drive\, State College\, PA\, 16801\, United States
CATEGORIES:Adult RE,Lifespan Religious Exploration
ATTACH;FMTTYPE=image/jpeg:https://uufcc.com/wp-content/uploads/2026/03/technoablelism.jpg
END:VEVENT
BEGIN:VEVENT
DTSTART;TZID=America/New_York:20260326T180000
DTEND;TZID=America/New_York:20260326T190000
DTSTAMP:20260420T133251
CREATED:20231105T153317Z
LAST-MODIFIED:20231105T153344Z
UID:10002609-1774548000-1774551600@uufcc.com
SUMMARY:Music Committee
DESCRIPTION:
URL:https://uufcc.com/event/music-committee/2026-03-26/
LOCATION:UUFCC – Room 6\, 780 Waupelani Drive\, State College\, PA\, 16801\, United States
CATEGORIES:Meeting,UUFCC Committee
ORGANIZER;CN="Unitarian Universalist Fellowship of Centre County":MAILTO:office@uufcc.com
END:VEVENT
BEGIN:VEVENT
DTSTART;TZID=America/New_York:20260322T113000
DTEND;TZID=America/New_York:20260322T130000
DTSTAMP:20260420T133251
CREATED:20260318T173437Z
LAST-MODIFIED:20260318T173437Z
UID:10012489-1774179000-1774184400@uufcc.com
SUMMARY:It Matters What You Believe
DESCRIPTION:This series explores the 5 smooth stones of Unitarian Universalism written by James Luther Adams as our starting point and container. The sessions cover: truth\, connection\, justice\, agency\, and hope. Come to any one session or all. Sign up here.
URL:https://uufcc.com/event/it-matters-what-you-believe-5/
LOCATION:UUFCC – Room 6\, 780 Waupelani Drive\, State College\, PA\, 16801\, United States
CATEGORIES:Adult RE,Lifespan Religious Exploration
ATTACH;FMTTYPE=image/jpeg:https://uufcc.com/wp-content/uploads/2025/12/itmatters.jpg
ORGANIZER;CN="Unitarian Universalist Fellowship of Centre County":MAILTO:office@uufcc.com
END:VEVENT
BEGIN:VEVENT
DTSTART;TZID=America/New_York:20260317T190000
DTEND;TZID=America/New_York:20260317T210000
DTSTAMP:20260420T133251
CREATED:20240618T175644Z
LAST-MODIFIED:20240618T175645Z
UID:10005784-1773774000-1773781200@uufcc.com
SUMMARY:Board of Trustees
DESCRIPTION:
URL:https://uufcc.com/event/board-of-trustees-3/2026-03-17/
LOCATION:UUFCC – Room 6\, 780 Waupelani Drive\, State College\, PA\, 16801\, United States
CATEGORIES:Meeting
ORGANIZER;CN="Unitarian Universalist Fellowship of Centre County":MAILTO:office@uufcc.com
END:VEVENT
BEGIN:VEVENT
DTSTART;TZID=America/New_York:20260312T130000
DTEND;TZID=America/New_York:20260312T150000
DTSTAMP:20260420T133251
CREATED:20240903T175952Z
LAST-MODIFIED:20240903T175953Z
UID:10006781-1773320400-1773327600@uufcc.com
SUMMARY:Finance and Stewardship Committee
DESCRIPTION:
URL:https://uufcc.com/event/finance-and-stewardship-committee-3/2026-03-12/
LOCATION:UUFCC – Room 6\, 780 Waupelani Drive\, State College\, PA\, 16801\, United States
CATEGORIES:Meeting,UUFCC Committee
ORGANIZER;CN="Unitarian Universalist Fellowship of Centre County":MAILTO:office@uufcc.com
END:VEVENT
BEGIN:VEVENT
DTSTART;TZID=America/New_York:20260308T113000
DTEND;TZID=America/New_York:20260308T130000
DTSTAMP:20260420T133251
CREATED:20260318T173408Z
LAST-MODIFIED:20260318T173425Z
UID:10012488-1772969400-1772974800@uufcc.com
SUMMARY:It Matters What You Believe
DESCRIPTION:This series explores the 5 smooth stones of Unitarian Universalism written by James Luther Adams as our starting point and container. The sessions cover: truth\, connection\, justice\, agency\, and hope. Come to any one session or all. Sign up here.
URL:https://uufcc.com/event/it-matters-what-you-believe-4/
LOCATION:UUFCC – Room 6\, 780 Waupelani Drive\, State College\, PA\, 16801\, United States
CATEGORIES:Adult RE,Lifespan Religious Exploration
ATTACH;FMTTYPE=image/jpeg:https://uufcc.com/wp-content/uploads/2025/12/itmatters.jpg
ORGANIZER;CN="Unitarian Universalist Fellowship of Centre County":MAILTO:office@uufcc.com
END:VEVENT
BEGIN:VEVENT
DTSTART;TZID=America/New_York:20260306T193000
DTEND;TZID=America/New_York:20260306T210000
DTSTAMP:20260420T133251
CREATED:20250604T150226Z
LAST-MODIFIED:20250611T180339Z
UID:10009648-1772825400-1772830800@uufcc.com
SUMMARY:Justice Singers
DESCRIPTION:The Justice Singers of Centre County are an open community gathering for those who find power\, healing\, and connection through song in the face of injustice. The group sings songs of protest\, resilience\, and hope\, drawing from resources like Rise Up Singing. Participants are encouraged to bring themselves\, a friend\, and an instrument if they like\, but no experience is required—just a willingness to lift your voice. The circle also explores opportunities to sing at local actions and events\, such as the May Day Strong Day of Action\, Pride\, and other protests.
URL:https://uufcc.com/event/justice-singers/2026-03-06/
LOCATION:UUFCC – Room 6\, 780 Waupelani Drive\, State College\, PA\, 16801\, United States
CATEGORIES:Meeting,Music
END:VEVENT
BEGIN:VEVENT
DTSTART;TZID=America/New_York:20260301T113000
DTEND;TZID=America/New_York:20260301T130000
DTSTAMP:20260420T133251
CREATED:20260223T194039Z
LAST-MODIFIED:20260223T194039Z
UID:10012764-1772364600-1772370000@uufcc.com
SUMMARY:How to Raise a Good Citizen
DESCRIPTION:Why and how do we support our kids in doing social justice work? Join the Justice Committee as we talk about the power and possibilities for kids to do this work as well as protest etiquette. We will present you with tips\, tricks\, and know-how to help keep yourself\, your kids\, and your community safe while taking part in the important work of protesting.
URL:https://uufcc.com/event/how-to-raise-a-good-citizen/
LOCATION:UUFCC – Room 6\, 780 Waupelani Drive\, State College\, PA\, 16801\, United States
CATEGORIES:Adult RE,Lifespan Religious Exploration
ATTACH;FMTTYPE=image/jpeg:https://uufcc.com/wp-content/uploads/2026/02/How-to-Raise-a-Good-Citizen.jpg
ORGANIZER;CN="Unitarian Universalist Fellowship of Centre County":MAILTO:office@uufcc.com
END:VEVENT
BEGIN:VEVENT
DTSTART;TZID=America/New_York:20260226T180000
DTEND;TZID=America/New_York:20260226T190000
DTSTAMP:20260420T133251
CREATED:20231105T153317Z
LAST-MODIFIED:20231105T153344Z
UID:10002608-1772128800-1772132400@uufcc.com
SUMMARY:Music Committee
DESCRIPTION:
URL:https://uufcc.com/event/music-committee/2026-02-26/
LOCATION:UUFCC – Room 6\, 780 Waupelani Drive\, State College\, PA\, 16801\, United States
CATEGORIES:Meeting,UUFCC Committee
ORGANIZER;CN="Unitarian Universalist Fellowship of Centre County":MAILTO:office@uufcc.com
END:VEVENT
BEGIN:VEVENT
DTSTART;TZID=America/New_York:20260222T113000
DTEND;TZID=America/New_York:20260222T130000
DTSTAMP:20260420T133251
CREATED:20260122T192706Z
LAST-MODIFIED:20260122T192706Z
UID:10012668-1771759800-1771765200@uufcc.com
SUMMARY:Climate Racism Workshop
DESCRIPTION:RSVP Here. \nThe Impact \nThe intersection of racism and climate impacts is not often considered by those in roles of decision making or the dominant (white) culture at large. \nThe Need \nDisproportionate consequences of climate change calls for greater representation of those most affected in deriving equitable responses to global warming and resiliency. \nThe Goal \nWe will look at global and regional examples and name a few of the groups working to create a more equitable\, sustainable world.
URL:https://uufcc.com/event/climate-racism-workshop/
LOCATION:UUFCC – Room 6\, 780 Waupelani Drive\, State College\, PA\, 16801\, United States
CATEGORIES:Adult RE,Lifespan Religious Exploration
ATTACH;FMTTYPE=image/jpeg:https://uufcc.com/wp-content/uploads/2026/01/Climate-Racism.jpg
END:VEVENT
BEGIN:VEVENT
DTSTART;TZID=America/New_York:20260217T190000
DTEND;TZID=America/New_York:20260217T210000
DTSTAMP:20260420T133251
CREATED:20240618T175644Z
LAST-MODIFIED:20240618T175645Z
UID:10005783-1771354800-1771362000@uufcc.com
SUMMARY:Board of Trustees
DESCRIPTION:
URL:https://uufcc.com/event/board-of-trustees-3/2026-02-17/
LOCATION:UUFCC – Room 6\, 780 Waupelani Drive\, State College\, PA\, 16801\, United States
CATEGORIES:Meeting
ORGANIZER;CN="Unitarian Universalist Fellowship of Centre County":MAILTO:office@uufcc.com
END:VEVENT
BEGIN:VEVENT
DTSTART;TZID=America/New_York:20260215T113000
DTEND;TZID=America/New_York:20260215T130000
DTSTAMP:20260420T133251
CREATED:20260204T193055Z
LAST-MODIFIED:20260205T182617Z
UID:10012487-1771155000-1771160400@uufcc.com
SUMMARY:It Matters What You Believe
DESCRIPTION:For this date\, please read this for the session on Truth. This series explores the 5 smooth stones of Unitarian Universalism written by James Luther Adams as our starting point and container. The sessions cover: truth\, connection\, justice\, agency\, and hope. Come to any one session or all. Sign up here.
URL:https://uufcc.com/event/it-matters-what-you-believe-2/
LOCATION:UUFCC – Room 6\, 780 Waupelani Drive\, State College\, PA\, 16801\, United States
CATEGORIES:Adult RE,Lifespan Religious Exploration
ATTACH;FMTTYPE=image/jpeg:https://uufcc.com/wp-content/uploads/2025/12/itmatters.jpg
ORGANIZER;CN="Unitarian Universalist Fellowship of Centre County":MAILTO:office@uufcc.com
END:VEVENT
BEGIN:VEVENT
DTSTART;TZID=America/New_York:20260212T130000
DTEND;TZID=America/New_York:20260212T150000
DTSTAMP:20260420T133251
CREATED:20240903T175952Z
LAST-MODIFIED:20240903T175953Z
UID:10006780-1770901200-1770908400@uufcc.com
SUMMARY:Finance and Stewardship Committee
DESCRIPTION:
URL:https://uufcc.com/event/finance-and-stewardship-committee-3/2026-02-12/
LOCATION:UUFCC – Room 6\, 780 Waupelani Drive\, State College\, PA\, 16801\, United States
CATEGORIES:Meeting,UUFCC Committee
ORGANIZER;CN="Unitarian Universalist Fellowship of Centre County":MAILTO:office@uufcc.com
END:VEVENT
BEGIN:VEVENT
DTSTART;TZID=America/New_York:20260208T113000
DTEND;TZID=America/New_York:20260208T130000
DTSTAMP:20260420T133251
CREATED:20260121T184051Z
LAST-MODIFIED:20260203T175635Z
UID:10012667-1770550200-1770555600@uufcc.com
SUMMARY:D.E.A.L. Book Club - Against Technoableism by Ashley Shew
DESCRIPTION:Discussion facilitated by Emory McKenna. \nThis badly needed introduction to disability expertise considers mobility devices\, medical infrastructure\, neurodivergence\, and the crucial relationship between disability and race. The future\, Shew points out\, is surely disabled―whether through changing climate\, new diseases\, or even through space travel. \nThis group is open to all folks who would like to join! Even if you are unable to or haven’t read the book\, but would like to join the conversation\, we welcome you. \n\n\nPRINT COPIES ARE AVAILABLE FOR FREE – SEE ASHLEY HAMLIN (WHILE SUPPLIES LASTS)\nTHE AUDIOBOOK & E-BOOK VERSIONS CAN BE FOUND THROUGH THE LIBBY APP\nPLEASE ALSO CONSIDER SUPPORTING YOUR LOCAL LIBRARY OR INDEPENDENT BOOKSTORE
URL:https://uufcc.com/event/d-e-a-l-book-club-against-technoableism-by-ashley-shew/
LOCATION:UUFCC – Room 6\, 780 Waupelani Drive\, State College\, PA\, 16801\, United States
CATEGORIES:Adult RE,Lifespan Religious Exploration
ATTACH;FMTTYPE=image/jpeg:https://uufcc.com/wp-content/uploads/2026/01/UUFCC-D.E.A.L.-Against-Technoableism.jpg
END:VEVENT
BEGIN:VEVENT
DTSTART;TZID=America/New_York:20260208T100000
DTEND;TZID=America/New_York:20260208T110000
DTSTAMP:20260420T133251
CREATED:20260204T182913Z
LAST-MODIFIED:20260204T183038Z
UID:10011073-1770544800-1770548400@uufcc.com
SUMMARY:RE: Middle School
DESCRIPTION:Discussion and activity around our monthly theme. \nIn services led by Rev. Tracy Sprowls\, kids remain in the Sanctuary until the Wisdom Lesson\, then go to class. In multigenerational services\, they stay for the entire service.
URL:https://uufcc.com/event/re-middle-school-8/
LOCATION:UUFCC – Room 6\, 780 Waupelani Drive\, State College\, PA\, 16801\, United States
CATEGORIES:Lifespan Religious Exploration,Middle School Youth,RE Kids & Youth
ORGANIZER;CN="Unitarian Universalist Fellowship of Centre County":MAILTO:office@uufcc.com
END:VEVENT
BEGIN:VEVENT
DTSTART;TZID=America/New_York:20260201T113000
DTEND;TZID=America/New_York:20260201T143000
DTSTAMP:20260420T133251
CREATED:20251125T183537Z
LAST-MODIFIED:20260131T215454Z
UID:10012443-1769945400-1769956200@uufcc.com
SUMMARY:Non-Cooperation Training for Trainers
DESCRIPTION:This 3-hour workshop will cover facilitation skills and content to prepare other people to engage in nonviolent non-cooperation. Participants will leave the workshop with the knowledge and tools to facilitate their own trainings. No previous experience with facilitation is necessary to participate.
URL:https://uufcc.com/event/non-cooperation-training-for-trainers/
LOCATION:UUFCC – Room 6\, 780 Waupelani Drive\, State College\, PA\, 16801\, United States
CATEGORIES:Adult RE,Lifespan Religious Exploration
ATTACH;FMTTYPE=image/jpeg:https://uufcc.com/wp-content/uploads/2025/11/2.jpg
ORGANIZER;CN="Unitarian Universalist Fellowship of Centre County":MAILTO:office@uufcc.com
END:VEVENT
BEGIN:VEVENT
DTSTART;TZID=America/New_York:20260122T180000
DTEND;TZID=America/New_York:20260122T190000
DTSTAMP:20260420T133251
CREATED:20231105T153317Z
LAST-MODIFIED:20231105T153344Z
UID:10002607-1769104800-1769108400@uufcc.com
SUMMARY:Music Committee
DESCRIPTION:
URL:https://uufcc.com/event/music-committee/2026-01-22/
LOCATION:UUFCC – Room 6\, 780 Waupelani Drive\, State College\, PA\, 16801\, United States
CATEGORIES:Meeting,UUFCC Committee
ORGANIZER;CN="Unitarian Universalist Fellowship of Centre County":MAILTO:office@uufcc.com
END:VEVENT
BEGIN:VEVENT
DTSTART;TZID=America/New_York:20260120T190000
DTEND;TZID=America/New_York:20260120T210000
DTSTAMP:20260420T133251
CREATED:20240618T175644Z
LAST-MODIFIED:20240618T175645Z
UID:10005782-1768935600-1768942800@uufcc.com
SUMMARY:Board of Trustees
DESCRIPTION:
URL:https://uufcc.com/event/board-of-trustees-3/2026-01-20/
LOCATION:UUFCC – Room 6\, 780 Waupelani Drive\, State College\, PA\, 16801\, United States
CATEGORIES:Meeting
ORGANIZER;CN="Unitarian Universalist Fellowship of Centre County":MAILTO:office@uufcc.com
END:VEVENT
BEGIN:VEVENT
DTSTART;TZID=America/New_York:20260111T113000
DTEND;TZID=America/New_York:20260111T130000
DTSTAMP:20260420T133251
CREATED:20251223T172654Z
LAST-MODIFIED:20260107T195911Z
UID:10012486-1768131000-1768136400@uufcc.com
SUMMARY:It Matters What You Believe
DESCRIPTION:This series explores the 5 smooth stones of Unitarian Universalism written by James Luther Adams as our starting point and container. The first session will be an introduction to this essay. The following five sessions cover: Diversity/community; Nihilism/compassion; Isolation/connection; Hope/despair; Empowerment/humility. \nCome to any one session or all. Dates are January 11\, February 8\, March 8\, March 22\, April 12\, and May 3. Sign up here.
URL:https://uufcc.com/event/it-matters-what-you-believe/
LOCATION:UUFCC – Room 6\, 780 Waupelani Drive\, State College\, PA\, 16801\, United States
CATEGORIES:Adult RE,Lifespan Religious Exploration
ATTACH;FMTTYPE=image/jpeg:https://uufcc.com/wp-content/uploads/2025/12/itmatters.jpg
ORGANIZER;CN="Unitarian Universalist Fellowship of Centre County":MAILTO:office@uufcc.com
END:VEVENT
BEGIN:VEVENT
DTSTART;TZID=America/New_York:20260108T130000
DTEND;TZID=America/New_York:20260108T150000
DTSTAMP:20260420T133251
CREATED:20240903T175952Z
LAST-MODIFIED:20240903T175953Z
UID:10006779-1767877200-1767884400@uufcc.com
SUMMARY:Finance and Stewardship Committee
DESCRIPTION:
URL:https://uufcc.com/event/finance-and-stewardship-committee-3/2026-01-08/
LOCATION:UUFCC – Room 6\, 780 Waupelani Drive\, State College\, PA\, 16801\, United States
CATEGORIES:Meeting,UUFCC Committee
ORGANIZER;CN="Unitarian Universalist Fellowship of Centre County":MAILTO:office@uufcc.com
END:VEVENT
BEGIN:VEVENT
DTSTART;TZID=America/New_York:20260102T193000
DTEND;TZID=America/New_York:20260102T210000
DTSTAMP:20260420T133251
CREATED:20250604T150226Z
LAST-MODIFIED:20250611T180339Z
UID:10009646-1767382200-1767387600@uufcc.com
SUMMARY:Justice Singers
DESCRIPTION:The Justice Singers of Centre County are an open community gathering for those who find power\, healing\, and connection through song in the face of injustice. The group sings songs of protest\, resilience\, and hope\, drawing from resources like Rise Up Singing. Participants are encouraged to bring themselves\, a friend\, and an instrument if they like\, but no experience is required—just a willingness to lift your voice. The circle also explores opportunities to sing at local actions and events\, such as the May Day Strong Day of Action\, Pride\, and other protests.
URL:https://uufcc.com/event/justice-singers/2026-01-02/
LOCATION:UUFCC – Room 6\, 780 Waupelani Drive\, State College\, PA\, 16801\, United States
CATEGORIES:Meeting,Music
END:VEVENT
BEGIN:VEVENT
DTSTART;TZID=America/New_York:20251221T113000
DTEND;TZID=America/New_York:20251221T130000
DTSTAMP:20260420T133251
CREATED:20251111T171522Z
LAST-MODIFIED:20251220T201700Z
UID:10012285-1766316600-1766322000@uufcc.com
SUMMARY:D.E.A.L. Book Club: Subtle Acts of Exclusion
DESCRIPTION:Many have heard the term microaggression\, but not everyone fully understands what they are or how to recognize them and stop them from happening. Jana and Baran give simple and clear tools to identify and address such acts\, offering scripts and action plans for everybody involved. \nThis group is open to all folks who would like to join! Even if you are unable to or haven’t read the book\, but would like to join the conversation\, we welcome you. \nSee the flyer here.
URL:https://uufcc.com/event/d-e-a-l-book-club-subtle-acts-of-exclusion/
LOCATION:UUFCC – Room 6\, 780 Waupelani Drive\, State College\, PA\, 16801\, United States
CATEGORIES:Adult RE,Lifespan Religious Exploration
END:VEVENT
BEGIN:VEVENT
DTSTART;TZID=America/New_York:20251216T190000
DTEND;TZID=America/New_York:20251216T210000
DTSTAMP:20260420T133251
CREATED:20240618T175644Z
LAST-MODIFIED:20240618T175645Z
UID:10005781-1765911600-1765918800@uufcc.com
SUMMARY:Board of Trustees
DESCRIPTION:
URL:https://uufcc.com/event/board-of-trustees-3/2025-12-16/
LOCATION:UUFCC – Room 6\, 780 Waupelani Drive\, State College\, PA\, 16801\, United States
CATEGORIES:Meeting
ORGANIZER;CN="Unitarian Universalist Fellowship of Centre County":MAILTO:office@uufcc.com
END:VEVENT
END:VCALENDAR