BEGIN:VCALENDAR
VERSION:2.0
PRODID:-//UUFCC - ECPv6.15.17//NONSGML v1.0//EN
CALSCALE:GREGORIAN
METHOD:PUBLISH
X-ORIGINAL-URL:https://uufcc.com
X-WR-CALDESC:Events for UUFCC
REFRESH-INTERVAL;VALUE=DURATION:PT1H
X-Robots-Tag:noindex
X-PUBLISHED-TTL:PT1H
BEGIN:VTIMEZONE
TZID:America/New_York
BEGIN:DAYLIGHT
TZOFFSETFROM:-0500
TZOFFSETTO:-0400
TZNAME:EDT
DTSTART:20240310T070000
END:DAYLIGHT
BEGIN:STANDARD
TZOFFSETFROM:-0400
TZOFFSETTO:-0500
TZNAME:EST
DTSTART:20241103T060000
END:STANDARD
BEGIN:DAYLIGHT
TZOFFSETFROM:-0500
TZOFFSETTO:-0400
TZNAME:EDT
DTSTART:20250309T070000
END:DAYLIGHT
BEGIN:STANDARD
TZOFFSETFROM:-0400
TZOFFSETTO:-0500
TZNAME:EST
DTSTART:20251102T060000
END:STANDARD
BEGIN:DAYLIGHT
TZOFFSETFROM:-0500
TZOFFSETTO:-0400
TZNAME:EDT
DTSTART:20260308T070000
END:DAYLIGHT
BEGIN:STANDARD
TZOFFSETFROM:-0400
TZOFFSETTO:-0500
TZNAME:EST
DTSTART:20261101T060000
END:STANDARD
END:VTIMEZONE
BEGIN:VEVENT
DTSTART;TZID=America/New_York:20250905T193000
DTEND;TZID=America/New_York:20250905T210000
DTSTAMP:20260425T112444
CREATED:20250604T150226Z
LAST-MODIFIED:20250611T180339Z
UID:10009642-1757100600-1757106000@uufcc.com
SUMMARY:Justice Singers
DESCRIPTION:The Justice Singers of Centre County are an open community gathering for those who find power\, healing\, and connection through song in the face of injustice. The group sings songs of protest\, resilience\, and hope\, drawing from resources like Rise Up Singing. Participants are encouraged to bring themselves\, a friend\, and an instrument if they like\, but no experience is required—just a willingness to lift your voice. The circle also explores opportunities to sing at local actions and events\, such as the May Day Strong Day of Action\, Pride\, and other protests.
URL:https://uufcc.com/event/justice-singers/2025-09-05/
LOCATION:UUFCC – Room 6\, 780 Waupelani Drive\, State College\, PA\, 16801\, United States
CATEGORIES:Meeting,Music
END:VEVENT
BEGIN:VEVENT
DTSTART;TZID=America/New_York:20250821T180000
DTEND;TZID=America/New_York:20250821T190000
DTSTAMP:20260425T112444
CREATED:20250823T150143Z
LAST-MODIFIED:20250823T150154Z
UID:10002602-1755799200-1755802800@uufcc.com
SUMMARY:Music Committee
DESCRIPTION:
URL:https://uufcc.com/event/music-committee-4/
LOCATION:UUFCC – Room 6\, 780 Waupelani Drive\, State College\, PA\, 16801\, United States
CATEGORIES:Meeting,UUFCC Committee
ORGANIZER;CN="Unitarian Universalist Fellowship of Centre County":MAILTO:office@uufcc.com
END:VEVENT
BEGIN:VEVENT
DTSTART;TZID=America/New_York:20250819T190000
DTEND;TZID=America/New_York:20250819T210000
DTSTAMP:20260425T112444
CREATED:20240618T175644Z
LAST-MODIFIED:20240618T175645Z
UID:10005777-1755630000-1755637200@uufcc.com
SUMMARY:Board of Trustees
DESCRIPTION:
URL:https://uufcc.com/event/board-of-trustees-3/2025-08-19/
LOCATION:UUFCC – Room 6\, 780 Waupelani Drive\, State College\, PA\, 16801\, United States
CATEGORIES:Meeting
ORGANIZER;CN="Unitarian Universalist Fellowship of Centre County":MAILTO:office@uufcc.com
END:VEVENT
BEGIN:VEVENT
DTSTART;TZID=America/New_York:20250814T130000
DTEND;TZID=America/New_York:20250814T150000
DTSTAMP:20260425T112444
CREATED:20240903T175952Z
LAST-MODIFIED:20240903T175953Z
UID:10006774-1755176400-1755183600@uufcc.com
SUMMARY:Finance and Stewardship Committee
DESCRIPTION:
URL:https://uufcc.com/event/finance-and-stewardship-committee-3/2025-08-14/
LOCATION:UUFCC – Room 6\, 780 Waupelani Drive\, State College\, PA\, 16801\, United States
CATEGORIES:Meeting,UUFCC Committee
ORGANIZER;CN="Unitarian Universalist Fellowship of Centre County":MAILTO:office@uufcc.com
END:VEVENT
BEGIN:VEVENT
DTSTART;TZID=America/New_York:20250810T113000
DTEND;TZID=America/New_York:20250810T120000
DTSTAMP:20260425T112444
CREATED:20250803T152032Z
LAST-MODIFIED:20250803T152032Z
UID:10010410-1754825400-1754827200@uufcc.com
SUMMARY:Fight Fraud with the Senior Medicare  Patrol
DESCRIPTION:(Location: UUFCC Room 6)\nPlease join guest speaker Bill Wade for a special ~20 minute presentation on Medicare Fraud Awareness and Prevention: Medicare loses nearly $100 BILLION a year to fraud\, which impacts YOUR premium costs and access to care. Join the SMP to fight back!
URL:https://uufcc.com/event/fight-fraud-with-the-senior-medicare-patrol/
LOCATION:UUFCC – Room 6\, 780 Waupelani Drive\, State College\, PA\, 16801\, United States
ATTACH;FMTTYPE=image/png:https://uufcc.com/wp-content/uploads/2025/08/2025-SMP-Social-Media-Advertising-Poster-UUFCC.png
END:VEVENT
BEGIN:VEVENT
DTSTART;TZID=America/New_York:20250801T193000
DTEND;TZID=America/New_York:20250801T210000
DTSTAMP:20260425T112444
CREATED:20250604T150226Z
LAST-MODIFIED:20250611T180339Z
UID:10009641-1754076600-1754082000@uufcc.com
SUMMARY:Justice Singers
DESCRIPTION:The Justice Singers of Centre County are an open community gathering for those who find power\, healing\, and connection through song in the face of injustice. The group sings songs of protest\, resilience\, and hope\, drawing from resources like Rise Up Singing. Participants are encouraged to bring themselves\, a friend\, and an instrument if they like\, but no experience is required—just a willingness to lift your voice. The circle also explores opportunities to sing at local actions and events\, such as the May Day Strong Day of Action\, Pride\, and other protests.
URL:https://uufcc.com/event/justice-singers/2025-08-01/
LOCATION:UUFCC – Room 6\, 780 Waupelani Drive\, State College\, PA\, 16801\, United States
CATEGORIES:Meeting,Music
END:VEVENT
BEGIN:VEVENT
DTSTART;TZID=America/New_York:20250724T180000
DTEND;TZID=America/New_York:20250724T190000
DTSTAMP:20260425T112444
CREATED:20231105T153317Z
LAST-MODIFIED:20231105T153344Z
UID:10002601-1753380000-1753383600@uufcc.com
SUMMARY:Music Committee
DESCRIPTION:
URL:https://uufcc.com/event/music-committee/2025-07-24/
LOCATION:UUFCC – Room 6\, 780 Waupelani Drive\, State College\, PA\, 16801\, United States
CATEGORIES:Meeting,UUFCC Committee
ORGANIZER;CN="Unitarian Universalist Fellowship of Centre County":MAILTO:office@uufcc.com
END:VEVENT
BEGIN:VEVENT
DTSTART;TZID=America/New_York:20250723T190000
DTEND;TZID=America/New_York:20250723T203000
DTSTAMP:20260425T112444
CREATED:20240903T181044Z
LAST-MODIFIED:20240903T181252Z
UID:10006833-1753297200-1753302600@uufcc.com
SUMMARY:Women's Book Club
DESCRIPTION:We are a women’s book club that meet on the fourth Wednesday of every month at 7:00 PM. We choose our books once a year\, and the person who recommends the book generally leads the discussion. The group is hosted by a different member each month. New members and visitors are welcome at any meeting. \nThis month’s book is:
URL:https://uufcc.com/event/womens-book-club/2025-07-23/
LOCATION:UUFCC – Room 6\, 780 Waupelani Drive\, State College\, PA\, 16801\, United States
CATEGORIES:Meeting
ATTACH;FMTTYPE=image/png:https://uufcc.com/wp-content/uploads/2024/09/womens-book-club.png
ORGANIZER;CN="Unitarian Universalist Fellowship of Centre County":MAILTO:office@uufcc.com
END:VEVENT
BEGIN:VEVENT
DTSTART;TZID=America/New_York:20250717T130000
DTEND;TZID=America/New_York:20250717T150000
DTSTAMP:20260425T112444
CREATED:20250703T183458Z
LAST-MODIFIED:20250703T183509Z
UID:10006773-1752757200-1752764400@uufcc.com
SUMMARY:Finance and Stewardship Committee
DESCRIPTION:
URL:https://uufcc.com/event/finance-and-stewardship-committee-6/
LOCATION:UUFCC – Room 6\, 780 Waupelani Drive\, State College\, PA\, 16801\, United States
CATEGORIES:Meeting,UUFCC Committee
ORGANIZER;CN="Unitarian Universalist Fellowship of Centre County":MAILTO:office@uufcc.com
END:VEVENT
BEGIN:VEVENT
DTSTART;TZID=America/New_York:20250716T183000
DTEND;TZID=America/New_York:20250716T200000
DTSTAMP:20260425T112444
CREATED:20250716T160814Z
LAST-MODIFIED:20250716T160814Z
UID:10010121-1752690600-1752696000@uufcc.com
SUMMARY:Justice Singers
DESCRIPTION:
URL:https://uufcc.com/event/justice-singers-3/
LOCATION:UUFCC – Room 6\, 780 Waupelani Drive\, State College\, PA\, 16801\, United States
END:VEVENT
BEGIN:VEVENT
DTSTART;TZID=America/New_York:20250710T193000
DTEND;TZID=America/New_York:20250710T210000
DTSTAMP:20260425T112444
CREATED:20250610T172729Z
LAST-MODIFIED:20250611T180213Z
UID:10009640-1752175800-1752181200@uufcc.com
SUMMARY:Justice Singers
DESCRIPTION:The Justice Singers of Centre County are an open community gathering for those who find power\, healing\, and connection through song in the face of injustice. The group sings songs of protest\, resilience\, and hope\, drawing from resources like Rise Up Singing. Participants are encouraged to bring themselves\, a friend\, and an instrument if they like\, but no experience is required—just a willingness to lift your voice. The circle also explores opportunities to sing at local actions and events\, such as the May Day Strong Day of Action\, Pride\, and other protests.
URL:https://uufcc.com/event/justice-singers-2/
LOCATION:UUFCC – Room 6\, 780 Waupelani Drive\, State College\, PA\, 16801\, United States
CATEGORIES:Meeting,Music
END:VEVENT
BEGIN:VEVENT
DTSTART;TZID=America/New_York:20250626T180000
DTEND;TZID=America/New_York:20250626T190000
DTSTAMP:20260425T112444
CREATED:20231105T153317Z
LAST-MODIFIED:20231105T153344Z
UID:10002600-1750960800-1750964400@uufcc.com
SUMMARY:Music Committee
DESCRIPTION:
URL:https://uufcc.com/event/music-committee/2025-06-26/
LOCATION:UUFCC – Room 6\, 780 Waupelani Drive\, State College\, PA\, 16801\, United States
CATEGORIES:Meeting,UUFCC Committee
ORGANIZER;CN="Unitarian Universalist Fellowship of Centre County":MAILTO:office@uufcc.com
END:VEVENT
BEGIN:VEVENT
DTSTART;TZID=America/New_York:20250625T190000
DTEND;TZID=America/New_York:20250625T203000
DTSTAMP:20260425T112444
CREATED:20240903T181044Z
LAST-MODIFIED:20240903T181252Z
UID:10006832-1750878000-1750883400@uufcc.com
SUMMARY:Women's Book Club
DESCRIPTION:We are a women’s book club that meet on the fourth Wednesday of every month at 7:00 PM. We choose our books once a year\, and the person who recommends the book generally leads the discussion. The group is hosted by a different member each month. New members and visitors are welcome at any meeting. \nThis month’s book is:
URL:https://uufcc.com/event/womens-book-club/2025-06-25/
LOCATION:UUFCC – Room 6\, 780 Waupelani Drive\, State College\, PA\, 16801\, United States
CATEGORIES:Meeting
ATTACH;FMTTYPE=image/png:https://uufcc.com/wp-content/uploads/2024/09/womens-book-club.png
ORGANIZER;CN="Unitarian Universalist Fellowship of Centre County":MAILTO:office@uufcc.com
END:VEVENT
BEGIN:VEVENT
DTSTART;TZID=America/New_York:20250617T190000
DTEND;TZID=America/New_York:20250617T210000
DTSTAMP:20260425T112444
CREATED:20240618T175644Z
LAST-MODIFIED:20240618T175645Z
UID:10005775-1750186800-1750194000@uufcc.com
SUMMARY:Board of Trustees
DESCRIPTION:
URL:https://uufcc.com/event/board-of-trustees-3/2025-06-17/
LOCATION:UUFCC – Room 6\, 780 Waupelani Drive\, State College\, PA\, 16801\, United States
CATEGORIES:Meeting
ORGANIZER;CN="Unitarian Universalist Fellowship of Centre County":MAILTO:office@uufcc.com
END:VEVENT
BEGIN:VEVENT
DTSTART;TZID=America/New_York:20250612T130000
DTEND;TZID=America/New_York:20250612T150000
DTSTAMP:20260425T112444
CREATED:20240903T175952Z
LAST-MODIFIED:20240903T175953Z
UID:10006772-1749733200-1749740400@uufcc.com
SUMMARY:Finance and Stewardship Committee
DESCRIPTION:
URL:https://uufcc.com/event/finance-and-stewardship-committee-3/2025-06-12/
LOCATION:UUFCC – Room 6\, 780 Waupelani Drive\, State College\, PA\, 16801\, United States
CATEGORIES:Meeting,UUFCC Committee
ORGANIZER;CN="Unitarian Universalist Fellowship of Centre County":MAILTO:office@uufcc.com
END:VEVENT
BEGIN:VEVENT
DTSTART;TZID=America/New_York:20250606T193000
DTEND;TZID=America/New_York:20250606T210000
DTSTAMP:20260425T112444
CREATED:20250604T150226Z
LAST-MODIFIED:20250611T180339Z
UID:10009639-1749238200-1749243600@uufcc.com
SUMMARY:Justice Singers
DESCRIPTION:The Justice Singers of Centre County are an open community gathering for those who find power\, healing\, and connection through song in the face of injustice. The group sings songs of protest\, resilience\, and hope\, drawing from resources like Rise Up Singing. Participants are encouraged to bring themselves\, a friend\, and an instrument if they like\, but no experience is required—just a willingness to lift your voice. The circle also explores opportunities to sing at local actions and events\, such as the May Day Strong Day of Action\, Pride\, and other protests.
URL:https://uufcc.com/event/justice-singers/2025-06-06/
LOCATION:UUFCC – Room 6\, 780 Waupelani Drive\, State College\, PA\, 16801\, United States
CATEGORIES:Meeting,Music
END:VEVENT
BEGIN:VEVENT
DTSTART;TZID=America/New_York:20250528T190000
DTEND;TZID=America/New_York:20250528T203000
DTSTAMP:20260425T112444
CREATED:20240903T181044Z
LAST-MODIFIED:20240903T181252Z
UID:10006831-1748458800-1748464200@uufcc.com
SUMMARY:Women's Book Club
DESCRIPTION:We are a women’s book club that meet on the fourth Wednesday of every month at 7:00 PM. We choose our books once a year\, and the person who recommends the book generally leads the discussion. The group is hosted by a different member each month. New members and visitors are welcome at any meeting. \nThis month’s book is:
URL:https://uufcc.com/event/womens-book-club/2025-05-28/
LOCATION:UUFCC – Room 6\, 780 Waupelani Drive\, State College\, PA\, 16801\, United States
CATEGORIES:Meeting
ATTACH;FMTTYPE=image/png:https://uufcc.com/wp-content/uploads/2024/09/womens-book-club.png
ORGANIZER;CN="Unitarian Universalist Fellowship of Centre County":MAILTO:office@uufcc.com
END:VEVENT
BEGIN:VEVENT
DTSTART;TZID=America/New_York:20250525T113000
DTEND;TZID=America/New_York:20250525T123000
DTSTAMP:20260425T112444
CREATED:20250520T172359Z
LAST-MODIFIED:20250520T172359Z
UID:10009578-1748172600-1748176200@uufcc.com
SUMMARY:Treasurer's Budget Overview
DESCRIPTION:With Martha Butler\, Treasurer. \nAt the annual meeting on June 1st\, we will be voting on the UUFCC budget for the 2025-26 fiscal year. If you’d like more information about the budget before the annual meeting\, please plan to attend this session. \nOur Treasurer\, Martha Butler\, will show the reports she has developed on the proposed budget vs. this current year’s spending and the thinking that went into the various items in the budget. \nThere will be time for questions and discussion.
URL:https://uufcc.com/event/treasurers-budget-overview-2/
LOCATION:UUFCC – Room 6\, 780 Waupelani Drive\, State College\, PA\, 16801\, United States
CATEGORIES:Event,Meeting
ORGANIZER;CN="Unitarian Universalist Fellowship of Centre County":MAILTO:office@uufcc.com
END:VEVENT
BEGIN:VEVENT
DTSTART;TZID=America/New_York:20250522T180000
DTEND;TZID=America/New_York:20250522T190000
DTSTAMP:20260425T112444
CREATED:20231105T153317Z
LAST-MODIFIED:20231105T153344Z
UID:10002599-1747936800-1747940400@uufcc.com
SUMMARY:Music Committee
DESCRIPTION:
URL:https://uufcc.com/event/music-committee/2025-05-22/
LOCATION:UUFCC – Room 6\, 780 Waupelani Drive\, State College\, PA\, 16801\, United States
CATEGORIES:Meeting,UUFCC Committee
ORGANIZER;CN="Unitarian Universalist Fellowship of Centre County":MAILTO:office@uufcc.com
END:VEVENT
BEGIN:VEVENT
DTSTART;TZID=America/New_York:20250520T190000
DTEND;TZID=America/New_York:20250520T210000
DTSTAMP:20260425T112444
CREATED:20240618T175644Z
LAST-MODIFIED:20240618T175645Z
UID:10005774-1747767600-1747774800@uufcc.com
SUMMARY:Board of Trustees
DESCRIPTION:
URL:https://uufcc.com/event/board-of-trustees-3/2025-05-20/
LOCATION:UUFCC – Room 6\, 780 Waupelani Drive\, State College\, PA\, 16801\, United States
CATEGORIES:Meeting
ORGANIZER;CN="Unitarian Universalist Fellowship of Centre County":MAILTO:office@uufcc.com
END:VEVENT
BEGIN:VEVENT
DTSTART;TZID=America/New_York:20250518T113000
DTEND;TZID=America/New_York:20250518T130000
DTSTAMP:20260425T112444
CREATED:20250323T135742Z
LAST-MODIFIED:20250323T135742Z
UID:10008328-1747567800-1747573200@uufcc.com
SUMMARY:UU Common Read: Authentic Selves
DESCRIPTION:The 2024-25 UU Common Read is Authentic Selves: Celebrating Trans and Nonbinary People and Their Families (Skinner House\, 2023). Through interviews and photo portraits\, the subjects of this book invite readers into their real lives–their revelations\, challenges\, joys\, and networks of support. This Common Read invites UU groups to explore the nature of living authentically and the ways connections among us help us thrive. \nAuthentic Selves\, is a sweeping compilation of life stories and portraits of trans and nonbinary people\, as well as their partners\, parents\, children\, siblings\, and chosen family members. This important new book was developed in collaboration with PFLAG National and Transgender Legal Defense & Education Fund.
URL:https://uufcc.com/event/uu-common-read-authentic-selves/
LOCATION:UUFCC – Room 6\, 780 Waupelani Drive\, State College\, PA\, 16801\, United States
CATEGORIES:Adult RE,Lifespan Religious Exploration
ATTACH;FMTTYPE=image/jpeg:https://uufcc.com/wp-content/uploads/2025/03/81lo2d84ryL._AC_UF10001000_QL80_.jpg
END:VEVENT
BEGIN:VEVENT
DTSTART;TZID=America/New_York:20250508T130000
DTEND;TZID=America/New_York:20250508T150000
DTSTAMP:20260425T112444
CREATED:20240903T175952Z
LAST-MODIFIED:20240903T175953Z
UID:10006771-1746709200-1746716400@uufcc.com
SUMMARY:Finance and Stewardship Committee
DESCRIPTION:
URL:https://uufcc.com/event/finance-and-stewardship-committee-3/2025-05-08/
LOCATION:UUFCC – Room 6\, 780 Waupelani Drive\, State College\, PA\, 16801\, United States
CATEGORIES:Meeting,UUFCC Committee
ORGANIZER;CN="Unitarian Universalist Fellowship of Centre County":MAILTO:office@uufcc.com
END:VEVENT
BEGIN:VEVENT
DTSTART;TZID=America/New_York:20250427T113000
DTEND;TZID=America/New_York:20250427T124500
DTSTAMP:20260425T112444
CREATED:20241126T120324Z
LAST-MODIFIED:20250212T184106Z
UID:10008173-1745753400-1745757900@uufcc.com
SUMMARY:Mosaic: Fostering Belonging and Liberation
DESCRIPTION:Session-specific information coming soon. \n\nThis is a new anti-racism curriculum curated by the UUA to help Unitarian Universalist congregations further their work of dismantling oppression. The 3 sessions will address identity caucusing\, the history of racism in Unitarian Universalism\, anti-racism\, and white entitlement. Led by trained facilitators and organized by the Racial Justice Committee. Contact Suzanne Weinstein or Laura Liermann for more information. \nSign-up for any of the Mosaic sessions here!
URL:https://uufcc.com/event/adult-re-class-mosaic-fostering-belonging-and-liberation/
LOCATION:UUFCC – Room 6\, 780 Waupelani Drive\, State College\, PA\, 16801\, United States
CATEGORIES:Adult RE,Lifespan Religious Exploration
ATTACH;FMTTYPE=image/png:https://uufcc.com/wp-content/uploads/2024/09/Mosaic.png
END:VEVENT
BEGIN:VEVENT
DTSTART;TZID=America/New_York:20250424T180000
DTEND;TZID=America/New_York:20250424T190000
DTSTAMP:20260425T112444
CREATED:20231105T153317Z
LAST-MODIFIED:20231105T153344Z
UID:10002598-1745517600-1745521200@uufcc.com
SUMMARY:Music Committee
DESCRIPTION:
URL:https://uufcc.com/event/music-committee/2025-04-24/
LOCATION:UUFCC – Room 6\, 780 Waupelani Drive\, State College\, PA\, 16801\, United States
CATEGORIES:Meeting,UUFCC Committee
ORGANIZER;CN="Unitarian Universalist Fellowship of Centre County":MAILTO:office@uufcc.com
END:VEVENT
BEGIN:VEVENT
DTSTART;TZID=America/New_York:20250423T190000
DTEND;TZID=America/New_York:20250423T203000
DTSTAMP:20260425T112444
CREATED:20240903T181044Z
LAST-MODIFIED:20240903T181252Z
UID:10006830-1745434800-1745440200@uufcc.com
SUMMARY:Women's Book Club
DESCRIPTION:We are a women’s book club that meet on the fourth Wednesday of every month at 7:00 PM. We choose our books once a year\, and the person who recommends the book generally leads the discussion. The group is hosted by a different member each month. New members and visitors are welcome at any meeting. \nThis month’s book is:
URL:https://uufcc.com/event/womens-book-club/2025-04-23/
LOCATION:UUFCC – Room 6\, 780 Waupelani Drive\, State College\, PA\, 16801\, United States
CATEGORIES:Meeting
ATTACH;FMTTYPE=image/png:https://uufcc.com/wp-content/uploads/2024/09/womens-book-club.png
ORGANIZER;CN="Unitarian Universalist Fellowship of Centre County":MAILTO:office@uufcc.com
END:VEVENT
BEGIN:VEVENT
DTSTART;TZID=America/New_York:20250415T190000
DTEND;TZID=America/New_York:20250415T210000
DTSTAMP:20260425T112444
CREATED:20240618T175644Z
LAST-MODIFIED:20240618T175645Z
UID:10005773-1744743600-1744750800@uufcc.com
SUMMARY:Board of Trustees
DESCRIPTION:
URL:https://uufcc.com/event/board-of-trustees-3/2025-04-15/
LOCATION:UUFCC – Room 6\, 780 Waupelani Drive\, State College\, PA\, 16801\, United States
CATEGORIES:Meeting
ORGANIZER;CN="Unitarian Universalist Fellowship of Centre County":MAILTO:office@uufcc.com
END:VEVENT
BEGIN:VEVENT
DTSTART;TZID=America/New_York:20250410T130000
DTEND;TZID=America/New_York:20250410T150000
DTSTAMP:20260425T112444
CREATED:20240903T175952Z
LAST-MODIFIED:20240903T175953Z
UID:10006770-1744290000-1744297200@uufcc.com
SUMMARY:Finance and Stewardship Committee
DESCRIPTION:
URL:https://uufcc.com/event/finance-and-stewardship-committee-3/2025-04-10/
LOCATION:UUFCC – Room 6\, 780 Waupelani Drive\, State College\, PA\, 16801\, United States
CATEGORIES:Meeting,UUFCC Committee
ORGANIZER;CN="Unitarian Universalist Fellowship of Centre County":MAILTO:office@uufcc.com
END:VEVENT
BEGIN:VEVENT
DTSTART;TZID=America/New_York:20250330T113000
DTEND;TZID=America/New_York:20250330T124500
DTSTAMP:20260425T112444
CREATED:20250129T192153Z
LAST-MODIFIED:20250212T184039Z
UID:10007700-1743334200-1743338700@uufcc.com
SUMMARY:Mosaic: Fostering Belonging and Liberation
DESCRIPTION:Session-specific information coming soon. \n\nThis is a new anti-racism curriculum curated by the UUA to help Unitarian Universalist congregations further their work of dismantling oppression. The 3 sessions will address identity caucusing\, the history of racism in Unitarian Universalism\, anti-racism\, and white entitlement. Led by trained facilitators and organized by the Racial Justice Committee. Contact Suzanne Weinstein or Laura Liermann for more information. \nSign-up for any of the Mosaic sessions here!
URL:https://uufcc.com/event/mosaic-fostering-belonging-and-liberation/
LOCATION:UUFCC – Room 6\, 780 Waupelani Drive\, State College\, PA\, 16801\, United States
CATEGORIES:Adult RE,Lifespan Religious Exploration
ATTACH;FMTTYPE=image/png:https://uufcc.com/wp-content/uploads/2024/09/Mosaic.png
END:VEVENT
BEGIN:VEVENT
DTSTART;TZID=America/New_York:20250327T180000
DTEND;TZID=America/New_York:20250327T190000
DTSTAMP:20260425T112444
CREATED:20231105T153317Z
LAST-MODIFIED:20231105T153344Z
UID:10002597-1743098400-1743102000@uufcc.com
SUMMARY:Music Committee
DESCRIPTION:
URL:https://uufcc.com/event/music-committee/2025-03-27/
LOCATION:UUFCC – Room 6\, 780 Waupelani Drive\, State College\, PA\, 16801\, United States
CATEGORIES:Meeting,UUFCC Committee
ORGANIZER;CN="Unitarian Universalist Fellowship of Centre County":MAILTO:office@uufcc.com
END:VEVENT
BEGIN:VEVENT
DTSTART;TZID=America/New_York:20250326T190000
DTEND;TZID=America/New_York:20250326T203000
DTSTAMP:20260425T112444
CREATED:20240903T181044Z
LAST-MODIFIED:20240903T181252Z
UID:10006829-1743015600-1743021000@uufcc.com
SUMMARY:Women's Book Club
DESCRIPTION:We are a women’s book club that meet on the fourth Wednesday of every month at 7:00 PM. We choose our books once a year\, and the person who recommends the book generally leads the discussion. The group is hosted by a different member each month. New members and visitors are welcome at any meeting. \nThis month’s book is:
URL:https://uufcc.com/event/womens-book-club/2025-03-26/
LOCATION:UUFCC – Room 6\, 780 Waupelani Drive\, State College\, PA\, 16801\, United States
CATEGORIES:Meeting
ATTACH;FMTTYPE=image/png:https://uufcc.com/wp-content/uploads/2024/09/womens-book-club.png
ORGANIZER;CN="Unitarian Universalist Fellowship of Centre County":MAILTO:office@uufcc.com
END:VEVENT
END:VCALENDAR