BEGIN:VCALENDAR
VERSION:2.0
PRODID:-//UUFCC - ECPv6.15.17//NONSGML v1.0//EN
CALSCALE:GREGORIAN
METHOD:PUBLISH
X-ORIGINAL-URL:https://uufcc.com
X-WR-CALDESC:Events for UUFCC
REFRESH-INTERVAL;VALUE=DURATION:PT1H
X-Robots-Tag:noindex
X-PUBLISHED-TTL:PT1H
BEGIN:VTIMEZONE
TZID:America/New_York
BEGIN:DAYLIGHT
TZOFFSETFROM:-0500
TZOFFSETTO:-0400
TZNAME:EDT
DTSTART:20230312T070000
END:DAYLIGHT
BEGIN:STANDARD
TZOFFSETFROM:-0400
TZOFFSETTO:-0500
TZNAME:EST
DTSTART:20231105T060000
END:STANDARD
BEGIN:DAYLIGHT
TZOFFSETFROM:-0500
TZOFFSETTO:-0400
TZNAME:EDT
DTSTART:20240310T070000
END:DAYLIGHT
BEGIN:STANDARD
TZOFFSETFROM:-0400
TZOFFSETTO:-0500
TZNAME:EST
DTSTART:20241103T060000
END:STANDARD
BEGIN:DAYLIGHT
TZOFFSETFROM:-0500
TZOFFSETTO:-0400
TZNAME:EDT
DTSTART:20250309T070000
END:DAYLIGHT
BEGIN:STANDARD
TZOFFSETFROM:-0400
TZOFFSETTO:-0500
TZNAME:EST
DTSTART:20251102T060000
END:STANDARD
BEGIN:DAYLIGHT
TZOFFSETFROM:-0500
TZOFFSETTO:-0400
TZNAME:EDT
DTSTART:20260308T070000
END:DAYLIGHT
BEGIN:STANDARD
TZOFFSETFROM:-0400
TZOFFSETTO:-0500
TZNAME:EST
DTSTART:20261101T060000
END:STANDARD
BEGIN:DAYLIGHT
TZOFFSETFROM:-0500
TZOFFSETTO:-0400
TZNAME:EDT
DTSTART:20270314T070000
END:DAYLIGHT
BEGIN:STANDARD
TZOFFSETFROM:-0400
TZOFFSETTO:-0500
TZNAME:EST
DTSTART:20271107T060000
END:STANDARD
END:VTIMEZONE
BEGIN:VEVENT
DTSTART;TZID=America/New_York:20260212T190000
DTEND;TZID=America/New_York:20260212T203000
DTSTAMP:20260420T232537
CREATED:20260121T165914Z
LAST-MODIFIED:20260121T165948Z
UID:10012664-1770922800-1770928200@uufcc.com
SUMMARY:Community Event: Climate Cafe to Share Eco-Anxiety
DESCRIPTION:Feeling climate distressed and wanting to share your concerns with like-minded people? \nPlease come to this free event co-sponsored by the State College Friends’ Climate Justice Working Group and Foxdale’s Climate Care committee.  RSVP Here. Co-Facilitators are: \nJackie Bonomo\, has led online Climate Cafes for Climate Witness Stewards and practiced peer counseling for 50 years; Andy McKinnon is a licensed social worker\, therapist and climate activist and Stacey Budd is the Program Director for Team Development at Shaver’s Creek. \nThis Climate Cafe is organized to be a confidential space to share climate anxiety and grief over loss due to climate chaos. The world as we knew it is changing due to our previous inattention/denial of the consequences of our way of living on our planet. In clearly seeing this reality\, many of us are fearful\, angry and sad and the sharing of our losses and concerns helps. We want to: \n\nReduce feeling overwhelmed\nFace the feelings and keep seeing climate reality\nStay actively engaged with the climate problem\nKeep functioning well while accepting the reality of climate change\, both in our everyday lives\, as well as act for change to reduce the threat of climate rupture
URL:https://uufcc.com/event/community-event-climate-cafe-to-share-eco-anxiety/
LOCATION:State College Friends Meeting\, 1900 University Dr\, State College\, PA\, 16801\, United States
CATEGORIES:Community Event
ATTACH;FMTTYPE=image/jpeg:https://uufcc.com/wp-content/uploads/2026/01/unnamed.jpg
END:VEVENT
BEGIN:VEVENT
DTSTART;TZID=America/New_York:20251111T183000
DTEND;TZID=America/New_York:20251111T200000
DTSTAMP:20260420T232537
CREATED:20251105T161709Z
LAST-MODIFIED:20251105T161709Z
UID:10012248-1762885800-1762891200@uufcc.com
SUMMARY:Community Event: Teach-In on Quaker Solidarity with Palestine
DESCRIPTION:presented by SCFM Peace & Social Concerns Committee and PSU Students for Justice in Palestine. Come for learning\, connection\, food\, worship sharing\, collaborative artwork\, and inspiration for constructive action – let’s show our solidarity! Sign up here to attend/contribute: https://www.signupgenius.com/go/10C044DA9AB29A6FCC07-60098069-quaker#/
URL:https://uufcc.com/event/community-event-teach-in-on-quaker-solidarity-with-palestine/
LOCATION:State College Friends Meeting\, 1900 University Dr\, State College\, PA\, 16801\, United States
CATEGORIES:Community Event
END:VEVENT
BEGIN:VEVENT
DTSTART;TZID=America/New_York:20240417T170000
DTEND;TZID=America/New_York:20240417T190000
DTSTAMP:20260420T232537
CREATED:20240403T161721Z
LAST-MODIFIED:20240403T161721Z
UID:10005355-1713373200-1713380400@uufcc.com
SUMMARY:Community Event - IHS Fundraiser
DESCRIPTION:See flyer here.
URL:https://uufcc.com/event/community-event-ihs-fundraiser/
LOCATION:State College Friends Meeting\, 1900 University Dr\, State College\, PA\, 16801\, United States
CATEGORIES:Community Event
ATTACH;FMTTYPE=image/png:https://uufcc.com/wp-content/uploads/2024/04/Chicken-for-IHS.png
END:VEVENT
END:VCALENDAR