BEGIN:VCALENDAR
VERSION:2.0
PRODID:-//UUFCC - ECPv6.15.17//NONSGML v1.0//EN
CALSCALE:GREGORIAN
METHOD:PUBLISH
X-WR-CALNAME:UUFCC
X-ORIGINAL-URL:https://uufcc.com
X-WR-CALDESC:Events for UUFCC
REFRESH-INTERVAL;VALUE=DURATION:PT1H
X-Robots-Tag:noindex
X-PUBLISHED-TTL:PT1H
BEGIN:VTIMEZONE
TZID:America/New_York
BEGIN:DAYLIGHT
TZOFFSETFROM:-0500
TZOFFSETTO:-0400
TZNAME:EDT
DTSTART:20240310T070000
END:DAYLIGHT
BEGIN:STANDARD
TZOFFSETFROM:-0400
TZOFFSETTO:-0500
TZNAME:EST
DTSTART:20241103T060000
END:STANDARD
BEGIN:DAYLIGHT
TZOFFSETFROM:-0500
TZOFFSETTO:-0400
TZNAME:EDT
DTSTART:20250309T070000
END:DAYLIGHT
BEGIN:STANDARD
TZOFFSETFROM:-0400
TZOFFSETTO:-0500
TZNAME:EST
DTSTART:20251102T060000
END:STANDARD
BEGIN:DAYLIGHT
TZOFFSETFROM:-0500
TZOFFSETTO:-0400
TZNAME:EDT
DTSTART:20260308T070000
END:DAYLIGHT
BEGIN:STANDARD
TZOFFSETFROM:-0400
TZOFFSETTO:-0500
TZNAME:EST
DTSTART:20261101T060000
END:STANDARD
END:VTIMEZONE
BEGIN:VEVENT
DTSTART;TZID=America/New_York:20251228T100000
DTEND;TZID=America/New_York:20251228T110000
DTSTAMP:20260421T153208
CREATED:20250913T192529Z
LAST-MODIFIED:20250913T192529Z
UID:10010545-1766916000-1766919600@uufcc.com
SUMMARY:RE: Pre-K & K
DESCRIPTION:Each week our kids gather to explore our world in light of our UU values. Pre-K/K friends will engage in guided exploration of various topics with their wonderful teachers\, Sue Smith and Rocky Landers\, downstairs in Room D.
URL:https://uufcc.com/event/re-pre-k-k/2025-12-28/
LOCATION:Unitarian Universalist Fellowship of Centre County\, 780 Waupelani Drive\, State College\, PA\, 16801\, United States
CATEGORIES:Lifespan Religious Exploration,RE Kids & Youth,Young Kids
ORGANIZER;CN="Unitarian Universalist Fellowship of Centre County":MAILTO:office@uufcc.com
END:VEVENT
BEGIN:VEVENT
DTSTART;TZID=America/New_York:20251224T180000
DTEND;TZID=America/New_York:20251224T200000
DTSTAMP:20260421T153208
CREATED:20250715T175626Z
LAST-MODIFIED:20251217T183143Z
UID:10010117-1766599200-1766606400@uufcc.com
SUMMARY:Christmas Eve Candlelight Service
DESCRIPTION:Our annual intergenerational Christmas Eve and Candlelight service with carols\, story\, poetry\, and the joy of the season.
URL:https://uufcc.com/event/christmas-eve-service-2025/
LOCATION:Unitarian Universalist Fellowship of Centre County\, 780 Waupelani Drive\, State College\, PA\, 16801\, United States
CATEGORIES:Holiday Service,Worship Service
ATTACH;FMTTYPE=image/jpeg:https://uufcc.com/wp-content/uploads/2025/07/Xmas-Eve.jpg
END:VEVENT
BEGIN:VEVENT
DTSTART;TZID=America/New_York:20251221T113000
DTEND;TZID=America/New_York:20251221T130000
DTSTAMP:20260421T153208
CREATED:20251111T172100Z
LAST-MODIFIED:20251111T172100Z
UID:10012286-1766316600-1766322000@uufcc.com
SUMMARY:Drum Circle
DESCRIPTION:
URL:https://uufcc.com/event/drum-circle-3/
LOCATION:Unitarian Universalist Fellowship of Centre County\, 780 Waupelani Drive\, State College\, PA\, 16801\, United States
CATEGORIES:Intergenerational RE,Lifespan Religious Exploration
END:VEVENT
BEGIN:VEVENT
DTSTART;TZID=America/New_York:20251221T100000
DTEND;TZID=America/New_York:20251221T110000
DTSTAMP:20260421T153208
CREATED:20250913T192529Z
LAST-MODIFIED:20250913T192529Z
UID:10010544-1766311200-1766314800@uufcc.com
SUMMARY:RE: Pre-K & K
DESCRIPTION:Each week our kids gather to explore our world in light of our UU values. Pre-K/K friends will engage in guided exploration of various topics with their wonderful teachers\, Sue Smith and Rocky Landers\, downstairs in Room D.
URL:https://uufcc.com/event/re-pre-k-k/2025-12-21/
LOCATION:Unitarian Universalist Fellowship of Centre County\, 780 Waupelani Drive\, State College\, PA\, 16801\, United States
CATEGORIES:Lifespan Religious Exploration,RE Kids & Youth,Young Kids
ORGANIZER;CN="Unitarian Universalist Fellowship of Centre County":MAILTO:office@uufcc.com
END:VEVENT
BEGIN:VEVENT
DTSTART;TZID=America/New_York:20251218T190000
DTEND;TZID=America/New_York:20251218T200000
DTSTAMP:20260421T153208
CREATED:20251007T185332Z
LAST-MODIFIED:20251007T185332Z
UID:10012185-1766084400-1766088000@uufcc.com
SUMMARY:Wheel of the Year: Earth-centered Ritual - Winter Solstice
DESCRIPTION:
URL:https://uufcc.com/event/wheel-of-the-year-earth-centered-ritual-winter-solstice/
LOCATION:Unitarian Universalist Fellowship of Centre County\, 780 Waupelani Drive\, State College\, PA\, 16801\, United States
CATEGORIES:Interfaith Ritual,Worship Service
ATTACH;FMTTYPE=image/png:https://uufcc.com/wp-content/uploads/2025/02/Wheel-of-the-Year.png
END:VEVENT
BEGIN:VEVENT
DTSTART;TZID=America/New_York:20251218T180000
DTEND;TZID=America/New_York:20251218T193000
DTSTAMP:20260421T153208
CREATED:20250715T175516Z
LAST-MODIFIED:20251202T165915Z
UID:10010116-1766080800-1766086200@uufcc.com
SUMMARY:Winter Solstice Service
DESCRIPTION:Dinner at 6pm followed by the Winter Solstice ritual + carol sing-along led by UU Adventurers.\nWe come together to celebrate and honor the wheel of the year\, the turning of the earth and thus the changing of the seasons. This is a service in which we honor and celebrate our deep connection to the earth and welcome back the light.  This intergenerational service will be outside next to the firepit. Dress warmly. Followed by Hot Apple Cider and Holiday Carol singing with the UU Adventurers.
URL:https://uufcc.com/event/winter-solstice-service-2025/
LOCATION:Unitarian Universalist Fellowship of Centre County\, 780 Waupelani Drive\, State College\, PA\, 16801\, United States
CATEGORIES:Holiday Service,Interfaith Ritual,Worship Service
ATTACH;FMTTYPE=image/jpeg:https://uufcc.com/wp-content/uploads/2025/07/Dec-18-Winter-Solstice.jpg
END:VEVENT
BEGIN:VEVENT
DTSTART;TZID=America/New_York:20251214T183000
DTEND;TZID=America/New_York:20251214T200000
DTSTAMP:20260421T153208
CREATED:20250813T150836Z
LAST-MODIFIED:20250813T150836Z
UID:10010449-1765737000-1765742400@uufcc.com
SUMMARY:OWL: 7th-9th Grade
DESCRIPTION:
URL:https://uufcc.com/event/owl-7th-9th-grade/2025-12-14/
LOCATION:Unitarian Universalist Fellowship of Centre County\, 780 Waupelani Drive\, State College\, PA\, 16801\, United States
CATEGORIES:Lifespan Religious Exploration,Middle School Youth,RE Kids & Youth
ORGANIZER;CN="Unitarian Universalist Fellowship of Centre County":MAILTO:office@uufcc.com
END:VEVENT
BEGIN:VEVENT
DTSTART;TZID=America/New_York:20251214T100000
DTEND;TZID=America/New_York:20251214T110000
DTSTAMP:20260421T153208
CREATED:20250913T192529Z
LAST-MODIFIED:20250913T192529Z
UID:10010543-1765706400-1765710000@uufcc.com
SUMMARY:RE: Pre-K & K
DESCRIPTION:Each week our kids gather to explore our world in light of our UU values. Pre-K/K friends will engage in guided exploration of various topics with their wonderful teachers\, Sue Smith and Rocky Landers\, downstairs in Room D.
URL:https://uufcc.com/event/re-pre-k-k/2025-12-14/
LOCATION:Unitarian Universalist Fellowship of Centre County\, 780 Waupelani Drive\, State College\, PA\, 16801\, United States
CATEGORIES:Lifespan Religious Exploration,RE Kids & Youth,Young Kids
ORGANIZER;CN="Unitarian Universalist Fellowship of Centre County":MAILTO:office@uufcc.com
END:VEVENT
BEGIN:VEVENT
DTSTART;TZID=America/New_York:20251207T183000
DTEND;TZID=America/New_York:20251207T200000
DTSTAMP:20260421T153208
CREATED:20250813T150956Z
LAST-MODIFIED:20250813T150956Z
UID:10010462-1765132200-1765137600@uufcc.com
SUMMARY:OWL: 10th-12th Grade
DESCRIPTION:
URL:https://uufcc.com/event/owl-10th-12th-grade/2025-12-07/
LOCATION:Unitarian Universalist Fellowship of Centre County\, 780 Waupelani Drive\, State College\, PA\, 16801\, United States
CATEGORIES:High School Youth,Lifespan Religious Exploration,RE Kids & Youth
ORGANIZER;CN="Unitarian Universalist Fellowship of Centre County":MAILTO:office@uufcc.com
END:VEVENT
BEGIN:VEVENT
DTSTART;TZID=America/New_York:20251207T183000
DTEND;TZID=America/New_York:20251207T200000
DTSTAMP:20260421T153208
CREATED:20250813T150836Z
LAST-MODIFIED:20250813T150836Z
UID:10010448-1765132200-1765137600@uufcc.com
SUMMARY:OWL: 7th-9th Grade
DESCRIPTION:
URL:https://uufcc.com/event/owl-7th-9th-grade/2025-12-07/
LOCATION:Unitarian Universalist Fellowship of Centre County\, 780 Waupelani Drive\, State College\, PA\, 16801\, United States
CATEGORIES:Lifespan Religious Exploration,Middle School Youth,RE Kids & Youth
ORGANIZER;CN="Unitarian Universalist Fellowship of Centre County":MAILTO:office@uufcc.com
END:VEVENT
BEGIN:VEVENT
DTSTART;TZID=America/New_York:20251207T110000
DTEND;TZID=America/New_York:20251207T130000
DTSTAMP:20260421T153208
CREATED:20250715T175337Z
LAST-MODIFIED:20251125T185433Z
UID:10010115-1765105200-1765112400@uufcc.com
SUMMARY:UUFCC Holiday Party
DESCRIPTION:This year we are going to decorate the Fellowship as a congregation\, and trim the tree!\nAs usual we will have fun seasonal games\, crafts\, and cookie decorating in the Community Room. We welcome everyone to lend a helping hand to Deck the Halls! The choir will be singing Christmas carols.\nPlease sign up here to bring a savory/sweet treat and to help with the party. See the flier here.
URL:https://uufcc.com/event/uufcc-holiday-party/
LOCATION:Unitarian Universalist Fellowship of Centre County\, 780 Waupelani Drive\, State College\, PA\, 16801\, United States
CATEGORIES:Event
ATTACH;FMTTYPE=image/png:https://uufcc.com/wp-content/uploads/2025/07/deck-the-halls.png
END:VEVENT
BEGIN:VEVENT
DTSTART;TZID=America/New_York:20251207T100000
DTEND;TZID=America/New_York:20251207T110000
DTSTAMP:20260421T153208
CREATED:20250913T192529Z
LAST-MODIFIED:20250913T192529Z
UID:10010542-1765101600-1765105200@uufcc.com
SUMMARY:RE: Pre-K & K
DESCRIPTION:Each week our kids gather to explore our world in light of our UU values. Pre-K/K friends will engage in guided exploration of various topics with their wonderful teachers\, Sue Smith and Rocky Landers\, downstairs in Room D.
URL:https://uufcc.com/event/re-pre-k-k/2025-12-07/
LOCATION:Unitarian Universalist Fellowship of Centre County\, 780 Waupelani Drive\, State College\, PA\, 16801\, United States
CATEGORIES:Lifespan Religious Exploration,RE Kids & Youth,Young Kids
ORGANIZER;CN="Unitarian Universalist Fellowship of Centre County":MAILTO:office@uufcc.com
END:VEVENT
BEGIN:VEVENT
DTSTART;TZID=America/New_York:20251206T160000
DTEND;TZID=America/New_York:20251206T200000
DTSTAMP:20260421T153208
CREATED:20251118T163924Z
LAST-MODIFIED:20251118T163956Z
UID:10012295-1765036800-1765051200@uufcc.com
SUMMARY:Tree Cutting and Pizza
DESCRIPTION:Meet at UUFCC to then caravan to a tree farm for the kids to pick out a tree and set it up in the sanctuary! Followed by pizza and fellowship.
URL:https://uufcc.com/event/tree-cutting-and-pizza/
LOCATION:Unitarian Universalist Fellowship of Centre County\, 780 Waupelani Drive\, State College\, PA\, 16801\, United States
CATEGORIES:Intergenerational RE,Lifespan Religious Exploration
END:VEVENT
BEGIN:VEVENT
DTSTART;TZID=America/New_York:20251130T183000
DTEND;TZID=America/New_York:20251130T200000
DTSTAMP:20260421T153208
CREATED:20250813T150956Z
LAST-MODIFIED:20250813T150956Z
UID:10010461-1764527400-1764532800@uufcc.com
SUMMARY:OWL: 10th-12th Grade
DESCRIPTION:
URL:https://uufcc.com/event/owl-10th-12th-grade/2025-11-30/
LOCATION:Unitarian Universalist Fellowship of Centre County\, 780 Waupelani Drive\, State College\, PA\, 16801\, United States
CATEGORIES:High School Youth,Lifespan Religious Exploration,RE Kids & Youth
ORGANIZER;CN="Unitarian Universalist Fellowship of Centre County":MAILTO:office@uufcc.com
END:VEVENT
BEGIN:VEVENT
DTSTART;TZID=America/New_York:20251130T183000
DTEND;TZID=America/New_York:20251130T200000
DTSTAMP:20260421T153208
CREATED:20250813T150836Z
LAST-MODIFIED:20250813T150836Z
UID:10010447-1764527400-1764532800@uufcc.com
SUMMARY:OWL: 7th-9th Grade
DESCRIPTION:
URL:https://uufcc.com/event/owl-7th-9th-grade/2025-11-30/
LOCATION:Unitarian Universalist Fellowship of Centre County\, 780 Waupelani Drive\, State College\, PA\, 16801\, United States
CATEGORIES:Lifespan Religious Exploration,Middle School Youth,RE Kids & Youth
ORGANIZER;CN="Unitarian Universalist Fellowship of Centre County":MAILTO:office@uufcc.com
END:VEVENT
BEGIN:VEVENT
DTSTART;TZID=America/New_York:20251130T113000
DTEND;TZID=America/New_York:20251130T130000
DTSTAMP:20260421T153208
CREATED:20251111T171417Z
LAST-MODIFIED:20251120T190113Z
UID:10012284-1764502200-1764507600@uufcc.com
SUMMARY:Drum Circle
DESCRIPTION:Experience communal drumming\, learn various African rhythms and have fun. Drums are provided but bring your own if you wish!
URL:https://uufcc.com/event/drum-circle-2/
LOCATION:Unitarian Universalist Fellowship of Centre County\, 780 Waupelani Drive\, State College\, PA\, 16801\, United States
CATEGORIES:Intergenerational RE,Lifespan Religious Exploration
END:VEVENT
BEGIN:VEVENT
DTSTART;TZID=America/New_York:20251130T100000
DTEND;TZID=America/New_York:20251130T110000
DTSTAMP:20260421T153208
CREATED:20250913T192529Z
LAST-MODIFIED:20250913T192529Z
UID:10010541-1764496800-1764500400@uufcc.com
SUMMARY:RE: Pre-K & K
DESCRIPTION:Each week our kids gather to explore our world in light of our UU values. Pre-K/K friends will engage in guided exploration of various topics with their wonderful teachers\, Sue Smith and Rocky Landers\, downstairs in Room D.
URL:https://uufcc.com/event/re-pre-k-k/2025-11-30/
LOCATION:Unitarian Universalist Fellowship of Centre County\, 780 Waupelani Drive\, State College\, PA\, 16801\, United States
CATEGORIES:Lifespan Religious Exploration,RE Kids & Youth,Young Kids
ORGANIZER;CN="Unitarian Universalist Fellowship of Centre County":MAILTO:office@uufcc.com
END:VEVENT
BEGIN:VEVENT
DTSTART;TZID=America/New_York:20251123T183000
DTEND;TZID=America/New_York:20251123T200000
DTSTAMP:20260421T153208
CREATED:20250813T150956Z
LAST-MODIFIED:20250813T150956Z
UID:10010460-1763922600-1763928000@uufcc.com
SUMMARY:OWL: 10th-12th Grade
DESCRIPTION:
URL:https://uufcc.com/event/owl-10th-12th-grade/2025-11-23/
LOCATION:Unitarian Universalist Fellowship of Centre County\, 780 Waupelani Drive\, State College\, PA\, 16801\, United States
CATEGORIES:High School Youth,Lifespan Religious Exploration,RE Kids & Youth
ORGANIZER;CN="Unitarian Universalist Fellowship of Centre County":MAILTO:office@uufcc.com
END:VEVENT
BEGIN:VEVENT
DTSTART;TZID=America/New_York:20251123T183000
DTEND;TZID=America/New_York:20251123T200000
DTSTAMP:20260421T153208
CREATED:20250813T150836Z
LAST-MODIFIED:20250813T150836Z
UID:10010446-1763922600-1763928000@uufcc.com
SUMMARY:OWL: 7th-9th Grade
DESCRIPTION:
URL:https://uufcc.com/event/owl-7th-9th-grade/2025-11-23/
LOCATION:Unitarian Universalist Fellowship of Centre County\, 780 Waupelani Drive\, State College\, PA\, 16801\, United States
CATEGORIES:Lifespan Religious Exploration,Middle School Youth,RE Kids & Youth
ORGANIZER;CN="Unitarian Universalist Fellowship of Centre County":MAILTO:office@uufcc.com
END:VEVENT
BEGIN:VEVENT
DTSTART;TZID=America/New_York:20251116T183000
DTEND;TZID=America/New_York:20251116T200000
DTSTAMP:20260421T153208
CREATED:20250813T150956Z
LAST-MODIFIED:20250813T150956Z
UID:10010459-1763317800-1763323200@uufcc.com
SUMMARY:OWL: 10th-12th Grade
DESCRIPTION:
URL:https://uufcc.com/event/owl-10th-12th-grade/2025-11-16/
LOCATION:Unitarian Universalist Fellowship of Centre County\, 780 Waupelani Drive\, State College\, PA\, 16801\, United States
CATEGORIES:High School Youth,Lifespan Religious Exploration,RE Kids & Youth
ORGANIZER;CN="Unitarian Universalist Fellowship of Centre County":MAILTO:office@uufcc.com
END:VEVENT
BEGIN:VEVENT
DTSTART;TZID=America/New_York:20251116T183000
DTEND;TZID=America/New_York:20251116T200000
DTSTAMP:20260421T153208
CREATED:20250813T150836Z
LAST-MODIFIED:20250813T150836Z
UID:10010445-1763317800-1763323200@uufcc.com
SUMMARY:OWL: 7th-9th Grade
DESCRIPTION:
URL:https://uufcc.com/event/owl-7th-9th-grade/2025-11-16/
LOCATION:Unitarian Universalist Fellowship of Centre County\, 780 Waupelani Drive\, State College\, PA\, 16801\, United States
CATEGORIES:Lifespan Religious Exploration,Middle School Youth,RE Kids & Youth
ORGANIZER;CN="Unitarian Universalist Fellowship of Centre County":MAILTO:office@uufcc.com
END:VEVENT
BEGIN:VEVENT
DTSTART;TZID=America/New_York:20251116T113000
DTEND;TZID=America/New_York:20251116T130000
DTSTAMP:20260421T153208
CREATED:20250924T181251Z
LAST-MODIFIED:20251002T154902Z
UID:10011742-1763292600-1763298000@uufcc.com
SUMMARY:Non-Cooperation Training
DESCRIPTION:UUFCC is hosting an in-person training on how to practice non-cooperation with authoritarianism. The session will be facilitated by Dr. Kate Ragon using curriculum on non-cooperation designed by Daniel Hunter and others at Choose Democracy (https://choosedemocracy.us/). Participants will examine the pillars of power that uphold all social institutions and review and practice the basic elements of non-cooperation. \nPlease sign up here and let us know if you need childcare.
URL:https://uufcc.com/event/non-cooperation-training/
LOCATION:Unitarian Universalist Fellowship of Centre County\, 780 Waupelani Drive\, State College\, PA\, 16801\, United States
CATEGORIES:Adult RE,Lifespan Religious Exploration
END:VEVENT
BEGIN:VEVENT
DTSTART;TZID=America/New_York:20251116T100000
DTEND;TZID=America/New_York:20251116T110000
DTSTAMP:20260421T153208
CREATED:20250913T192529Z
LAST-MODIFIED:20250913T192529Z
UID:10010539-1763287200-1763290800@uufcc.com
SUMMARY:RE: Pre-K & K
DESCRIPTION:Each week our kids gather to explore our world in light of our UU values. Pre-K/K friends will engage in guided exploration of various topics with their wonderful teachers\, Sue Smith and Rocky Landers\, downstairs in Room D.
URL:https://uufcc.com/event/re-pre-k-k/2025-11-16/
LOCATION:Unitarian Universalist Fellowship of Centre County\, 780 Waupelani Drive\, State College\, PA\, 16801\, United States
CATEGORIES:Lifespan Religious Exploration,RE Kids & Youth,Young Kids
ORGANIZER;CN="Unitarian Universalist Fellowship of Centre County":MAILTO:office@uufcc.com
END:VEVENT
BEGIN:VEVENT
DTSTART;TZID=America/New_York:20251115T100000
DTEND;TZID=America/New_York:20251115T113000
DTSTAMP:20260421T153208
CREATED:20250918T152235Z
LAST-MODIFIED:20251017T175812Z
UID:10011663-1763200800-1763206200@uufcc.com
SUMMARY:Memorial for Wendy Snetsinger
DESCRIPTION:The memorial service will be hybrid. Online attendees can use this link (Zoom) to watch. An obituary can be found here.
URL:https://uufcc.com/event/memorial-for-wendy-snetsinger/
LOCATION:Unitarian Universalist Fellowship of Centre County\, 780 Waupelani Drive\, State College\, PA\, 16801\, United States
CATEGORIES:Memorial
END:VEVENT
BEGIN:VEVENT
DTSTART;TZID=America/New_York:20251109T183000
DTEND;TZID=America/New_York:20251109T200000
DTSTAMP:20260421T153208
CREATED:20250813T150956Z
LAST-MODIFIED:20250813T150956Z
UID:10010458-1762713000-1762718400@uufcc.com
SUMMARY:OWL: 10th-12th Grade
DESCRIPTION:
URL:https://uufcc.com/event/owl-10th-12th-grade/2025-11-09/
LOCATION:Unitarian Universalist Fellowship of Centre County\, 780 Waupelani Drive\, State College\, PA\, 16801\, United States
CATEGORIES:High School Youth,Lifespan Religious Exploration,RE Kids & Youth
ORGANIZER;CN="Unitarian Universalist Fellowship of Centre County":MAILTO:office@uufcc.com
END:VEVENT
BEGIN:VEVENT
DTSTART;TZID=America/New_York:20251109T183000
DTEND;TZID=America/New_York:20251109T200000
DTSTAMP:20260421T153208
CREATED:20250813T150836Z
LAST-MODIFIED:20250813T150836Z
UID:10010444-1762713000-1762718400@uufcc.com
SUMMARY:OWL: 7th-9th Grade
DESCRIPTION:
URL:https://uufcc.com/event/owl-7th-9th-grade/2025-11-09/
LOCATION:Unitarian Universalist Fellowship of Centre County\, 780 Waupelani Drive\, State College\, PA\, 16801\, United States
CATEGORIES:Lifespan Religious Exploration,Middle School Youth,RE Kids & Youth
ORGANIZER;CN="Unitarian Universalist Fellowship of Centre County":MAILTO:office@uufcc.com
END:VEVENT
BEGIN:VEVENT
DTSTART;TZID=America/New_York:20251109T100000
DTEND;TZID=America/New_York:20251109T110000
DTSTAMP:20260421T153208
CREATED:20251105T163012Z
LAST-MODIFIED:20251105T163015Z
UID:10010538-1762682400-1762686000@uufcc.com
SUMMARY:RE: Pre-K & K - "I Can Help!"
DESCRIPTION:Each week our kids gather to explore our world in light of our UU values. Pre-K/K friends will engage in guided exploration of various topics with their wonderful teachers\, Sue Smith and Rocky Landers\, downstairs in Room D.
URL:https://uufcc.com/event/re-pre-k-k-8/
LOCATION:Unitarian Universalist Fellowship of Centre County\, 780 Waupelani Drive\, State College\, PA\, 16801\, United States
CATEGORIES:Lifespan Religious Exploration,RE Kids & Youth,Young Kids
ORGANIZER;CN="Unitarian Universalist Fellowship of Centre County":MAILTO:office@uufcc.com
END:VEVENT
BEGIN:VEVENT
DTSTART;TZID=America/New_York:20251107T110000
DTEND;TZID=America/New_York:20251107T123000
DTSTAMP:20260421T153208
CREATED:20251029T190344Z
LAST-MODIFIED:20251101T005002Z
UID:10012239-1762513200-1762518600@uufcc.com
SUMMARY:Memorial Service for Jeffrey Snowman
DESCRIPTION:An obituary can be found here (link).
URL:https://uufcc.com/event/jeffrey-snowmans-memorial-service/
LOCATION:Unitarian Universalist Fellowship of Centre County\, 780 Waupelani Drive\, State College\, PA\, 16801\, United States
CATEGORIES:Memorial
ATTACH;FMTTYPE=image/png:https://uufcc.com/wp-content/uploads/2024/04/Memorial-image.png
END:VEVENT
BEGIN:VEVENT
DTSTART;TZID=America/New_York:20251102T183000
DTEND;TZID=America/New_York:20251102T200000
DTSTAMP:20260421T153208
CREATED:20250813T150956Z
LAST-MODIFIED:20250813T150956Z
UID:10010457-1762108200-1762113600@uufcc.com
SUMMARY:OWL: 10th-12th Grade
DESCRIPTION:
URL:https://uufcc.com/event/owl-10th-12th-grade/2025-11-02/
LOCATION:Unitarian Universalist Fellowship of Centre County\, 780 Waupelani Drive\, State College\, PA\, 16801\, United States
CATEGORIES:High School Youth,Lifespan Religious Exploration,RE Kids & Youth
ORGANIZER;CN="Unitarian Universalist Fellowship of Centre County":MAILTO:office@uufcc.com
END:VEVENT
BEGIN:VEVENT
DTSTART;TZID=America/New_York:20251102T183000
DTEND;TZID=America/New_York:20251102T200000
DTSTAMP:20260421T153208
CREATED:20250813T150836Z
LAST-MODIFIED:20250813T150836Z
UID:10010443-1762108200-1762113600@uufcc.com
SUMMARY:OWL: 7th-9th Grade
DESCRIPTION:
URL:https://uufcc.com/event/owl-7th-9th-grade/2025-11-02/
LOCATION:Unitarian Universalist Fellowship of Centre County\, 780 Waupelani Drive\, State College\, PA\, 16801\, United States
CATEGORIES:Lifespan Religious Exploration,Middle School Youth,RE Kids & Youth
ORGANIZER;CN="Unitarian Universalist Fellowship of Centre County":MAILTO:office@uufcc.com
END:VEVENT
END:VCALENDAR