BEGIN:VCALENDAR
VERSION:2.0
PRODID:-//UUFCC - ECPv6.15.17//NONSGML v1.0//EN
CALSCALE:GREGORIAN
METHOD:PUBLISH
X-ORIGINAL-URL:https://uufcc.com
X-WR-CALDESC:Events for UUFCC
REFRESH-INTERVAL;VALUE=DURATION:PT1H
X-Robots-Tag:noindex
X-PUBLISHED-TTL:PT1H
BEGIN:VTIMEZONE
TZID:America/New_York
BEGIN:DAYLIGHT
TZOFFSETFROM:-0500
TZOFFSETTO:-0400
TZNAME:EDT
DTSTART:20240310T070000
END:DAYLIGHT
BEGIN:STANDARD
TZOFFSETFROM:-0400
TZOFFSETTO:-0500
TZNAME:EST
DTSTART:20241103T060000
END:STANDARD
BEGIN:DAYLIGHT
TZOFFSETFROM:-0500
TZOFFSETTO:-0400
TZNAME:EDT
DTSTART:20250309T070000
END:DAYLIGHT
BEGIN:STANDARD
TZOFFSETFROM:-0400
TZOFFSETTO:-0500
TZNAME:EST
DTSTART:20251102T060000
END:STANDARD
BEGIN:DAYLIGHT
TZOFFSETFROM:-0500
TZOFFSETTO:-0400
TZNAME:EDT
DTSTART:20260308T070000
END:DAYLIGHT
BEGIN:STANDARD
TZOFFSETFROM:-0400
TZOFFSETTO:-0500
TZNAME:EST
DTSTART:20261101T060000
END:STANDARD
END:VTIMEZONE
BEGIN:VEVENT
DTSTART;TZID=America/New_York:20251019T113000
DTEND;TZID=America/New_York:20251019T130000
DTSTAMP:20260425T100345
CREATED:20250924T180956Z
LAST-MODIFIED:20250924T181035Z
UID:10011741-1760873400-1760878800@uufcc.com
SUMMARY:Starting Point: Pathway to Membership
DESCRIPTION:Join us for a two session journey sharing our own spiritual backgrounds and learning about the history of the Fellowship. This class is also open to any current members/friends who wish to retrace their spiritual journey to the UUFCC. Child care + supper provided. \nPlease sign up here.
URL:https://uufcc.com/event/starting-point-pathway-to-membership/2025-10-19/
LOCATION:Unitarian Universalist Fellowship of Centre County\, 780 Waupelani Drive\, State College\, PA\, 16801\, United States
CATEGORIES:Adult RE,Lifespan Religious Exploration
END:VEVENT
BEGIN:VEVENT
DTSTART;TZID=America/New_York:20251019T100000
DTEND;TZID=America/New_York:20251019T110000
DTSTAMP:20260425T100345
CREATED:20251015T172530Z
LAST-MODIFIED:20251015T172531Z
UID:10010535-1760868000-1760871600@uufcc.com
SUMMARY:RE: Pre-K & K - "Differences Are Important"
DESCRIPTION:Each week our kids gather to explore our world in light of our UU values. Pre-K/K friends will engage in guided exploration of various topics with their wonderful teachers\, Sue Smith and Rocky Landers\, downstairs in Room D.
URL:https://uufcc.com/event/re-pre-k-k-5/
LOCATION:Unitarian Universalist Fellowship of Centre County\, 780 Waupelani Drive\, State College\, PA\, 16801\, United States
CATEGORIES:Lifespan Religious Exploration,RE Kids & Youth,Young Kids
ORGANIZER;CN="Unitarian Universalist Fellowship of Centre County":MAILTO:office@uufcc.com
END:VEVENT
BEGIN:VEVENT
DTSTART;TZID=America/New_York:20251016T190000
DTEND;TZID=America/New_York:20251016T193000
DTSTAMP:20260425T100345
CREATED:20251007T185232Z
LAST-MODIFIED:20251008T180822Z
UID:10012184-1760641200-1760643000@uufcc.com
SUMMARY:Wheel of the Year: Earth-centered ritual - Samhain
DESCRIPTION:In October we mark Samhain: honoring our ancestors\, opening ourselves to mystery\, and embracing death as part of life. For the ritual\, bring an ancestral object or something that represents your ancestor or ancestors and/or bring a story to share about your heritage or ancestors. The 30 minute ritual starts at 7 pm\, after Fellowship Supper.
URL:https://uufcc.com/event/wheel-of-the-year-earth-centered-ritual-samhain/
LOCATION:Unitarian Universalist Fellowship of Centre County\, 780 Waupelani Drive\, State College\, PA\, 16801\, United States
CATEGORIES:Interfaith Ritual
ATTACH;FMTTYPE=image/png:https://uufcc.com/wp-content/uploads/2025/02/Wheel-of-the-Year.png
ORGANIZER;CN="Unitarian Universalist Fellowship of Centre County":MAILTO:office@uufcc.com
END:VEVENT
BEGIN:VEVENT
DTSTART;TZID=America/New_York:20251012T183000
DTEND;TZID=America/New_York:20251012T200000
DTSTAMP:20260425T100345
CREATED:20250813T150956Z
LAST-MODIFIED:20250813T150956Z
UID:10010454-1760293800-1760299200@uufcc.com
SUMMARY:OWL: 10th-12th Grade
DESCRIPTION:
URL:https://uufcc.com/event/owl-10th-12th-grade/2025-10-12/
LOCATION:Unitarian Universalist Fellowship of Centre County\, 780 Waupelani Drive\, State College\, PA\, 16801\, United States
CATEGORIES:High School Youth,Lifespan Religious Exploration,RE Kids & Youth
ORGANIZER;CN="Unitarian Universalist Fellowship of Centre County":MAILTO:office@uufcc.com
END:VEVENT
BEGIN:VEVENT
DTSTART;TZID=America/New_York:20251012T183000
DTEND;TZID=America/New_York:20251012T200000
DTSTAMP:20260425T100345
CREATED:20250813T150836Z
LAST-MODIFIED:20250813T150836Z
UID:10010440-1760293800-1760299200@uufcc.com
SUMMARY:OWL: 7th-9th Grade
DESCRIPTION:
URL:https://uufcc.com/event/owl-7th-9th-grade/2025-10-12/
LOCATION:Unitarian Universalist Fellowship of Centre County\, 780 Waupelani Drive\, State College\, PA\, 16801\, United States
CATEGORIES:Lifespan Religious Exploration,Middle School Youth,RE Kids & Youth
ORGANIZER;CN="Unitarian Universalist Fellowship of Centre County":MAILTO:office@uufcc.com
END:VEVENT
BEGIN:VEVENT
DTSTART;TZID=America/New_York:20251012T100000
DTEND;TZID=America/New_York:20251012T110000
DTSTAMP:20260425T100345
CREATED:20251008T164059Z
LAST-MODIFIED:20251008T164101Z
UID:10010534-1760263200-1760266800@uufcc.com
SUMMARY:RE: Pre-K & K
DESCRIPTION:I was a baby once (with a special visit from a baby!) \n\nEach week our kids gather to explore our world in light of our UU values. Pre-K/K friends will engage in guided exploration of various topics with their wonderful teachers\, Sue Smith and Rocky Landers\, downstairs in Room D.
URL:https://uufcc.com/event/re-pre-k-k-4/
LOCATION:Unitarian Universalist Fellowship of Centre County\, 780 Waupelani Drive\, State College\, PA\, 16801\, United States
CATEGORIES:Lifespan Religious Exploration,RE Kids & Youth,Young Kids
ORGANIZER;CN="Unitarian Universalist Fellowship of Centre County":MAILTO:office@uufcc.com
END:VEVENT
BEGIN:VEVENT
DTSTART;TZID=America/New_York:20251011T170000
DTEND;TZID=America/New_York:20251011T200000
DTSTAMP:20260425T100345
CREATED:20251003T183117Z
LAST-MODIFIED:20251003T183300Z
UID:10012169-1760202000-1760212800@uufcc.com
SUMMARY:Parents' Night Out
DESCRIPTION:Parents\, drop your kids off with our childcare providers for an evening of fun games\, dinner\, and a movie while you have some time for you! Sign up here.
URL:https://uufcc.com/event/parents-night-out-2/
LOCATION:Unitarian Universalist Fellowship of Centre County\, 780 Waupelani Drive\, State College\, PA\, 16801\, United States
CATEGORIES:Adult RE,Lifespan Religious Exploration,RE Kids & Youth,Young Kids
ATTACH;FMTTYPE=image/png:https://uufcc.com/wp-content/uploads/2024/09/Parents-Night-Out.png
END:VEVENT
BEGIN:VEVENT
DTSTART;TZID=America/New_York:20251011T170000
DTEND;TZID=America/New_York:20251011T200000
DTSTAMP:20260425T100345
CREATED:20250924T180956Z
LAST-MODIFIED:20250924T181035Z
UID:10011740-1760202000-1760212800@uufcc.com
SUMMARY:Starting Point: Pathway to Membership
DESCRIPTION:Join us for a two session journey sharing our own spiritual backgrounds and learning about the history of the Fellowship. This class is also open to any current members/friends who wish to retrace their spiritual journey to the UUFCC. Child care + supper provided. \nPlease sign up here.
URL:https://uufcc.com/event/starting-point-pathway-to-membership/2025-10-11/
LOCATION:Unitarian Universalist Fellowship of Centre County\, 780 Waupelani Drive\, State College\, PA\, 16801\, United States
CATEGORIES:Adult RE,Lifespan Religious Exploration
END:VEVENT
BEGIN:VEVENT
DTSTART;TZID=America/New_York:20251006T193000
DTEND;TZID=America/New_York:20251006T210000
DTSTAMP:20260425T100345
CREATED:20250922T182754Z
LAST-MODIFIED:20250922T182807Z
UID:10011735-1759779000-1759784400@uufcc.com
SUMMARY:UUFCC Music Series - "Old\, Borrowed\, New"
DESCRIPTION:UUFCC Music Series in collaboration with the Penn State School of Music presents: “Old\, Borrowed\, New” \nA recital by Aaron White\, Double Bass\, with Ann Deighton\, pianist. \nBassist Aaron White performs with the Pittsburgh Symphony and is a member of the music faculty at Duquesne University. He has also been a member of the Louisville Orchestra and the Florida Orchestra. His program will include a Suite by J.S. Bach\, a concerto by Giovanini Bottesini\, and pieces by Mortari\, Hindemith\, and Kodaly.\n\nSuggested donation is $15. Students can attend free.
URL:https://uufcc.com/event/uufcc-music-series-old-borrowed-new/
LOCATION:Unitarian Universalist Fellowship of Centre County\, 780 Waupelani Drive\, State College\, PA\, 16801\, United States
CATEGORIES:Music
ATTACH;FMTTYPE=image/jpeg:https://uufcc.com/wp-content/uploads/2025/09/aaron-white-double-bass.jpeg
ORGANIZER;CN="Unitarian Universalist Fellowship of Centre County":MAILTO:office@uufcc.com
END:VEVENT
BEGIN:VEVENT
DTSTART;TZID=America/New_York:20251005T183000
DTEND;TZID=America/New_York:20251005T200000
DTSTAMP:20260425T100345
CREATED:20250813T150956Z
LAST-MODIFIED:20250813T150956Z
UID:10010453-1759689000-1759694400@uufcc.com
SUMMARY:OWL: 10th-12th Grade
DESCRIPTION:
URL:https://uufcc.com/event/owl-10th-12th-grade/2025-10-05/
LOCATION:Unitarian Universalist Fellowship of Centre County\, 780 Waupelani Drive\, State College\, PA\, 16801\, United States
CATEGORIES:High School Youth,Lifespan Religious Exploration,RE Kids & Youth
ORGANIZER;CN="Unitarian Universalist Fellowship of Centre County":MAILTO:office@uufcc.com
END:VEVENT
BEGIN:VEVENT
DTSTART;TZID=America/New_York:20251005T183000
DTEND;TZID=America/New_York:20251005T200000
DTSTAMP:20260425T100345
CREATED:20250813T150836Z
LAST-MODIFIED:20250813T150836Z
UID:10010439-1759689000-1759694400@uufcc.com
SUMMARY:OWL: 7th-9th Grade
DESCRIPTION:
URL:https://uufcc.com/event/owl-7th-9th-grade/2025-10-05/
LOCATION:Unitarian Universalist Fellowship of Centre County\, 780 Waupelani Drive\, State College\, PA\, 16801\, United States
CATEGORIES:Lifespan Religious Exploration,Middle School Youth,RE Kids & Youth
ORGANIZER;CN="Unitarian Universalist Fellowship of Centre County":MAILTO:office@uufcc.com
END:VEVENT
BEGIN:VEVENT
DTSTART;TZID=America/New_York:20251005T113000
DTEND;TZID=America/New_York:20251005T130000
DTSTAMP:20260425T100345
CREATED:20250917T150121Z
LAST-MODIFIED:20250917T150121Z
UID:10011661-1759663800-1759669200@uufcc.com
SUMMARY:Current Climate Impact on Higher Education and DEIB
DESCRIPTION:led by Dr. Seria Chatters. Join Seria to learn what is happening on campus as a result of current federal mandates and policy changes.
URL:https://uufcc.com/event/current-climate-impact-on-higher-education-and-deib/
LOCATION:Unitarian Universalist Fellowship of Centre County\, 780 Waupelani Drive\, State College\, PA\, 16801\, United States
CATEGORIES:Adult RE,Lifespan Religious Exploration
END:VEVENT
BEGIN:VEVENT
DTSTART;TZID=America/New_York:20250928T183000
DTEND;TZID=America/New_York:20250928T200000
DTSTAMP:20260425T100345
CREATED:20250813T150956Z
LAST-MODIFIED:20250813T150956Z
UID:10010452-1759084200-1759089600@uufcc.com
SUMMARY:OWL: 10th-12th Grade
DESCRIPTION:
URL:https://uufcc.com/event/owl-10th-12th-grade/2025-09-28/
LOCATION:Unitarian Universalist Fellowship of Centre County\, 780 Waupelani Drive\, State College\, PA\, 16801\, United States
CATEGORIES:High School Youth,Lifespan Religious Exploration,RE Kids & Youth
ORGANIZER;CN="Unitarian Universalist Fellowship of Centre County":MAILTO:office@uufcc.com
END:VEVENT
BEGIN:VEVENT
DTSTART;TZID=America/New_York:20250928T183000
DTEND;TZID=America/New_York:20250928T200000
DTSTAMP:20260425T100345
CREATED:20250813T150836Z
LAST-MODIFIED:20250813T150836Z
UID:10010438-1759084200-1759089600@uufcc.com
SUMMARY:OWL: 7th-9th Grade
DESCRIPTION:
URL:https://uufcc.com/event/owl-7th-9th-grade/2025-09-28/
LOCATION:Unitarian Universalist Fellowship of Centre County\, 780 Waupelani Drive\, State College\, PA\, 16801\, United States
CATEGORIES:Lifespan Religious Exploration,Middle School Youth,RE Kids & Youth
ORGANIZER;CN="Unitarian Universalist Fellowship of Centre County":MAILTO:office@uufcc.com
END:VEVENT
BEGIN:VEVENT
DTSTART;TZID=America/New_York:20250928T100000
DTEND;TZID=America/New_York:20250928T110000
DTSTAMP:20260425T100345
CREATED:20250924T173420Z
LAST-MODIFIED:20250924T173627Z
UID:10010532-1759053600-1759057200@uufcc.com
SUMMARY:RE: Pre-K & K - "Our Fellowship is a Special Place"
DESCRIPTION:We will explore our Fellowship\, the special place we have community\, and meet some special people along the way. \nEach week our kids gather to explore our world in light of our UU values. Pre-K/K friends will engage in guided exploration of various topics with their wonderful teachers\, Sue Smith and Rocky Landers\, downstairs in Room D.
URL:https://uufcc.com/event/re-pre-k-k-3/
LOCATION:Unitarian Universalist Fellowship of Centre County\, 780 Waupelani Drive\, State College\, PA\, 16801\, United States
CATEGORIES:Lifespan Religious Exploration,RE Kids & Youth,Young Kids
ORGANIZER;CN="Unitarian Universalist Fellowship of Centre County":MAILTO:office@uufcc.com
END:VEVENT
BEGIN:VEVENT
DTSTART;TZID=America/New_York:20250921T183000
DTEND;TZID=America/New_York:20250921T200000
DTSTAMP:20260425T100345
CREATED:20250813T150956Z
LAST-MODIFIED:20250813T150956Z
UID:10010451-1758479400-1758484800@uufcc.com
SUMMARY:OWL: 10th-12th Grade
DESCRIPTION:
URL:https://uufcc.com/event/owl-10th-12th-grade/2025-09-21/
LOCATION:Unitarian Universalist Fellowship of Centre County\, 780 Waupelani Drive\, State College\, PA\, 16801\, United States
CATEGORIES:High School Youth,Lifespan Religious Exploration,RE Kids & Youth
ORGANIZER;CN="Unitarian Universalist Fellowship of Centre County":MAILTO:office@uufcc.com
END:VEVENT
BEGIN:VEVENT
DTSTART;TZID=America/New_York:20250921T183000
DTEND;TZID=America/New_York:20250921T200000
DTSTAMP:20260425T100345
CREATED:20250813T150836Z
LAST-MODIFIED:20250813T150836Z
UID:10010437-1758479400-1758484800@uufcc.com
SUMMARY:OWL: 7th-9th Grade
DESCRIPTION:
URL:https://uufcc.com/event/owl-7th-9th-grade/2025-09-21/
LOCATION:Unitarian Universalist Fellowship of Centre County\, 780 Waupelani Drive\, State College\, PA\, 16801\, United States
CATEGORIES:Lifespan Religious Exploration,Middle School Youth,RE Kids & Youth
ORGANIZER;CN="Unitarian Universalist Fellowship of Centre County":MAILTO:office@uufcc.com
END:VEVENT
BEGIN:VEVENT
DTSTART;TZID=America/New_York:20250921T110000
DTEND;TZID=America/New_York:20250921T120000
DTSTAMP:20260425T100345
CREATED:20250820T164520Z
LAST-MODIFIED:20250820T164520Z
UID:10010477-1758452400-1758456000@uufcc.com
SUMMARY:Engagement Fair
DESCRIPTION:Committees and UUFCC Groups will table after the Sunday Service. Come take a look and see if there’s a fun task you would enjoy helping with\, and or find new (and old) friends in community!
URL:https://uufcc.com/event/engagement-fair/
LOCATION:Unitarian Universalist Fellowship of Centre County\, 780 Waupelani Drive\, State College\, PA\, 16801\, United States
CATEGORIES:Event,UUFCC Committee
END:VEVENT
BEGIN:VEVENT
DTSTART;TZID=America/New_York:20250921T100000
DTEND;TZID=America/New_York:20250921T110000
DTSTAMP:20260425T100345
CREATED:20250917T145514Z
LAST-MODIFIED:20250917T145529Z
UID:10010531-1758448800-1758452400@uufcc.com
SUMMARY:RE: Pre-K & K
DESCRIPTION:We’ll talk about our Hands! \nEach week our kids gather to explore our world in light of our UU values. Pre-K/K friends will engage in guided exploration of various topics with their wonderful teachers\, Sue Smith and Rocky Landers\, downstairs in Room D.
URL:https://uufcc.com/event/re-pre-k-k-2/
LOCATION:Unitarian Universalist Fellowship of Centre County\, 780 Waupelani Drive\, State College\, PA\, 16801\, United States
CATEGORIES:Lifespan Religious Exploration,RE Kids & Youth,Young Kids
ORGANIZER;CN="Unitarian Universalist Fellowship of Centre County":MAILTO:office@uufcc.com
END:VEVENT
BEGIN:VEVENT
DTSTART;TZID=America/New_York:20250917T173000
DTEND;TZID=America/New_York:20250917T183000
DTSTAMP:20260425T100345
CREATED:20231114T201844Z
LAST-MODIFIED:20231114T201908Z
UID:10002914-1758130200-1758133800@uufcc.com
SUMMARY:Racial Justice Committee
DESCRIPTION:Contact Janet Irons for the Zoom information.
URL:https://uufcc.com/event/racial-justice-committee/2025-09-17/
LOCATION:Unitarian Universalist Fellowship of Centre County\, 780 Waupelani Drive\, State College\, PA\, 16801\, United States
CATEGORIES:Meeting,UUFCC Committee
END:VEVENT
BEGIN:VEVENT
DTSTART;TZID=America/New_York:20250914T183000
DTEND;TZID=America/New_York:20250914T200000
DTSTAMP:20260425T100345
CREATED:20250813T150956Z
LAST-MODIFIED:20250813T150956Z
UID:10010450-1757874600-1757880000@uufcc.com
SUMMARY:OWL: 10th-12th Grade
DESCRIPTION:
URL:https://uufcc.com/event/owl-10th-12th-grade/2025-09-14/
LOCATION:Unitarian Universalist Fellowship of Centre County\, 780 Waupelani Drive\, State College\, PA\, 16801\, United States
CATEGORIES:High School Youth,Lifespan Religious Exploration,RE Kids & Youth
ORGANIZER;CN="Unitarian Universalist Fellowship of Centre County":MAILTO:office@uufcc.com
END:VEVENT
BEGIN:VEVENT
DTSTART;TZID=America/New_York:20250914T183000
DTEND;TZID=America/New_York:20250914T200000
DTSTAMP:20260425T100345
CREATED:20250813T150836Z
LAST-MODIFIED:20250813T150836Z
UID:10010436-1757874600-1757880000@uufcc.com
SUMMARY:OWL: 7th-9th Grade
DESCRIPTION:
URL:https://uufcc.com/event/owl-7th-9th-grade/2025-09-14/
LOCATION:Unitarian Universalist Fellowship of Centre County\, 780 Waupelani Drive\, State College\, PA\, 16801\, United States
CATEGORIES:Lifespan Religious Exploration,Middle School Youth,RE Kids & Youth
ORGANIZER;CN="Unitarian Universalist Fellowship of Centre County":MAILTO:office@uufcc.com
END:VEVENT
BEGIN:VEVENT
DTSTART;TZID=America/New_York:20250914T100000
DTEND;TZID=America/New_York:20250914T110000
DTSTAMP:20260425T100345
CREATED:20250913T192529Z
LAST-MODIFIED:20250913T192529Z
UID:10010530-1757844000-1757847600@uufcc.com
SUMMARY:RE: Pre-K & K
DESCRIPTION:Each week our kids gather to explore our world in light of our UU values. Pre-K/K friends will engage in guided exploration of various topics with their wonderful teachers\, Sue Smith and Rocky Landers\, downstairs in Room D.
URL:https://uufcc.com/event/re-pre-k-k/2025-09-14/
LOCATION:Unitarian Universalist Fellowship of Centre County\, 780 Waupelani Drive\, State College\, PA\, 16801\, United States
CATEGORIES:Lifespan Religious Exploration,RE Kids & Youth,Young Kids
ORGANIZER;CN="Unitarian Universalist Fellowship of Centre County":MAILTO:office@uufcc.com
END:VEVENT
BEGIN:VEVENT
DTSTART;TZID=America/New_York:20250907T183000
DTEND;TZID=America/New_York:20250907T200000
DTSTAMP:20260425T100345
CREATED:20250813T150625Z
LAST-MODIFIED:20250813T150625Z
UID:10010435-1757269800-1757275200@uufcc.com
SUMMARY:OWL: Facilitators and Parents Meeting
DESCRIPTION:
URL:https://uufcc.com/event/owl-facilitators-and-parents-meeting/
LOCATION:Unitarian Universalist Fellowship of Centre County\, 780 Waupelani Drive\, State College\, PA\, 16801\, United States
CATEGORIES:Lifespan Religious Exploration,RE Kids & Youth
ORGANIZER;CN="Unitarian Universalist Fellowship of Centre County":MAILTO:office@uufcc.com
END:VEVENT
BEGIN:VEVENT
DTSTART;TZID=America/New_York:20250831T100000
DTEND;TZID=America/New_York:20250831T110000
DTSTAMP:20260425T100345
CREATED:20250705T205342Z
LAST-MODIFIED:20250705T205342Z
UID:10010093-1756634400-1756638000@uufcc.com
SUMMARY:RE Elementary and Middle School Youth
DESCRIPTION:Some Sundays we will work in the new Layered Pollinator Habitat building pathways\, labeling plants\, and learning about what grows there. Other Sundays we will engage in Music and Play\, a special curriculum developed by Karen Maynard. We hope your kiddos will participate!
URL:https://uufcc.com/event/re-elementary-and-middle-school-youth/2025-08-31/
LOCATION:Unitarian Universalist Fellowship of Centre County\, 780 Waupelani Drive\, State College\, PA\, 16801\, United States
CATEGORIES:Lifespan Religious Exploration,Middle School Youth,RE Kids & Youth,Young Kids
END:VEVENT
BEGIN:VEVENT
DTSTART;TZID=America/New_York:20250826T180000
DTEND;TZID=America/New_York:20250826T203000
DTSTAMP:20260425T100345
CREATED:20250818T150255Z
LAST-MODIFIED:20250818T150255Z
UID:10010469-1756231200-1756240200@uufcc.com
SUMMARY:Community Event: IHS Board Meeting
DESCRIPTION:The meeting will begin with an ice cream social so that the 30 people\, or so from the 28 congregations can socialize\, at 6 pm.\nIf any of you are interested in learning about or serving on this very interesting and vital board\, certainly come to this party to meet everyone. The meeting will begin at 7 pm\, usually for an hour\, and Rev. Tracy will be doing the opening. UUFCC Member Sue Smith has been representing UUFCC at IHS for about 40 years\, and is looking for someone to take over representation. Contact Sue Smith for more information.
URL:https://uufcc.com/event/community-event-ihs-board-meeting/
LOCATION:Unitarian Universalist Fellowship of Centre County\, 780 Waupelani Drive\, State College\, PA\, 16801\, United States
CATEGORIES:Community Event
END:VEVENT
BEGIN:VEVENT
DTSTART;TZID=America/New_York:20250824T100000
DTEND;TZID=America/New_York:20250824T110000
DTSTAMP:20260425T100345
CREATED:20250705T205342Z
LAST-MODIFIED:20250705T205342Z
UID:10010092-1756029600-1756033200@uufcc.com
SUMMARY:RE Elementary and Middle School Youth
DESCRIPTION:Some Sundays we will work in the new Layered Pollinator Habitat building pathways\, labeling plants\, and learning about what grows there. Other Sundays we will engage in Music and Play\, a special curriculum developed by Karen Maynard. We hope your kiddos will participate!
URL:https://uufcc.com/event/re-elementary-and-middle-school-youth/2025-08-24/
LOCATION:Unitarian Universalist Fellowship of Centre County\, 780 Waupelani Drive\, State College\, PA\, 16801\, United States
CATEGORIES:Lifespan Religious Exploration,Middle School Youth,RE Kids & Youth,Young Kids
END:VEVENT
BEGIN:VEVENT
DTSTART;TZID=America/New_York:20250822T180000
DTEND;TZID=America/New_York:20250822T203000
DTSTAMP:20260425T100345
CREATED:20250812T154147Z
LAST-MODIFIED:20250816T205314Z
UID:10010423-1755885600-1755894600@uufcc.com
SUMMARY:Community Event: Redistricting and Representation
DESCRIPTION:Join Fair Districts PA\, Central Pennsylvania United and the Unitarian Universalist Fellowship of Centre County for: \n\nA pot luck dinner\nA short presentation on fair redistricting with Fair Districts PA Chair Carol Kuniholm\nTime for networking across organizations.\nBring some food and some information to share!\n\nFeel free to bring a friend.\nRepresentatives from other organizations are welcome to promote\, attend\, bring information to share\, and make announcements as part of our networking time.\nDemocracy works best when we all are heard.\nThis is a collaborative event.
URL:https://uufcc.com/event/community-event-redistricting-and-representation/
LOCATION:Unitarian Universalist Fellowship of Centre County\, 780 Waupelani Drive\, State College\, PA\, 16801\, United States
CATEGORIES:Community Event
ATTACH;FMTTYPE=image/jpeg:https://uufcc.com/wp-content/uploads/2025/08/State-College-Collab.jpg
END:VEVENT
BEGIN:VEVENT
DTSTART;TZID=America/New_York:20250820T173000
DTEND;TZID=America/New_York:20250820T183000
DTSTAMP:20260425T100345
CREATED:20231114T201844Z
LAST-MODIFIED:20231114T201908Z
UID:10002913-1755711000-1755714600@uufcc.com
SUMMARY:Racial Justice Committee
DESCRIPTION:Contact Janet Irons for the Zoom information.
URL:https://uufcc.com/event/racial-justice-committee/2025-08-20/
LOCATION:Unitarian Universalist Fellowship of Centre County\, 780 Waupelani Drive\, State College\, PA\, 16801\, United States
CATEGORIES:Meeting,UUFCC Committee
END:VEVENT
BEGIN:VEVENT
DTSTART;TZID=America/New_York:20250817T100000
DTEND;TZID=America/New_York:20250817T110000
DTSTAMP:20260425T100345
CREATED:20250705T205342Z
LAST-MODIFIED:20250705T205342Z
UID:10010091-1755424800-1755428400@uufcc.com
SUMMARY:RE Elementary and Middle School Youth
DESCRIPTION:Some Sundays we will work in the new Layered Pollinator Habitat building pathways\, labeling plants\, and learning about what grows there. Other Sundays we will engage in Music and Play\, a special curriculum developed by Karen Maynard. We hope your kiddos will participate!
URL:https://uufcc.com/event/re-elementary-and-middle-school-youth/2025-08-17/
LOCATION:Unitarian Universalist Fellowship of Centre County\, 780 Waupelani Drive\, State College\, PA\, 16801\, United States
CATEGORIES:Lifespan Religious Exploration,Middle School Youth,RE Kids & Youth,Young Kids
END:VEVENT
END:VCALENDAR