BEGIN:VCALENDAR
VERSION:2.0
PRODID:-//UUFCC - ECPv6.15.17//NONSGML v1.0//EN
CALSCALE:GREGORIAN
METHOD:PUBLISH
X-ORIGINAL-URL:https://uufcc.com
X-WR-CALDESC:Events for UUFCC
REFRESH-INTERVAL;VALUE=DURATION:PT1H
X-Robots-Tag:noindex
X-PUBLISHED-TTL:PT1H
BEGIN:VTIMEZONE
TZID:America/New_York
BEGIN:DAYLIGHT
TZOFFSETFROM:-0500
TZOFFSETTO:-0400
TZNAME:EDT
DTSTART:20230312T070000
END:DAYLIGHT
BEGIN:STANDARD
TZOFFSETFROM:-0400
TZOFFSETTO:-0500
TZNAME:EST
DTSTART:20231105T060000
END:STANDARD
BEGIN:DAYLIGHT
TZOFFSETFROM:-0500
TZOFFSETTO:-0400
TZNAME:EDT
DTSTART:20240310T070000
END:DAYLIGHT
BEGIN:STANDARD
TZOFFSETFROM:-0400
TZOFFSETTO:-0500
TZNAME:EST
DTSTART:20241103T060000
END:STANDARD
BEGIN:DAYLIGHT
TZOFFSETFROM:-0500
TZOFFSETTO:-0400
TZNAME:EDT
DTSTART:20250309T070000
END:DAYLIGHT
BEGIN:STANDARD
TZOFFSETFROM:-0400
TZOFFSETTO:-0500
TZNAME:EST
DTSTART:20251102T060000
END:STANDARD
END:VTIMEZONE
BEGIN:VEVENT
DTSTART;TZID=America/New_York:20240709T153000
DTEND;TZID=America/New_York:20240709T180000
DTSTAMP:20260421T033919
CREATED:20240718T161006Z
LAST-MODIFIED:20240718T161006Z
UID:10005955-1720539000-1720548000@uufcc.com
SUMMARY:Folk Dancers
DESCRIPTION:Please join this group of folks passionate about dancing to international folk music. Explore different cultures through music and dance. \n*On 3rd Thursdays we ends at 5:30PM (in time for Fellowship Supper).
URL:https://uufcc.com/event/folk-dancers/2024-07-09/
LOCATION:UUFCC – Community Room\, 780 Waupelani Drive\, State College\, PA\, 16801\, United States
CATEGORIES:Meeting
ORGANIZER;CN="Unitarian Universalist Fellowship of Centre County":MAILTO:office@uufcc.com
END:VEVENT
BEGIN:VEVENT
DTSTART;TZID=America/New_York:20240704T153000
DTEND;TZID=America/New_York:20240704T180000
DTSTAMP:20260421T033919
CREATED:20240718T161006Z
LAST-MODIFIED:20240718T161006Z
UID:10005954-1720107000-1720116000@uufcc.com
SUMMARY:Folk Dancers
DESCRIPTION:Please join this group of folks passionate about dancing to international folk music. Explore different cultures through music and dance. \n*On 3rd Thursdays we ends at 5:30PM (in time for Fellowship Supper).
URL:https://uufcc.com/event/folk-dancers/2024-07-04/
LOCATION:UUFCC – Community Room\, 780 Waupelani Drive\, State College\, PA\, 16801\, United States
CATEGORIES:Meeting
ORGANIZER;CN="Unitarian Universalist Fellowship of Centre County":MAILTO:office@uufcc.com
END:VEVENT
BEGIN:VEVENT
DTSTART;TZID=America/New_York:20240702T153000
DTEND;TZID=America/New_York:20240702T180000
DTSTAMP:20260421T033919
CREATED:20240718T161006Z
LAST-MODIFIED:20240718T161006Z
UID:10005953-1719934200-1719943200@uufcc.com
SUMMARY:Folk Dancers
DESCRIPTION:Please join this group of folks passionate about dancing to international folk music. Explore different cultures through music and dance. \n*On 3rd Thursdays we ends at 5:30PM (in time for Fellowship Supper).
URL:https://uufcc.com/event/folk-dancers/2024-07-02/
LOCATION:UUFCC – Community Room\, 780 Waupelani Drive\, State College\, PA\, 16801\, United States
CATEGORIES:Meeting
ORGANIZER;CN="Unitarian Universalist Fellowship of Centre County":MAILTO:office@uufcc.com
END:VEVENT
BEGIN:VEVENT
DTSTART;TZID=America/New_York:20240627T153000
DTEND;TZID=America/New_York:20240627T180000
DTSTAMP:20260421T033919
CREATED:20240718T161006Z
LAST-MODIFIED:20240718T161006Z
UID:10005952-1719502200-1719511200@uufcc.com
SUMMARY:Folk Dancers
DESCRIPTION:Please join this group of folks passionate about dancing to international folk music. Explore different cultures through music and dance. \n*On 3rd Thursdays we ends at 5:30PM (in time for Fellowship Supper).
URL:https://uufcc.com/event/folk-dancers/2024-06-27/
LOCATION:UUFCC – Community Room\, 780 Waupelani Drive\, State College\, PA\, 16801\, United States
CATEGORIES:Meeting
ORGANIZER;CN="Unitarian Universalist Fellowship of Centre County":MAILTO:office@uufcc.com
END:VEVENT
BEGIN:VEVENT
DTSTART;TZID=America/New_York:20240625T153000
DTEND;TZID=America/New_York:20240625T180000
DTSTAMP:20260421T033919
CREATED:20240718T161006Z
LAST-MODIFIED:20240718T161006Z
UID:10005951-1719329400-1719338400@uufcc.com
SUMMARY:Folk Dancers
DESCRIPTION:Please join this group of folks passionate about dancing to international folk music. Explore different cultures through music and dance. \n*On 3rd Thursdays we ends at 5:30PM (in time for Fellowship Supper).
URL:https://uufcc.com/event/folk-dancers/2024-06-25/
LOCATION:UUFCC – Community Room\, 780 Waupelani Drive\, State College\, PA\, 16801\, United States
CATEGORIES:Meeting
ORGANIZER;CN="Unitarian Universalist Fellowship of Centre County":MAILTO:office@uufcc.com
END:VEVENT
BEGIN:VEVENT
DTSTART;TZID=America/New_York:20240620T153000
DTEND;TZID=America/New_York:20240620T180000
DTSTAMP:20260421T033919
CREATED:20240718T161006Z
LAST-MODIFIED:20240718T161006Z
UID:10005950-1718897400-1718906400@uufcc.com
SUMMARY:Folk Dancers
DESCRIPTION:Please join this group of folks passionate about dancing to international folk music. Explore different cultures through music and dance. \n*On 3rd Thursdays we ends at 5:30PM (in time for Fellowship Supper).
URL:https://uufcc.com/event/folk-dancers/2024-06-20/
LOCATION:UUFCC – Community Room\, 780 Waupelani Drive\, State College\, PA\, 16801\, United States
CATEGORIES:Meeting
ORGANIZER;CN="Unitarian Universalist Fellowship of Centre County":MAILTO:office@uufcc.com
END:VEVENT
BEGIN:VEVENT
DTSTART;TZID=America/New_York:20240618T153000
DTEND;TZID=America/New_York:20240618T180000
DTSTAMP:20260421T033919
CREATED:20240718T161006Z
LAST-MODIFIED:20240718T161006Z
UID:10005949-1718724600-1718733600@uufcc.com
SUMMARY:Folk Dancers
DESCRIPTION:Please join this group of folks passionate about dancing to international folk music. Explore different cultures through music and dance. \n*On 3rd Thursdays we ends at 5:30PM (in time for Fellowship Supper).
URL:https://uufcc.com/event/folk-dancers/2024-06-18/
LOCATION:UUFCC – Community Room\, 780 Waupelani Drive\, State College\, PA\, 16801\, United States
CATEGORIES:Meeting
ORGANIZER;CN="Unitarian Universalist Fellowship of Centre County":MAILTO:office@uufcc.com
END:VEVENT
BEGIN:VEVENT
DTSTART;TZID=America/New_York:20240613T153000
DTEND;TZID=America/New_York:20240613T180000
DTSTAMP:20260421T033919
CREATED:20240718T161006Z
LAST-MODIFIED:20240718T161006Z
UID:10005948-1718292600-1718301600@uufcc.com
SUMMARY:Folk Dancers
DESCRIPTION:Please join this group of folks passionate about dancing to international folk music. Explore different cultures through music and dance. \n*On 3rd Thursdays we ends at 5:30PM (in time for Fellowship Supper).
URL:https://uufcc.com/event/folk-dancers/2024-06-13/
LOCATION:UUFCC – Community Room\, 780 Waupelani Drive\, State College\, PA\, 16801\, United States
CATEGORIES:Meeting
ORGANIZER;CN="Unitarian Universalist Fellowship of Centre County":MAILTO:office@uufcc.com
END:VEVENT
BEGIN:VEVENT
DTSTART;TZID=America/New_York:20240611T153000
DTEND;TZID=America/New_York:20240611T180000
DTSTAMP:20260421T033919
CREATED:20240718T161006Z
LAST-MODIFIED:20240718T161006Z
UID:10005947-1718119800-1718128800@uufcc.com
SUMMARY:Folk Dancers
DESCRIPTION:Please join this group of folks passionate about dancing to international folk music. Explore different cultures through music and dance. \n*On 3rd Thursdays we ends at 5:30PM (in time for Fellowship Supper).
URL:https://uufcc.com/event/folk-dancers/2024-06-11/
LOCATION:UUFCC – Community Room\, 780 Waupelani Drive\, State College\, PA\, 16801\, United States
CATEGORIES:Meeting
ORGANIZER;CN="Unitarian Universalist Fellowship of Centre County":MAILTO:office@uufcc.com
END:VEVENT
BEGIN:VEVENT
DTSTART;TZID=America/New_York:20240606T153000
DTEND;TZID=America/New_York:20240606T180000
DTSTAMP:20260421T033919
CREATED:20240718T161006Z
LAST-MODIFIED:20240718T161006Z
UID:10005946-1717687800-1717696800@uufcc.com
SUMMARY:Folk Dancers
DESCRIPTION:Please join this group of folks passionate about dancing to international folk music. Explore different cultures through music and dance. \n*On 3rd Thursdays we ends at 5:30PM (in time for Fellowship Supper).
URL:https://uufcc.com/event/folk-dancers/2024-06-06/
LOCATION:UUFCC – Community Room\, 780 Waupelani Drive\, State College\, PA\, 16801\, United States
CATEGORIES:Meeting
ORGANIZER;CN="Unitarian Universalist Fellowship of Centre County":MAILTO:office@uufcc.com
END:VEVENT
BEGIN:VEVENT
DTSTART;TZID=America/New_York:20240604T153000
DTEND;TZID=America/New_York:20240604T180000
DTSTAMP:20260421T033919
CREATED:20240718T161006Z
LAST-MODIFIED:20240718T161006Z
UID:10005945-1717515000-1717524000@uufcc.com
SUMMARY:Folk Dancers
DESCRIPTION:Please join this group of folks passionate about dancing to international folk music. Explore different cultures through music and dance. \n*On 3rd Thursdays we ends at 5:30PM (in time for Fellowship Supper).
URL:https://uufcc.com/event/folk-dancers/2024-06-04/
LOCATION:UUFCC – Community Room\, 780 Waupelani Drive\, State College\, PA\, 16801\, United States
CATEGORIES:Meeting
ORGANIZER;CN="Unitarian Universalist Fellowship of Centre County":MAILTO:office@uufcc.com
END:VEVENT
BEGIN:VEVENT
DTSTART;TZID=America/New_York:20240530T153000
DTEND;TZID=America/New_York:20240530T180000
DTSTAMP:20260421T033919
CREATED:20240718T161006Z
LAST-MODIFIED:20240718T161006Z
UID:10005944-1717083000-1717092000@uufcc.com
SUMMARY:Folk Dancers
DESCRIPTION:Please join this group of folks passionate about dancing to international folk music. Explore different cultures through music and dance. \n*On 3rd Thursdays we ends at 5:30PM (in time for Fellowship Supper).
URL:https://uufcc.com/event/folk-dancers/2024-05-30/
LOCATION:UUFCC – Community Room\, 780 Waupelani Drive\, State College\, PA\, 16801\, United States
CATEGORIES:Meeting
ORGANIZER;CN="Unitarian Universalist Fellowship of Centre County":MAILTO:office@uufcc.com
END:VEVENT
BEGIN:VEVENT
DTSTART;TZID=America/New_York:20240528T153000
DTEND;TZID=America/New_York:20240528T180000
DTSTAMP:20260421T033919
CREATED:20240718T161006Z
LAST-MODIFIED:20240718T161006Z
UID:10005943-1716910200-1716919200@uufcc.com
SUMMARY:Folk Dancers
DESCRIPTION:Please join this group of folks passionate about dancing to international folk music. Explore different cultures through music and dance. \n*On 3rd Thursdays we ends at 5:30PM (in time for Fellowship Supper).
URL:https://uufcc.com/event/folk-dancers/2024-05-28/
LOCATION:UUFCC – Community Room\, 780 Waupelani Drive\, State College\, PA\, 16801\, United States
CATEGORIES:Meeting
ORGANIZER;CN="Unitarian Universalist Fellowship of Centre County":MAILTO:office@uufcc.com
END:VEVENT
BEGIN:VEVENT
DTSTART;TZID=America/New_York:20240523T153000
DTEND;TZID=America/New_York:20240523T180000
DTSTAMP:20260421T033919
CREATED:20240718T161006Z
LAST-MODIFIED:20240718T161006Z
UID:10005942-1716478200-1716487200@uufcc.com
SUMMARY:Folk Dancers
DESCRIPTION:Please join this group of folks passionate about dancing to international folk music. Explore different cultures through music and dance. \n*On 3rd Thursdays we ends at 5:30PM (in time for Fellowship Supper).
URL:https://uufcc.com/event/folk-dancers/2024-05-23/
LOCATION:UUFCC – Community Room\, 780 Waupelani Drive\, State College\, PA\, 16801\, United States
CATEGORIES:Meeting
ORGANIZER;CN="Unitarian Universalist Fellowship of Centre County":MAILTO:office@uufcc.com
END:VEVENT
BEGIN:VEVENT
DTSTART;TZID=America/New_York:20240521T153000
DTEND;TZID=America/New_York:20240521T180000
DTSTAMP:20260421T033919
CREATED:20240718T161006Z
LAST-MODIFIED:20240718T161006Z
UID:10005941-1716305400-1716314400@uufcc.com
SUMMARY:Folk Dancers
DESCRIPTION:Please join this group of folks passionate about dancing to international folk music. Explore different cultures through music and dance. \n*On 3rd Thursdays we ends at 5:30PM (in time for Fellowship Supper).
URL:https://uufcc.com/event/folk-dancers/2024-05-21/
LOCATION:UUFCC – Community Room\, 780 Waupelani Drive\, State College\, PA\, 16801\, United States
CATEGORIES:Meeting
ORGANIZER;CN="Unitarian Universalist Fellowship of Centre County":MAILTO:office@uufcc.com
END:VEVENT
BEGIN:VEVENT
DTSTART;TZID=America/New_York:20240516T153000
DTEND;TZID=America/New_York:20240516T180000
DTSTAMP:20260421T033919
CREATED:20240718T161006Z
LAST-MODIFIED:20240718T161006Z
UID:10005940-1715873400-1715882400@uufcc.com
SUMMARY:Folk Dancers
DESCRIPTION:Please join this group of folks passionate about dancing to international folk music. Explore different cultures through music and dance. \n*On 3rd Thursdays we ends at 5:30PM (in time for Fellowship Supper).
URL:https://uufcc.com/event/folk-dancers/2024-05-16/
LOCATION:UUFCC – Community Room\, 780 Waupelani Drive\, State College\, PA\, 16801\, United States
CATEGORIES:Meeting
ORGANIZER;CN="Unitarian Universalist Fellowship of Centre County":MAILTO:office@uufcc.com
END:VEVENT
BEGIN:VEVENT
DTSTART;TZID=America/New_York:20240514T153000
DTEND;TZID=America/New_York:20240514T180000
DTSTAMP:20260421T033919
CREATED:20240718T161006Z
LAST-MODIFIED:20240718T161006Z
UID:10005939-1715700600-1715709600@uufcc.com
SUMMARY:Folk Dancers
DESCRIPTION:Please join this group of folks passionate about dancing to international folk music. Explore different cultures through music and dance. \n*On 3rd Thursdays we ends at 5:30PM (in time for Fellowship Supper).
URL:https://uufcc.com/event/folk-dancers/2024-05-14/
LOCATION:UUFCC – Community Room\, 780 Waupelani Drive\, State College\, PA\, 16801\, United States
CATEGORIES:Meeting
ORGANIZER;CN="Unitarian Universalist Fellowship of Centre County":MAILTO:office@uufcc.com
END:VEVENT
BEGIN:VEVENT
DTSTART;TZID=America/New_York:20240509T153000
DTEND;TZID=America/New_York:20240509T180000
DTSTAMP:20260421T033919
CREATED:20240718T161006Z
LAST-MODIFIED:20240718T161006Z
UID:10005938-1715268600-1715277600@uufcc.com
SUMMARY:Folk Dancers
DESCRIPTION:Please join this group of folks passionate about dancing to international folk music. Explore different cultures through music and dance. \n*On 3rd Thursdays we ends at 5:30PM (in time for Fellowship Supper).
URL:https://uufcc.com/event/folk-dancers/2024-05-09/
LOCATION:UUFCC – Community Room\, 780 Waupelani Drive\, State College\, PA\, 16801\, United States
CATEGORIES:Meeting
ORGANIZER;CN="Unitarian Universalist Fellowship of Centre County":MAILTO:office@uufcc.com
END:VEVENT
BEGIN:VEVENT
DTSTART;TZID=America/New_York:20240507T153000
DTEND;TZID=America/New_York:20240507T180000
DTSTAMP:20260421T033919
CREATED:20240718T161006Z
LAST-MODIFIED:20240718T161006Z
UID:10005937-1715095800-1715104800@uufcc.com
SUMMARY:Folk Dancers
DESCRIPTION:Please join this group of folks passionate about dancing to international folk music. Explore different cultures through music and dance. \n*On 3rd Thursdays we ends at 5:30PM (in time for Fellowship Supper).
URL:https://uufcc.com/event/folk-dancers/2024-05-07/
LOCATION:UUFCC – Community Room\, 780 Waupelani Drive\, State College\, PA\, 16801\, United States
CATEGORIES:Meeting
ORGANIZER;CN="Unitarian Universalist Fellowship of Centre County":MAILTO:office@uufcc.com
END:VEVENT
BEGIN:VEVENT
DTSTART;TZID=America/New_York:20240502T153000
DTEND;TZID=America/New_York:20240502T180000
DTSTAMP:20260421T033919
CREATED:20240718T161006Z
LAST-MODIFIED:20240718T161006Z
UID:10005936-1714663800-1714672800@uufcc.com
SUMMARY:Folk Dancers
DESCRIPTION:Please join this group of folks passionate about dancing to international folk music. Explore different cultures through music and dance. \n*On 3rd Thursdays we ends at 5:30PM (in time for Fellowship Supper).
URL:https://uufcc.com/event/folk-dancers/2024-05-02/
LOCATION:UUFCC – Community Room\, 780 Waupelani Drive\, State College\, PA\, 16801\, United States
CATEGORIES:Meeting
ORGANIZER;CN="Unitarian Universalist Fellowship of Centre County":MAILTO:office@uufcc.com
END:VEVENT
BEGIN:VEVENT
DTSTART;TZID=America/New_York:20240430T153000
DTEND;TZID=America/New_York:20240430T180000
DTSTAMP:20260421T033919
CREATED:20240718T161006Z
LAST-MODIFIED:20240718T161006Z
UID:10005935-1714491000-1714500000@uufcc.com
SUMMARY:Folk Dancers
DESCRIPTION:Please join this group of folks passionate about dancing to international folk music. Explore different cultures through music and dance. \n*On 3rd Thursdays we ends at 5:30PM (in time for Fellowship Supper).
URL:https://uufcc.com/event/folk-dancers/2024-04-30/
LOCATION:UUFCC – Community Room\, 780 Waupelani Drive\, State College\, PA\, 16801\, United States
CATEGORIES:Meeting
ORGANIZER;CN="Unitarian Universalist Fellowship of Centre County":MAILTO:office@uufcc.com
END:VEVENT
BEGIN:VEVENT
DTSTART;TZID=America/New_York:20240425T153000
DTEND;TZID=America/New_York:20240425T180000
DTSTAMP:20260421T033919
CREATED:20240718T161006Z
LAST-MODIFIED:20240718T161006Z
UID:10005934-1714059000-1714068000@uufcc.com
SUMMARY:Folk Dancers
DESCRIPTION:Please join this group of folks passionate about dancing to international folk music. Explore different cultures through music and dance. \n*On 3rd Thursdays we ends at 5:30PM (in time for Fellowship Supper).
URL:https://uufcc.com/event/folk-dancers/2024-04-25/
LOCATION:UUFCC – Community Room\, 780 Waupelani Drive\, State College\, PA\, 16801\, United States
CATEGORIES:Meeting
ORGANIZER;CN="Unitarian Universalist Fellowship of Centre County":MAILTO:office@uufcc.com
END:VEVENT
BEGIN:VEVENT
DTSTART;TZID=America/New_York:20240423T153000
DTEND;TZID=America/New_York:20240423T180000
DTSTAMP:20260421T033919
CREATED:20240718T161006Z
LAST-MODIFIED:20240718T161006Z
UID:10005933-1713886200-1713895200@uufcc.com
SUMMARY:Folk Dancers
DESCRIPTION:Please join this group of folks passionate about dancing to international folk music. Explore different cultures through music and dance. \n*On 3rd Thursdays we ends at 5:30PM (in time for Fellowship Supper).
URL:https://uufcc.com/event/folk-dancers/2024-04-23/
LOCATION:UUFCC – Community Room\, 780 Waupelani Drive\, State College\, PA\, 16801\, United States
CATEGORIES:Meeting
ORGANIZER;CN="Unitarian Universalist Fellowship of Centre County":MAILTO:office@uufcc.com
END:VEVENT
BEGIN:VEVENT
DTSTART;TZID=America/New_York:20240418T153000
DTEND;TZID=America/New_York:20240418T180000
DTSTAMP:20260421T033919
CREATED:20240718T161006Z
LAST-MODIFIED:20240718T161006Z
UID:10005932-1713454200-1713463200@uufcc.com
SUMMARY:Folk Dancers
DESCRIPTION:Please join this group of folks passionate about dancing to international folk music. Explore different cultures through music and dance. \n*On 3rd Thursdays we ends at 5:30PM (in time for Fellowship Supper).
URL:https://uufcc.com/event/folk-dancers/2024-04-18/
LOCATION:UUFCC – Community Room\, 780 Waupelani Drive\, State College\, PA\, 16801\, United States
CATEGORIES:Meeting
ORGANIZER;CN="Unitarian Universalist Fellowship of Centre County":MAILTO:office@uufcc.com
END:VEVENT
BEGIN:VEVENT
DTSTART;TZID=America/New_York:20240416T153000
DTEND;TZID=America/New_York:20240416T180000
DTSTAMP:20260421T033919
CREATED:20240718T161006Z
LAST-MODIFIED:20240718T161006Z
UID:10005931-1713281400-1713290400@uufcc.com
SUMMARY:Folk Dancers
DESCRIPTION:Please join this group of folks passionate about dancing to international folk music. Explore different cultures through music and dance. \n*On 3rd Thursdays we ends at 5:30PM (in time for Fellowship Supper).
URL:https://uufcc.com/event/folk-dancers/2024-04-16/
LOCATION:UUFCC – Community Room\, 780 Waupelani Drive\, State College\, PA\, 16801\, United States
CATEGORIES:Meeting
ORGANIZER;CN="Unitarian Universalist Fellowship of Centre County":MAILTO:office@uufcc.com
END:VEVENT
BEGIN:VEVENT
DTSTART;TZID=America/New_York:20240411T153000
DTEND;TZID=America/New_York:20240411T180000
DTSTAMP:20260421T033919
CREATED:20240718T161006Z
LAST-MODIFIED:20240718T161006Z
UID:10005930-1712849400-1712858400@uufcc.com
SUMMARY:Folk Dancers
DESCRIPTION:Please join this group of folks passionate about dancing to international folk music. Explore different cultures through music and dance. \n*On 3rd Thursdays we ends at 5:30PM (in time for Fellowship Supper).
URL:https://uufcc.com/event/folk-dancers/2024-04-11/
LOCATION:UUFCC – Community Room\, 780 Waupelani Drive\, State College\, PA\, 16801\, United States
CATEGORIES:Meeting
ORGANIZER;CN="Unitarian Universalist Fellowship of Centre County":MAILTO:office@uufcc.com
END:VEVENT
BEGIN:VEVENT
DTSTART;TZID=America/New_York:20240409T153000
DTEND;TZID=America/New_York:20240409T180000
DTSTAMP:20260421T033919
CREATED:20240718T161006Z
LAST-MODIFIED:20240718T161006Z
UID:10005929-1712676600-1712685600@uufcc.com
SUMMARY:Folk Dancers
DESCRIPTION:Please join this group of folks passionate about dancing to international folk music. Explore different cultures through music and dance. \n*On 3rd Thursdays we ends at 5:30PM (in time for Fellowship Supper).
URL:https://uufcc.com/event/folk-dancers/2024-04-09/
LOCATION:UUFCC – Community Room\, 780 Waupelani Drive\, State College\, PA\, 16801\, United States
CATEGORIES:Meeting
ORGANIZER;CN="Unitarian Universalist Fellowship of Centre County":MAILTO:office@uufcc.com
END:VEVENT
BEGIN:VEVENT
DTSTART;TZID=America/New_York:20240404T153000
DTEND;TZID=America/New_York:20240404T180000
DTSTAMP:20260421T033919
CREATED:20240718T161006Z
LAST-MODIFIED:20240718T161006Z
UID:10005928-1712244600-1712253600@uufcc.com
SUMMARY:Folk Dancers
DESCRIPTION:Please join this group of folks passionate about dancing to international folk music. Explore different cultures through music and dance. \n*On 3rd Thursdays we ends at 5:30PM (in time for Fellowship Supper).
URL:https://uufcc.com/event/folk-dancers/2024-04-04/
LOCATION:UUFCC – Community Room\, 780 Waupelani Drive\, State College\, PA\, 16801\, United States
CATEGORIES:Meeting
ORGANIZER;CN="Unitarian Universalist Fellowship of Centre County":MAILTO:office@uufcc.com
END:VEVENT
BEGIN:VEVENT
DTSTART;TZID=America/New_York:20240402T153000
DTEND;TZID=America/New_York:20240402T180000
DTSTAMP:20260421T033919
CREATED:20240718T161006Z
LAST-MODIFIED:20240718T161006Z
UID:10005927-1712071800-1712080800@uufcc.com
SUMMARY:Folk Dancers
DESCRIPTION:Please join this group of folks passionate about dancing to international folk music. Explore different cultures through music and dance. \n*On 3rd Thursdays we ends at 5:30PM (in time for Fellowship Supper).
URL:https://uufcc.com/event/folk-dancers/2024-04-02/
LOCATION:UUFCC – Community Room\, 780 Waupelani Drive\, State College\, PA\, 16801\, United States
CATEGORIES:Meeting
ORGANIZER;CN="Unitarian Universalist Fellowship of Centre County":MAILTO:office@uufcc.com
END:VEVENT
BEGIN:VEVENT
DTSTART;TZID=America/New_York:20240331T110000
DTEND;TZID=America/New_York:20240331T130000
DTSTAMP:20260421T033919
CREATED:20240309T172859Z
LAST-MODIFIED:20240326T124312Z
UID:10005211-1711882800-1711890000@uufcc.com
SUMMARY:Spring Eggstravaganza 2024 (Multigenerational)
DESCRIPTION:All ages are hen-vited to an egg-citing exploration of international Spring traditions and yolk-lore including an egg  hunt\, egg decorating\, prizes\, crepe station\, fun-draisers\, Mardi Gras dress up with photo booth\, and more!
URL:https://uufcc.com/event/spring-eggstravaganza-2024-multigenerational/
LOCATION:UUFCC – Community Room\, 780 Waupelani Drive\, State College\, PA\, 16801\, United States
CATEGORIES:Intergenerational RE,Lifespan Religious Exploration
ATTACH;FMTTYPE=image/png:https://uufcc.com/wp-content/uploads/2024/03/Intergen-Spring-Fling.png
ORGANIZER;CN="Unitarian Universalist Fellowship of Centre County":MAILTO:office@uufcc.com
END:VEVENT
END:VCALENDAR