BEGIN:VCALENDAR
VERSION:2.0
PRODID:-//UUFCC - ECPv6.15.17//NONSGML v1.0//EN
CALSCALE:GREGORIAN
METHOD:PUBLISH
X-ORIGINAL-URL:https://uufcc.com
X-WR-CALDESC:Events for UUFCC
REFRESH-INTERVAL;VALUE=DURATION:PT1H
X-Robots-Tag:noindex
X-PUBLISHED-TTL:PT1H
BEGIN:VTIMEZONE
TZID:America/New_York
BEGIN:DAYLIGHT
TZOFFSETFROM:-0500
TZOFFSETTO:-0400
TZNAME:EDT
DTSTART:20250309T070000
END:DAYLIGHT
BEGIN:STANDARD
TZOFFSETFROM:-0400
TZOFFSETTO:-0500
TZNAME:EST
DTSTART:20251102T060000
END:STANDARD
BEGIN:DAYLIGHT
TZOFFSETFROM:-0500
TZOFFSETTO:-0400
TZNAME:EDT
DTSTART:20260308T070000
END:DAYLIGHT
BEGIN:STANDARD
TZOFFSETFROM:-0400
TZOFFSETTO:-0500
TZNAME:EST
DTSTART:20261101T060000
END:STANDARD
BEGIN:DAYLIGHT
TZOFFSETFROM:-0500
TZOFFSETTO:-0400
TZNAME:EDT
DTSTART:20270314T070000
END:DAYLIGHT
BEGIN:STANDARD
TZOFFSETFROM:-0400
TZOFFSETTO:-0500
TZNAME:EST
DTSTART:20271107T060000
END:STANDARD
END:VTIMEZONE
BEGIN:VEVENT
DTSTART;TZID=America/New_York:20260911T153000
DTEND;TZID=America/New_York:20260911T180000
DTSTAMP:20260422T225150
CREATED:20250412T183626Z
LAST-MODIFIED:20250412T183644Z
UID:10008593-1789140600-1789149600@uufcc.com
SUMMARY:Folk Dancers
DESCRIPTION:Please join this group of folks passionate about dancing to international folk music. Explore different cultures through music and dance.
URL:https://uufcc.com/event/folk-dancers-2/2026-09-11/
LOCATION:UUFCC – Community Room\, 780 Waupelani Drive\, State College\, PA\, 16801\, United States
CATEGORIES:Meeting
ORGANIZER;CN="Unitarian Universalist Fellowship of Centre County":MAILTO:office@uufcc.com
END:VEVENT
BEGIN:VEVENT
DTSTART;TZID=America/New_York:20260916T153000
DTEND;TZID=America/New_York:20260916T180000
DTSTAMP:20260422T225150
CREATED:20250412T183626Z
LAST-MODIFIED:20250412T183644Z
UID:10008594-1789572600-1789581600@uufcc.com
SUMMARY:Folk Dancers
DESCRIPTION:Please join this group of folks passionate about dancing to international folk music. Explore different cultures through music and dance.
URL:https://uufcc.com/event/folk-dancers-2/2026-09-16/
LOCATION:UUFCC – Community Room\, 780 Waupelani Drive\, State College\, PA\, 16801\, United States
CATEGORIES:Meeting
ORGANIZER;CN="Unitarian Universalist Fellowship of Centre County":MAILTO:office@uufcc.com
END:VEVENT
BEGIN:VEVENT
DTSTART;TZID=America/New_York:20260918T153000
DTEND;TZID=America/New_York:20260918T180000
DTSTAMP:20260422T225150
CREATED:20250412T183626Z
LAST-MODIFIED:20250412T183644Z
UID:10008595-1789745400-1789754400@uufcc.com
SUMMARY:Folk Dancers
DESCRIPTION:Please join this group of folks passionate about dancing to international folk music. Explore different cultures through music and dance.
URL:https://uufcc.com/event/folk-dancers-2/2026-09-18/
LOCATION:UUFCC – Community Room\, 780 Waupelani Drive\, State College\, PA\, 16801\, United States
CATEGORIES:Meeting
ORGANIZER;CN="Unitarian Universalist Fellowship of Centre County":MAILTO:office@uufcc.com
END:VEVENT
BEGIN:VEVENT
DTSTART;TZID=America/New_York:20260923T153000
DTEND;TZID=America/New_York:20260923T180000
DTSTAMP:20260422T225150
CREATED:20250412T183626Z
LAST-MODIFIED:20250412T183644Z
UID:10008596-1790177400-1790186400@uufcc.com
SUMMARY:Folk Dancers
DESCRIPTION:Please join this group of folks passionate about dancing to international folk music. Explore different cultures through music and dance.
URL:https://uufcc.com/event/folk-dancers-2/2026-09-23/
LOCATION:UUFCC – Community Room\, 780 Waupelani Drive\, State College\, PA\, 16801\, United States
CATEGORIES:Meeting
ORGANIZER;CN="Unitarian Universalist Fellowship of Centre County":MAILTO:office@uufcc.com
END:VEVENT
BEGIN:VEVENT
DTSTART;TZID=America/New_York:20260925T153000
DTEND;TZID=America/New_York:20260925T180000
DTSTAMP:20260422T225150
CREATED:20250412T183626Z
LAST-MODIFIED:20250412T183644Z
UID:10008597-1790350200-1790359200@uufcc.com
SUMMARY:Folk Dancers
DESCRIPTION:Please join this group of folks passionate about dancing to international folk music. Explore different cultures through music and dance.
URL:https://uufcc.com/event/folk-dancers-2/2026-09-25/
LOCATION:UUFCC – Community Room\, 780 Waupelani Drive\, State College\, PA\, 16801\, United States
CATEGORIES:Meeting
ORGANIZER;CN="Unitarian Universalist Fellowship of Centre County":MAILTO:office@uufcc.com
END:VEVENT
BEGIN:VEVENT
DTSTART;TZID=America/New_York:20260930T153000
DTEND;TZID=America/New_York:20260930T180000
DTSTAMP:20260422T225150
CREATED:20250412T183626Z
LAST-MODIFIED:20250412T183644Z
UID:10008598-1790782200-1790791200@uufcc.com
SUMMARY:Folk Dancers
DESCRIPTION:Please join this group of folks passionate about dancing to international folk music. Explore different cultures through music and dance.
URL:https://uufcc.com/event/folk-dancers-2/2026-09-30/
LOCATION:UUFCC – Community Room\, 780 Waupelani Drive\, State College\, PA\, 16801\, United States
CATEGORIES:Meeting
ORGANIZER;CN="Unitarian Universalist Fellowship of Centre County":MAILTO:office@uufcc.com
END:VEVENT
BEGIN:VEVENT
DTSTART;TZID=America/New_York:20261002T153000
DTEND;TZID=America/New_York:20261002T180000
DTSTAMP:20260422T225150
CREATED:20250412T183626Z
LAST-MODIFIED:20250412T183644Z
UID:10008599-1790955000-1790964000@uufcc.com
SUMMARY:Folk Dancers
DESCRIPTION:Please join this group of folks passionate about dancing to international folk music. Explore different cultures through music and dance.
URL:https://uufcc.com/event/folk-dancers-2/2026-10-02/
LOCATION:UUFCC – Community Room\, 780 Waupelani Drive\, State College\, PA\, 16801\, United States
CATEGORIES:Meeting
ORGANIZER;CN="Unitarian Universalist Fellowship of Centre County":MAILTO:office@uufcc.com
END:VEVENT
BEGIN:VEVENT
DTSTART;TZID=America/New_York:20261007T153000
DTEND;TZID=America/New_York:20261007T180000
DTSTAMP:20260422T225150
CREATED:20250412T183626Z
LAST-MODIFIED:20250412T183644Z
UID:10008600-1791387000-1791396000@uufcc.com
SUMMARY:Folk Dancers
DESCRIPTION:Please join this group of folks passionate about dancing to international folk music. Explore different cultures through music and dance.
URL:https://uufcc.com/event/folk-dancers-2/2026-10-07/
LOCATION:UUFCC – Community Room\, 780 Waupelani Drive\, State College\, PA\, 16801\, United States
CATEGORIES:Meeting
ORGANIZER;CN="Unitarian Universalist Fellowship of Centre County":MAILTO:office@uufcc.com
END:VEVENT
BEGIN:VEVENT
DTSTART;TZID=America/New_York:20261009T153000
DTEND;TZID=America/New_York:20261009T180000
DTSTAMP:20260422T225150
CREATED:20250412T183626Z
LAST-MODIFIED:20250412T183644Z
UID:10008601-1791559800-1791568800@uufcc.com
SUMMARY:Folk Dancers
DESCRIPTION:Please join this group of folks passionate about dancing to international folk music. Explore different cultures through music and dance.
URL:https://uufcc.com/event/folk-dancers-2/2026-10-09/
LOCATION:UUFCC – Community Room\, 780 Waupelani Drive\, State College\, PA\, 16801\, United States
CATEGORIES:Meeting
ORGANIZER;CN="Unitarian Universalist Fellowship of Centre County":MAILTO:office@uufcc.com
END:VEVENT
BEGIN:VEVENT
DTSTART;TZID=America/New_York:20261014T153000
DTEND;TZID=America/New_York:20261014T180000
DTSTAMP:20260422T225150
CREATED:20250412T183626Z
LAST-MODIFIED:20250412T183644Z
UID:10008602-1791991800-1792000800@uufcc.com
SUMMARY:Folk Dancers
DESCRIPTION:Please join this group of folks passionate about dancing to international folk music. Explore different cultures through music and dance.
URL:https://uufcc.com/event/folk-dancers-2/2026-10-14/
LOCATION:UUFCC – Community Room\, 780 Waupelani Drive\, State College\, PA\, 16801\, United States
CATEGORIES:Meeting
ORGANIZER;CN="Unitarian Universalist Fellowship of Centre County":MAILTO:office@uufcc.com
END:VEVENT
BEGIN:VEVENT
DTSTART;TZID=America/New_York:20261016T153000
DTEND;TZID=America/New_York:20261016T180000
DTSTAMP:20260422T225150
CREATED:20250412T183626Z
LAST-MODIFIED:20250412T183644Z
UID:10008603-1792164600-1792173600@uufcc.com
SUMMARY:Folk Dancers
DESCRIPTION:Please join this group of folks passionate about dancing to international folk music. Explore different cultures through music and dance.
URL:https://uufcc.com/event/folk-dancers-2/2026-10-16/
LOCATION:UUFCC – Community Room\, 780 Waupelani Drive\, State College\, PA\, 16801\, United States
CATEGORIES:Meeting
ORGANIZER;CN="Unitarian Universalist Fellowship of Centre County":MAILTO:office@uufcc.com
END:VEVENT
BEGIN:VEVENT
DTSTART;TZID=America/New_York:20261021T153000
DTEND;TZID=America/New_York:20261021T180000
DTSTAMP:20260422T225150
CREATED:20250412T183626Z
LAST-MODIFIED:20250412T183644Z
UID:10008604-1792596600-1792605600@uufcc.com
SUMMARY:Folk Dancers
DESCRIPTION:Please join this group of folks passionate about dancing to international folk music. Explore different cultures through music and dance.
URL:https://uufcc.com/event/folk-dancers-2/2026-10-21/
LOCATION:UUFCC – Community Room\, 780 Waupelani Drive\, State College\, PA\, 16801\, United States
CATEGORIES:Meeting
ORGANIZER;CN="Unitarian Universalist Fellowship of Centre County":MAILTO:office@uufcc.com
END:VEVENT
BEGIN:VEVENT
DTSTART;TZID=America/New_York:20261023T153000
DTEND;TZID=America/New_York:20261023T180000
DTSTAMP:20260422T225150
CREATED:20250412T183626Z
LAST-MODIFIED:20250412T183644Z
UID:10008605-1792769400-1792778400@uufcc.com
SUMMARY:Folk Dancers
DESCRIPTION:Please join this group of folks passionate about dancing to international folk music. Explore different cultures through music and dance.
URL:https://uufcc.com/event/folk-dancers-2/2026-10-23/
LOCATION:UUFCC – Community Room\, 780 Waupelani Drive\, State College\, PA\, 16801\, United States
CATEGORIES:Meeting
ORGANIZER;CN="Unitarian Universalist Fellowship of Centre County":MAILTO:office@uufcc.com
END:VEVENT
BEGIN:VEVENT
DTSTART;TZID=America/New_York:20261028T153000
DTEND;TZID=America/New_York:20261028T180000
DTSTAMP:20260422T225150
CREATED:20250412T183626Z
LAST-MODIFIED:20250412T183644Z
UID:10008606-1793201400-1793210400@uufcc.com
SUMMARY:Folk Dancers
DESCRIPTION:Please join this group of folks passionate about dancing to international folk music. Explore different cultures through music and dance.
URL:https://uufcc.com/event/folk-dancers-2/2026-10-28/
LOCATION:UUFCC – Community Room\, 780 Waupelani Drive\, State College\, PA\, 16801\, United States
CATEGORIES:Meeting
ORGANIZER;CN="Unitarian Universalist Fellowship of Centre County":MAILTO:office@uufcc.com
END:VEVENT
BEGIN:VEVENT
DTSTART;TZID=America/New_York:20261030T153000
DTEND;TZID=America/New_York:20261030T180000
DTSTAMP:20260422T225150
CREATED:20250412T183626Z
LAST-MODIFIED:20250412T183644Z
UID:10008607-1793374200-1793383200@uufcc.com
SUMMARY:Folk Dancers
DESCRIPTION:Please join this group of folks passionate about dancing to international folk music. Explore different cultures through music and dance.
URL:https://uufcc.com/event/folk-dancers-2/2026-10-30/
LOCATION:UUFCC – Community Room\, 780 Waupelani Drive\, State College\, PA\, 16801\, United States
CATEGORIES:Meeting
ORGANIZER;CN="Unitarian Universalist Fellowship of Centre County":MAILTO:office@uufcc.com
END:VEVENT
BEGIN:VEVENT
DTSTART;TZID=America/New_York:20261104T153000
DTEND;TZID=America/New_York:20261104T180000
DTSTAMP:20260422T225150
CREATED:20250412T183626Z
LAST-MODIFIED:20250412T183644Z
UID:10008608-1793806200-1793815200@uufcc.com
SUMMARY:Folk Dancers
DESCRIPTION:Please join this group of folks passionate about dancing to international folk music. Explore different cultures through music and dance.
URL:https://uufcc.com/event/folk-dancers-2/2026-11-04/
LOCATION:UUFCC – Community Room\, 780 Waupelani Drive\, State College\, PA\, 16801\, United States
CATEGORIES:Meeting
ORGANIZER;CN="Unitarian Universalist Fellowship of Centre County":MAILTO:office@uufcc.com
END:VEVENT
BEGIN:VEVENT
DTSTART;TZID=America/New_York:20261106T153000
DTEND;TZID=America/New_York:20261106T180000
DTSTAMP:20260422T225150
CREATED:20250412T183626Z
LAST-MODIFIED:20250412T183644Z
UID:10008609-1793979000-1793988000@uufcc.com
SUMMARY:Folk Dancers
DESCRIPTION:Please join this group of folks passionate about dancing to international folk music. Explore different cultures through music and dance.
URL:https://uufcc.com/event/folk-dancers-2/2026-11-06/
LOCATION:UUFCC – Community Room\, 780 Waupelani Drive\, State College\, PA\, 16801\, United States
CATEGORIES:Meeting
ORGANIZER;CN="Unitarian Universalist Fellowship of Centre County":MAILTO:office@uufcc.com
END:VEVENT
BEGIN:VEVENT
DTSTART;TZID=America/New_York:20261111T153000
DTEND;TZID=America/New_York:20261111T180000
DTSTAMP:20260422T225150
CREATED:20250412T183626Z
LAST-MODIFIED:20250412T183644Z
UID:10008610-1794411000-1794420000@uufcc.com
SUMMARY:Folk Dancers
DESCRIPTION:Please join this group of folks passionate about dancing to international folk music. Explore different cultures through music and dance.
URL:https://uufcc.com/event/folk-dancers-2/2026-11-11/
LOCATION:UUFCC – Community Room\, 780 Waupelani Drive\, State College\, PA\, 16801\, United States
CATEGORIES:Meeting
ORGANIZER;CN="Unitarian Universalist Fellowship of Centre County":MAILTO:office@uufcc.com
END:VEVENT
BEGIN:VEVENT
DTSTART;TZID=America/New_York:20261113T153000
DTEND;TZID=America/New_York:20261113T180000
DTSTAMP:20260422T225150
CREATED:20250412T183626Z
LAST-MODIFIED:20250412T183644Z
UID:10008611-1794583800-1794592800@uufcc.com
SUMMARY:Folk Dancers
DESCRIPTION:Please join this group of folks passionate about dancing to international folk music. Explore different cultures through music and dance.
URL:https://uufcc.com/event/folk-dancers-2/2026-11-13/
LOCATION:UUFCC – Community Room\, 780 Waupelani Drive\, State College\, PA\, 16801\, United States
CATEGORIES:Meeting
ORGANIZER;CN="Unitarian Universalist Fellowship of Centre County":MAILTO:office@uufcc.com
END:VEVENT
BEGIN:VEVENT
DTSTART;TZID=America/New_York:20261118T153000
DTEND;TZID=America/New_York:20261118T180000
DTSTAMP:20260422T225150
CREATED:20250412T183626Z
LAST-MODIFIED:20250412T183644Z
UID:10008612-1795015800-1795024800@uufcc.com
SUMMARY:Folk Dancers
DESCRIPTION:Please join this group of folks passionate about dancing to international folk music. Explore different cultures through music and dance.
URL:https://uufcc.com/event/folk-dancers-2/2026-11-18/
LOCATION:UUFCC – Community Room\, 780 Waupelani Drive\, State College\, PA\, 16801\, United States
CATEGORIES:Meeting
ORGANIZER;CN="Unitarian Universalist Fellowship of Centre County":MAILTO:office@uufcc.com
END:VEVENT
BEGIN:VEVENT
DTSTART;TZID=America/New_York:20261120T153000
DTEND;TZID=America/New_York:20261120T180000
DTSTAMP:20260422T225150
CREATED:20250412T183626Z
LAST-MODIFIED:20250412T183644Z
UID:10008613-1795188600-1795197600@uufcc.com
SUMMARY:Folk Dancers
DESCRIPTION:Please join this group of folks passionate about dancing to international folk music. Explore different cultures through music and dance.
URL:https://uufcc.com/event/folk-dancers-2/2026-11-20/
LOCATION:UUFCC – Community Room\, 780 Waupelani Drive\, State College\, PA\, 16801\, United States
CATEGORIES:Meeting
ORGANIZER;CN="Unitarian Universalist Fellowship of Centre County":MAILTO:office@uufcc.com
END:VEVENT
BEGIN:VEVENT
DTSTART;TZID=America/New_York:20261125T153000
DTEND;TZID=America/New_York:20261125T180000
DTSTAMP:20260422T225150
CREATED:20250412T183626Z
LAST-MODIFIED:20250412T183644Z
UID:10008614-1795620600-1795629600@uufcc.com
SUMMARY:Folk Dancers
DESCRIPTION:Please join this group of folks passionate about dancing to international folk music. Explore different cultures through music and dance.
URL:https://uufcc.com/event/folk-dancers-2/2026-11-25/
LOCATION:UUFCC – Community Room\, 780 Waupelani Drive\, State College\, PA\, 16801\, United States
CATEGORIES:Meeting
ORGANIZER;CN="Unitarian Universalist Fellowship of Centre County":MAILTO:office@uufcc.com
END:VEVENT
BEGIN:VEVENT
DTSTART;TZID=America/New_York:20261127T153000
DTEND;TZID=America/New_York:20261127T180000
DTSTAMP:20260422T225150
CREATED:20250412T183626Z
LAST-MODIFIED:20250412T183644Z
UID:10008615-1795793400-1795802400@uufcc.com
SUMMARY:Folk Dancers
DESCRIPTION:Please join this group of folks passionate about dancing to international folk music. Explore different cultures through music and dance.
URL:https://uufcc.com/event/folk-dancers-2/2026-11-27/
LOCATION:UUFCC – Community Room\, 780 Waupelani Drive\, State College\, PA\, 16801\, United States
CATEGORIES:Meeting
ORGANIZER;CN="Unitarian Universalist Fellowship of Centre County":MAILTO:office@uufcc.com
END:VEVENT
BEGIN:VEVENT
DTSTART;TZID=America/New_York:20261202T153000
DTEND;TZID=America/New_York:20261202T180000
DTSTAMP:20260422T225150
CREATED:20250412T183626Z
LAST-MODIFIED:20250412T183644Z
UID:10008616-1796225400-1796234400@uufcc.com
SUMMARY:Folk Dancers
DESCRIPTION:Please join this group of folks passionate about dancing to international folk music. Explore different cultures through music and dance.
URL:https://uufcc.com/event/folk-dancers-2/2026-12-02/
LOCATION:UUFCC – Community Room\, 780 Waupelani Drive\, State College\, PA\, 16801\, United States
CATEGORIES:Meeting
ORGANIZER;CN="Unitarian Universalist Fellowship of Centre County":MAILTO:office@uufcc.com
END:VEVENT
BEGIN:VEVENT
DTSTART;TZID=America/New_York:20261204T153000
DTEND;TZID=America/New_York:20261204T180000
DTSTAMP:20260422T225150
CREATED:20250412T183626Z
LAST-MODIFIED:20250412T183644Z
UID:10008617-1796398200-1796407200@uufcc.com
SUMMARY:Folk Dancers
DESCRIPTION:Please join this group of folks passionate about dancing to international folk music. Explore different cultures through music and dance.
URL:https://uufcc.com/event/folk-dancers-2/2026-12-04/
LOCATION:UUFCC – Community Room\, 780 Waupelani Drive\, State College\, PA\, 16801\, United States
CATEGORIES:Meeting
ORGANIZER;CN="Unitarian Universalist Fellowship of Centre County":MAILTO:office@uufcc.com
END:VEVENT
BEGIN:VEVENT
DTSTART;TZID=America/New_York:20261209T153000
DTEND;TZID=America/New_York:20261209T180000
DTSTAMP:20260422T225150
CREATED:20250412T183626Z
LAST-MODIFIED:20250412T183644Z
UID:10008618-1796830200-1796839200@uufcc.com
SUMMARY:Folk Dancers
DESCRIPTION:Please join this group of folks passionate about dancing to international folk music. Explore different cultures through music and dance.
URL:https://uufcc.com/event/folk-dancers-2/2026-12-09/
LOCATION:UUFCC – Community Room\, 780 Waupelani Drive\, State College\, PA\, 16801\, United States
CATEGORIES:Meeting
ORGANIZER;CN="Unitarian Universalist Fellowship of Centre County":MAILTO:office@uufcc.com
END:VEVENT
BEGIN:VEVENT
DTSTART;TZID=America/New_York:20261211T153000
DTEND;TZID=America/New_York:20261211T180000
DTSTAMP:20260422T225150
CREATED:20250412T183626Z
LAST-MODIFIED:20250412T183644Z
UID:10008619-1797003000-1797012000@uufcc.com
SUMMARY:Folk Dancers
DESCRIPTION:Please join this group of folks passionate about dancing to international folk music. Explore different cultures through music and dance.
URL:https://uufcc.com/event/folk-dancers-2/2026-12-11/
LOCATION:UUFCC – Community Room\, 780 Waupelani Drive\, State College\, PA\, 16801\, United States
CATEGORIES:Meeting
ORGANIZER;CN="Unitarian Universalist Fellowship of Centre County":MAILTO:office@uufcc.com
END:VEVENT
BEGIN:VEVENT
DTSTART;TZID=America/New_York:20261216T153000
DTEND;TZID=America/New_York:20261216T180000
DTSTAMP:20260422T225150
CREATED:20250412T183626Z
LAST-MODIFIED:20250412T183644Z
UID:10008620-1797435000-1797444000@uufcc.com
SUMMARY:Folk Dancers
DESCRIPTION:Please join this group of folks passionate about dancing to international folk music. Explore different cultures through music and dance.
URL:https://uufcc.com/event/folk-dancers-2/2026-12-16/
LOCATION:UUFCC – Community Room\, 780 Waupelani Drive\, State College\, PA\, 16801\, United States
CATEGORIES:Meeting
ORGANIZER;CN="Unitarian Universalist Fellowship of Centre County":MAILTO:office@uufcc.com
END:VEVENT
BEGIN:VEVENT
DTSTART;TZID=America/New_York:20261218T153000
DTEND;TZID=America/New_York:20261218T180000
DTSTAMP:20260422T225150
CREATED:20250412T183626Z
LAST-MODIFIED:20250412T183644Z
UID:10008621-1797607800-1797616800@uufcc.com
SUMMARY:Folk Dancers
DESCRIPTION:Please join this group of folks passionate about dancing to international folk music. Explore different cultures through music and dance.
URL:https://uufcc.com/event/folk-dancers-2/2026-12-18/
LOCATION:UUFCC – Community Room\, 780 Waupelani Drive\, State College\, PA\, 16801\, United States
CATEGORIES:Meeting
ORGANIZER;CN="Unitarian Universalist Fellowship of Centre County":MAILTO:office@uufcc.com
END:VEVENT
BEGIN:VEVENT
DTSTART;TZID=America/New_York:20261223T153000
DTEND;TZID=America/New_York:20261223T180000
DTSTAMP:20260422T225150
CREATED:20250412T183626Z
LAST-MODIFIED:20250412T183644Z
UID:10008622-1798039800-1798048800@uufcc.com
SUMMARY:Folk Dancers
DESCRIPTION:Please join this group of folks passionate about dancing to international folk music. Explore different cultures through music and dance.
URL:https://uufcc.com/event/folk-dancers-2/2026-12-23/
LOCATION:UUFCC – Community Room\, 780 Waupelani Drive\, State College\, PA\, 16801\, United States
CATEGORIES:Meeting
ORGANIZER;CN="Unitarian Universalist Fellowship of Centre County":MAILTO:office@uufcc.com
END:VEVENT
END:VCALENDAR