BEGIN:VCALENDAR
VERSION:2.0
PRODID:-//UUFCC - ECPv6.15.17//NONSGML v1.0//EN
CALSCALE:GREGORIAN
METHOD:PUBLISH
X-WR-CALNAME:UUFCC
X-ORIGINAL-URL:https://uufcc.com
X-WR-CALDESC:Events for UUFCC
REFRESH-INTERVAL;VALUE=DURATION:PT1H
X-Robots-Tag:noindex
X-PUBLISHED-TTL:PT1H
BEGIN:VTIMEZONE
TZID:America/New_York
BEGIN:DAYLIGHT
TZOFFSETFROM:-0500
TZOFFSETTO:-0400
TZNAME:EDT
DTSTART:20240310T070000
END:DAYLIGHT
BEGIN:STANDARD
TZOFFSETFROM:-0400
TZOFFSETTO:-0500
TZNAME:EST
DTSTART:20241103T060000
END:STANDARD
BEGIN:DAYLIGHT
TZOFFSETFROM:-0500
TZOFFSETTO:-0400
TZNAME:EDT
DTSTART:20250309T070000
END:DAYLIGHT
BEGIN:STANDARD
TZOFFSETFROM:-0400
TZOFFSETTO:-0500
TZNAME:EST
DTSTART:20251102T060000
END:STANDARD
BEGIN:DAYLIGHT
TZOFFSETFROM:-0500
TZOFFSETTO:-0400
TZNAME:EDT
DTSTART:20260308T070000
END:DAYLIGHT
BEGIN:STANDARD
TZOFFSETFROM:-0400
TZOFFSETTO:-0500
TZNAME:EST
DTSTART:20261101T060000
END:STANDARD
BEGIN:DAYLIGHT
TZOFFSETFROM:-0500
TZOFFSETTO:-0400
TZNAME:EDT
DTSTART:20270314T070000
END:DAYLIGHT
BEGIN:STANDARD
TZOFFSETFROM:-0400
TZOFFSETTO:-0500
TZNAME:EST
DTSTART:20271107T060000
END:STANDARD
END:VTIMEZONE
BEGIN:VEVENT
DTSTART;TZID=America/New_York:20260419T100000
DTEND;TZID=America/New_York:20260419T110000
DTSTAMP:20260421T093550
CREATED:20260120T193158Z
LAST-MODIFIED:20260120T193201Z
UID:10010561-1776592800-1776596400@uufcc.com
SUMMARY:RE: Pre-K & K
DESCRIPTION:Each week our kids gather to explore our world in light of our UU values. Pre-K/K friends will engage in guided exploration of various topics with their wonderful teachers\, Sue Smith and Rocky Landers\, downstairs in Room D.
URL:https://uufcc.com/event/re-pre-k-k-10/2026-04-19/
LOCATION:UUFCC – Gathering Space and Room D\, 780 Waupelani Drive\, State College\, PA\, 16801\, United States
CATEGORIES:Lifespan Religious Exploration,RE Kids & Youth,Young Kids
ORGANIZER;CN="Unitarian Universalist Fellowship of Centre County":MAILTO:office@uufcc.com
END:VEVENT
BEGIN:VEVENT
DTSTART;TZID=America/New_York:20260412T100000
DTEND;TZID=America/New_York:20260412T110000
DTSTAMP:20260421T093550
CREATED:20260120T193158Z
LAST-MODIFIED:20260120T193201Z
UID:10010560-1775988000-1775991600@uufcc.com
SUMMARY:RE: Pre-K & K
DESCRIPTION:Each week our kids gather to explore our world in light of our UU values. Pre-K/K friends will engage in guided exploration of various topics with their wonderful teachers\, Sue Smith and Rocky Landers\, downstairs in Room D.
URL:https://uufcc.com/event/re-pre-k-k-10/2026-04-12/
LOCATION:UUFCC – Gathering Space and Room D\, 780 Waupelani Drive\, State College\, PA\, 16801\, United States
CATEGORIES:Lifespan Religious Exploration,RE Kids & Youth,Young Kids
ORGANIZER;CN="Unitarian Universalist Fellowship of Centre County":MAILTO:office@uufcc.com
END:VEVENT
BEGIN:VEVENT
DTSTART;TZID=America/New_York:20260405T100000
DTEND;TZID=America/New_York:20260405T110000
DTSTAMP:20260421T093550
CREATED:20260120T193158Z
LAST-MODIFIED:20260120T193201Z
UID:10010559-1775383200-1775386800@uufcc.com
SUMMARY:RE: Pre-K & K
DESCRIPTION:Each week our kids gather to explore our world in light of our UU values. Pre-K/K friends will engage in guided exploration of various topics with their wonderful teachers\, Sue Smith and Rocky Landers\, downstairs in Room D.
URL:https://uufcc.com/event/re-pre-k-k-10/2026-04-05/
LOCATION:UUFCC – Gathering Space and Room D\, 780 Waupelani Drive\, State College\, PA\, 16801\, United States
CATEGORIES:Lifespan Religious Exploration,RE Kids & Youth,Young Kids
ORGANIZER;CN="Unitarian Universalist Fellowship of Centre County":MAILTO:office@uufcc.com
END:VEVENT
BEGIN:VEVENT
DTSTART;TZID=America/New_York:20260329T100000
DTEND;TZID=America/New_York:20260329T110000
DTSTAMP:20260421T093550
CREATED:20260120T193158Z
LAST-MODIFIED:20260120T193201Z
UID:10010558-1774778400-1774782000@uufcc.com
SUMMARY:RE: Pre-K & K
DESCRIPTION:Each week our kids gather to explore our world in light of our UU values. Pre-K/K friends will engage in guided exploration of various topics with their wonderful teachers\, Sue Smith and Rocky Landers\, downstairs in Room D.
URL:https://uufcc.com/event/re-pre-k-k-10/2026-03-29/
LOCATION:UUFCC – Gathering Space and Room D\, 780 Waupelani Drive\, State College\, PA\, 16801\, United States
CATEGORIES:Lifespan Religious Exploration,RE Kids & Youth,Young Kids
ORGANIZER;CN="Unitarian Universalist Fellowship of Centre County":MAILTO:office@uufcc.com
END:VEVENT
BEGIN:VEVENT
DTSTART;TZID=America/New_York:20260322T100000
DTEND;TZID=America/New_York:20260322T110000
DTSTAMP:20260421T093550
CREATED:20260120T193158Z
LAST-MODIFIED:20260120T193201Z
UID:10010557-1774173600-1774177200@uufcc.com
SUMMARY:RE: Pre-K & K
DESCRIPTION:Each week our kids gather to explore our world in light of our UU values. Pre-K/K friends will engage in guided exploration of various topics with their wonderful teachers\, Sue Smith and Rocky Landers\, downstairs in Room D.
URL:https://uufcc.com/event/re-pre-k-k-10/2026-03-22/
LOCATION:UUFCC – Gathering Space and Room D\, 780 Waupelani Drive\, State College\, PA\, 16801\, United States
CATEGORIES:Lifespan Religious Exploration,RE Kids & Youth,Young Kids
ORGANIZER;CN="Unitarian Universalist Fellowship of Centre County":MAILTO:office@uufcc.com
END:VEVENT
BEGIN:VEVENT
DTSTART;TZID=America/New_York:20260315T100000
DTEND;TZID=America/New_York:20260315T110000
DTSTAMP:20260421T093550
CREATED:20260120T193158Z
LAST-MODIFIED:20260120T193201Z
UID:10010556-1773568800-1773572400@uufcc.com
SUMMARY:RE: Pre-K & K
DESCRIPTION:Each week our kids gather to explore our world in light of our UU values. Pre-K/K friends will engage in guided exploration of various topics with their wonderful teachers\, Sue Smith and Rocky Landers\, downstairs in Room D.
URL:https://uufcc.com/event/re-pre-k-k-10/2026-03-15/
LOCATION:UUFCC – Gathering Space and Room D\, 780 Waupelani Drive\, State College\, PA\, 16801\, United States
CATEGORIES:Lifespan Religious Exploration,RE Kids & Youth,Young Kids
ORGANIZER;CN="Unitarian Universalist Fellowship of Centre County":MAILTO:office@uufcc.com
END:VEVENT
BEGIN:VEVENT
DTSTART;TZID=America/New_York:20260308T100000
DTEND;TZID=America/New_York:20260308T110000
DTSTAMP:20260421T093550
CREATED:20260120T193158Z
LAST-MODIFIED:20260120T193201Z
UID:10010555-1772964000-1772967600@uufcc.com
SUMMARY:RE: Pre-K & K
DESCRIPTION:Each week our kids gather to explore our world in light of our UU values. Pre-K/K friends will engage in guided exploration of various topics with their wonderful teachers\, Sue Smith and Rocky Landers\, downstairs in Room D.
URL:https://uufcc.com/event/re-pre-k-k-10/2026-03-08/
LOCATION:UUFCC – Gathering Space and Room D\, 780 Waupelani Drive\, State College\, PA\, 16801\, United States
CATEGORIES:Lifespan Religious Exploration,RE Kids & Youth,Young Kids
ORGANIZER;CN="Unitarian Universalist Fellowship of Centre County":MAILTO:office@uufcc.com
END:VEVENT
BEGIN:VEVENT
DTSTART;TZID=America/New_York:20260301T100000
DTEND;TZID=America/New_York:20260301T110000
DTSTAMP:20260421T093550
CREATED:20260120T193158Z
LAST-MODIFIED:20260120T193201Z
UID:10010554-1772359200-1772362800@uufcc.com
SUMMARY:RE: Pre-K & K
DESCRIPTION:Each week our kids gather to explore our world in light of our UU values. Pre-K/K friends will engage in guided exploration of various topics with their wonderful teachers\, Sue Smith and Rocky Landers\, downstairs in Room D.
URL:https://uufcc.com/event/re-pre-k-k-10/2026-03-01/
LOCATION:UUFCC – Gathering Space and Room D\, 780 Waupelani Drive\, State College\, PA\, 16801\, United States
CATEGORIES:Lifespan Religious Exploration,RE Kids & Youth,Young Kids
ORGANIZER;CN="Unitarian Universalist Fellowship of Centre County":MAILTO:office@uufcc.com
END:VEVENT
BEGIN:VEVENT
DTSTART;TZID=America/New_York:20260222T100000
DTEND;TZID=America/New_York:20260222T110000
DTSTAMP:20260421T093550
CREATED:20260120T193158Z
LAST-MODIFIED:20260120T193201Z
UID:10010553-1771754400-1771758000@uufcc.com
SUMMARY:RE: Pre-K & K
DESCRIPTION:Each week our kids gather to explore our world in light of our UU values. Pre-K/K friends will engage in guided exploration of various topics with their wonderful teachers\, Sue Smith and Rocky Landers\, downstairs in Room D.
URL:https://uufcc.com/event/re-pre-k-k-10/2026-02-22/
LOCATION:UUFCC – Gathering Space and Room D\, 780 Waupelani Drive\, State College\, PA\, 16801\, United States
CATEGORIES:Lifespan Religious Exploration,RE Kids & Youth,Young Kids
ORGANIZER;CN="Unitarian Universalist Fellowship of Centre County":MAILTO:office@uufcc.com
END:VEVENT
BEGIN:VEVENT
DTSTART;TZID=America/New_York:20260215T100000
DTEND;TZID=America/New_York:20260215T110000
DTSTAMP:20260421T093550
CREATED:20260204T182928Z
LAST-MODIFIED:20260204T182928Z
UID:10010552-1771149600-1771153200@uufcc.com
SUMMARY:RE: Pre-K & K
DESCRIPTION:Each week our kids gather to explore our world in light of our UU values. Pre-K/K friends will engage in guided exploration of various topics with their wonderful teachers\, Sue Smith and Rocky Landers\, downstairs in Room D.
URL:https://uufcc.com/event/re-pre-k-k-12/
LOCATION:UUFCC – Gathering Space and Room D\, 780 Waupelani Drive\, State College\, PA\, 16801\, United States
CATEGORIES:Lifespan Religious Exploration,RE Kids & Youth,Young Kids
ORGANIZER;CN="Unitarian Universalist Fellowship of Centre County":MAILTO:office@uufcc.com
END:VEVENT
BEGIN:VEVENT
DTSTART;TZID=America/New_York:20260208T100000
DTEND;TZID=America/New_York:20260208T110000
DTSTAMP:20260421T093550
CREATED:20260204T182906Z
LAST-MODIFIED:20260204T182906Z
UID:10010551-1770544800-1770548400@uufcc.com
SUMMARY:RE: Pre-K & K
DESCRIPTION:Each week our kids gather to explore our world in light of our UU values. Pre-K/K friends will engage in guided exploration of various topics with their wonderful teachers\, Sue Smith and Rocky Landers\, downstairs in Room D.
URL:https://uufcc.com/event/re-pre-k-k-11/
LOCATION:UUFCC – Gathering Space and Room D\, 780 Waupelani Drive\, State College\, PA\, 16801\, United States
CATEGORIES:Lifespan Religious Exploration,RE Kids & Youth,Young Kids
ORGANIZER;CN="Unitarian Universalist Fellowship of Centre County":MAILTO:office@uufcc.com
END:VEVENT
BEGIN:VEVENT
DTSTART;TZID=America/New_York:20260201T100000
DTEND;TZID=America/New_York:20260201T110000
DTSTAMP:20260421T093550
CREATED:20260120T193158Z
LAST-MODIFIED:20260120T193201Z
UID:10010550-1769940000-1769943600@uufcc.com
SUMMARY:RE: Pre-K & K
DESCRIPTION:Each week our kids gather to explore our world in light of our UU values. Pre-K/K friends will engage in guided exploration of various topics with their wonderful teachers\, Sue Smith and Rocky Landers\, downstairs in Room D.
URL:https://uufcc.com/event/re-pre-k-k-10/2026-02-01/
LOCATION:UUFCC – Gathering Space and Room D\, 780 Waupelani Drive\, State College\, PA\, 16801\, United States
CATEGORIES:Lifespan Religious Exploration,RE Kids & Youth,Young Kids
ORGANIZER;CN="Unitarian Universalist Fellowship of Centre County":MAILTO:office@uufcc.com
END:VEVENT
BEGIN:VEVENT
DTSTART;TZID=America/New_York:20260125T100000
DTEND;TZID=America/New_York:20260125T110000
DTSTAMP:20260421T093550
CREATED:20260120T193109Z
LAST-MODIFIED:20260124T213331Z
UID:10010549-1769335200-1769338800@uufcc.com
SUMMARY:RE: Pre-K & K
DESCRIPTION:Each week our kids gather to explore our world in light of our UU values. Pre-K/K friends will engage in guided exploration of various topics with their wonderful teachers\, Sue Smith and Rocky Landers\, downstairs in Room D.
URL:https://uufcc.com/event/re-pre-k-k-9/
LOCATION:UUFCC – Gathering Space and Room D\, 780 Waupelani Drive\, State College\, PA\, 16801\, United States
CATEGORIES:Lifespan Religious Exploration,RE Kids & Youth,Young Kids
ORGANIZER;CN="Unitarian Universalist Fellowship of Centre County":MAILTO:office@uufcc.com
END:VEVENT
BEGIN:VEVENT
DTSTART;TZID=America/New_York:20250615T100000
DTEND;TZID=America/New_York:20250615T110000
DTSTAMP:20260421T093550
CREATED:20250119T161118Z
LAST-MODIFIED:20250119T161118Z
UID:10008161-1749981600-1749985200@uufcc.com
SUMMARY:RE Pre-K/K: "Celebrate"
DESCRIPTION:Each week our kids will gather to explore our world in light of our UU values. \nPre-K/K friends will engage in guided exploration of various topics with their wonderful teachers. Sue Smith and Rocky Landers\, downstairs in Room D.
URL:https://uufcc.com/event/re-pre-k-k-celebrate/
LOCATION:UUFCC – Gathering Space and Room D\, 780 Waupelani Drive\, State College\, PA\, 16801\, United States
CATEGORIES:Lifespan Religious Exploration,RE Kids & Youth,Young Kids
ATTACH;FMTTYPE=image/png:https://uufcc.com/wp-content/uploads/2024/01/RE-Pre-KK-Kids.png
ORGANIZER;CN="Unitarian Universalist Fellowship of Centre County":MAILTO:office@uufcc.com
END:VEVENT
BEGIN:VEVENT
DTSTART;TZID=America/New_York:20250608T100000
DTEND;TZID=America/New_York:20250608T110000
DTSTAMP:20260421T093550
CREATED:20250119T155047Z
LAST-MODIFIED:20250119T161127Z
UID:10008160-1749376800-1749380400@uufcc.com
SUMMARY:RE Pre-K/K: "Rainbows"
DESCRIPTION:Each week our kids will gather to explore our world in light of our UU values. \nPre-K/K friends will engage in guided exploration of various topics with their wonderful teachers. Sue Smith and Rocky Landers\, downstairs in Room D.
URL:https://uufcc.com/event/re-pre-k-k-rainbows/
LOCATION:UUFCC – Gathering Space and Room D\, 780 Waupelani Drive\, State College\, PA\, 16801\, United States
CATEGORIES:Lifespan Religious Exploration,RE Kids & Youth,Young Kids
ATTACH;FMTTYPE=image/png:https://uufcc.com/wp-content/uploads/2024/01/RE-Pre-KK-Kids.png
ORGANIZER;CN="Unitarian Universalist Fellowship of Centre County":MAILTO:office@uufcc.com
END:VEVENT
BEGIN:VEVENT
DTSTART;TZID=America/New_York:20250601T100000
DTEND;TZID=America/New_York:20250601T110000
DTSTAMP:20260421T093550
CREATED:20250119T154841Z
LAST-MODIFIED:20250119T161027Z
UID:10008159-1748772000-1748775600@uufcc.com
SUMMARY:RE Pre-K/K: "I Can Taste"
DESCRIPTION:Each week our kids will gather to explore our world in light of our UU values. \nPre-K/K friends will engage in guided exploration of various topics with their wonderful teachers. Sue Smith and Rocky Landers\, downstairs in Room D.
URL:https://uufcc.com/event/re-pre-k-k-i-can-taste/
LOCATION:UUFCC – Gathering Space and Room D\, 780 Waupelani Drive\, State College\, PA\, 16801\, United States
CATEGORIES:Lifespan Religious Exploration,RE Kids & Youth,Young Kids
ATTACH;FMTTYPE=image/png:https://uufcc.com/wp-content/uploads/2024/01/RE-Pre-KK-Kids.png
ORGANIZER;CN="Unitarian Universalist Fellowship of Centre County":MAILTO:office@uufcc.com
END:VEVENT
BEGIN:VEVENT
DTSTART;TZID=America/New_York:20250511T100000
DTEND;TZID=America/New_York:20250511T110000
DTSTAMP:20260421T093550
CREATED:20250119T154404Z
LAST-MODIFIED:20250119T154420Z
UID:10007741-1746957600-1746961200@uufcc.com
SUMMARY:RE Pre-K/K: "Mother's Day & Flowers"
DESCRIPTION:Each week our kids will gather to explore our world in light of our UU values. \nPre-K/K friends will engage in guided exploration of various topics with their wonderful teachers. Sue Smith and Rocky Landers\, downstairs in Room D.
URL:https://uufcc.com/event/re-pre-k-kindergarten-9/
LOCATION:UUFCC – Gathering Space and Room D\, 780 Waupelani Drive\, State College\, PA\, 16801\, United States
CATEGORIES:Lifespan Religious Exploration,RE Kids & Youth,Young Kids
ATTACH;FMTTYPE=image/png:https://uufcc.com/wp-content/uploads/2024/01/RE-Pre-KK-Kids.png
ORGANIZER;CN="Unitarian Universalist Fellowship of Centre County":MAILTO:office@uufcc.com
END:VEVENT
BEGIN:VEVENT
DTSTART;TZID=America/New_York:20250504T100000
DTEND;TZID=America/New_York:20250504T110000
DTSTAMP:20260421T093550
CREATED:20250119T154317Z
LAST-MODIFIED:20250119T154333Z
UID:10007740-1746352800-1746356400@uufcc.com
SUMMARY:RE Pre-K/K: "Trees"
DESCRIPTION:Each week our kids will gather to explore our world in light of our UU values. \nPre-K/K friends will engage in guided exploration of various topics with their wonderful teachers. Sue Smith and Rocky Landers\, downstairs in Room D.
URL:https://uufcc.com/event/re-pre-k-kindergarten-8/
LOCATION:UUFCC – Gathering Space and Room D\, 780 Waupelani Drive\, State College\, PA\, 16801\, United States
CATEGORIES:Lifespan Religious Exploration,RE Kids & Youth,Young Kids
ATTACH;FMTTYPE=image/png:https://uufcc.com/wp-content/uploads/2024/01/RE-Pre-KK-Kids.png
ORGANIZER;CN="Unitarian Universalist Fellowship of Centre County":MAILTO:office@uufcc.com
END:VEVENT
BEGIN:VEVENT
DTSTART;TZID=America/New_York:20250427T100000
DTEND;TZID=America/New_York:20250427T110000
DTSTAMP:20260421T093550
CREATED:20250119T154156Z
LAST-MODIFIED:20250119T154210Z
UID:10007739-1745748000-1745751600@uufcc.com
SUMMARY:RE Pre-K/K: "Fish in my world"
DESCRIPTION:Each week our kids will gather to explore our world in light of our UU values. \nPre-K/K friends will engage in guided exploration of various topics with their wonderful teachers. Sue Smith and Rocky Landers\, downstairs in Room D.
URL:https://uufcc.com/event/re-pre-k-kindergarten-7/
LOCATION:UUFCC – Gathering Space and Room D\, 780 Waupelani Drive\, State College\, PA\, 16801\, United States
CATEGORIES:Lifespan Religious Exploration,RE Kids & Youth,Young Kids
ATTACH;FMTTYPE=image/png:https://uufcc.com/wp-content/uploads/2024/01/RE-Pre-KK-Kids.png
ORGANIZER;CN="Unitarian Universalist Fellowship of Centre County":MAILTO:office@uufcc.com
END:VEVENT
BEGIN:VEVENT
DTSTART;TZID=America/New_York:20250413T100000
DTEND;TZID=America/New_York:20250413T110000
DTSTAMP:20260421T093550
CREATED:20250119T153807Z
LAST-MODIFIED:20250119T153819Z
UID:10007738-1744538400-1744542000@uufcc.com
SUMMARY:RE Pre-K/K: "Earth Day"
DESCRIPTION:Each week our kids will gather to explore our world in light of our UU values. \nPre-K/K friends will engage in guided exploration of various topics with their wonderful teachers. Sue Smith and Rocky Landers\, downstairs in Room D.
URL:https://uufcc.com/event/re-pre-k-kindergarten-6/
LOCATION:UUFCC – Gathering Space and Room D\, 780 Waupelani Drive\, State College\, PA\, 16801\, United States
CATEGORIES:Lifespan Religious Exploration,RE Kids & Youth,Young Kids
ATTACH;FMTTYPE=image/png:https://uufcc.com/wp-content/uploads/2024/01/RE-Pre-KK-Kids.png
ORGANIZER;CN="Unitarian Universalist Fellowship of Centre County":MAILTO:office@uufcc.com
END:VEVENT
BEGIN:VEVENT
DTSTART;TZID=America/New_York:20250406T100000
DTEND;TZID=America/New_York:20250406T110000
DTSTAMP:20260421T093550
CREATED:20250119T153730Z
LAST-MODIFIED:20250119T153745Z
UID:10007737-1743933600-1743937200@uufcc.com
SUMMARY:RE Pre-K/K: "Hear & Listen"
DESCRIPTION:Each week our kids will gather to explore our world in light of our UU values. \nPre-K/K friends will engage in guided exploration of various topics with their wonderful teachers. Sue Smith and Rocky Landers\, downstairs in Room D.
URL:https://uufcc.com/event/re-pre-k-kindergarten-5/
LOCATION:UUFCC – Gathering Space and Room D\, 780 Waupelani Drive\, State College\, PA\, 16801\, United States
CATEGORIES:Lifespan Religious Exploration,RE Kids & Youth,Young Kids
ATTACH;FMTTYPE=image/png:https://uufcc.com/wp-content/uploads/2024/01/RE-Pre-KK-Kids.png
ORGANIZER;CN="Unitarian Universalist Fellowship of Centre County":MAILTO:office@uufcc.com
END:VEVENT
BEGIN:VEVENT
DTSTART;TZID=America/New_York:20250330T100000
DTEND;TZID=America/New_York:20250330T110000
DTSTAMP:20260421T093550
CREATED:20250119T153645Z
LAST-MODIFIED:20250119T153704Z
UID:10007736-1743328800-1743332400@uufcc.com
SUMMARY:RE Pre-K/K: "We can do anything we want to"
DESCRIPTION:Each week our kids will gather to explore our world in light of our UU values. \nPre-K/K friends will engage in guided exploration of various topics with their wonderful teachers. Sue Smith and Rocky Landers\, downstairs in Room D.
URL:https://uufcc.com/event/re-pre-k-kindergarten-4/
LOCATION:UUFCC – Gathering Space and Room D\, 780 Waupelani Drive\, State College\, PA\, 16801\, United States
CATEGORIES:Lifespan Religious Exploration,RE Kids & Youth,Young Kids
ATTACH;FMTTYPE=image/png:https://uufcc.com/wp-content/uploads/2024/01/RE-Pre-KK-Kids.png
ORGANIZER;CN="Unitarian Universalist Fellowship of Centre County":MAILTO:office@uufcc.com
END:VEVENT
BEGIN:VEVENT
DTSTART;TZID=America/New_York:20250323T100000
DTEND;TZID=America/New_York:20250323T110000
DTSTAMP:20260421T093550
CREATED:20250119T153555Z
LAST-MODIFIED:20250119T153631Z
UID:10007735-1742724000-1742727600@uufcc.com
SUMMARY:RE Pre-K/K: "Feelings; We can be angry without hurting others"
DESCRIPTION:Each week our kids will gather to explore our world in light of our UU values. \nPre-K/K friends will engage in guided exploration of various topics with their wonderful teachers. Sue Smith and Rocky Landers\, downstairs in Room D.
URL:https://uufcc.com/event/re-pre-k-kindergarten-3/
LOCATION:UUFCC – Gathering Space and Room D\, 780 Waupelani Drive\, State College\, PA\, 16801\, United States
CATEGORIES:Lifespan Religious Exploration,RE Kids & Youth,Young Kids
ATTACH;FMTTYPE=image/png:https://uufcc.com/wp-content/uploads/2024/01/RE-Pre-KK-Kids.png
ORGANIZER;CN="Unitarian Universalist Fellowship of Centre County":MAILTO:office@uufcc.com
END:VEVENT
BEGIN:VEVENT
DTSTART;TZID=America/New_York:20250316T100000
DTEND;TZID=America/New_York:20250316T110000
DTSTAMP:20260421T093550
CREATED:20250119T153538Z
LAST-MODIFIED:20250119T153538Z
UID:10007734-1742119200-1742122800@uufcc.com
SUMMARY:RE Pre-K/K: "Seeing"
DESCRIPTION:Each week our kids will gather to explore our world in light of our UU values. \nPre-K/K friends will engage in guided exploration of various topics with their wonderful teachers. Sue Smith and Rocky Landers\, downstairs in Room D.
URL:https://uufcc.com/event/re-pre-k-k-seeing/
LOCATION:UUFCC – Gathering Space and Room D\, 780 Waupelani Drive\, State College\, PA\, 16801\, United States
CATEGORIES:Lifespan Religious Exploration,RE Kids & Youth,Young Kids
ATTACH;FMTTYPE=image/png:https://uufcc.com/wp-content/uploads/2024/01/RE-Pre-KK-Kids.png
ORGANIZER;CN="Unitarian Universalist Fellowship of Centre County":MAILTO:office@uufcc.com
END:VEVENT
BEGIN:VEVENT
DTSTART;TZID=America/New_York:20250302T100000
DTEND;TZID=America/New_York:20250302T110000
DTSTAMP:20260421T093550
CREATED:20250119T152931Z
LAST-MODIFIED:20250119T153417Z
UID:10007733-1740909600-1740913200@uufcc.com
SUMMARY:RE Pre-K/K: "My World Has Animals"
DESCRIPTION:Each week our kids will gather to explore our world in light of our UU values. \nPre-K/K friends will engage in guided exploration of various topics with their wonderful teachers. Sue Smith and Rocky Landers\, downstairs in Room D.
URL:https://uufcc.com/event/re-pre-k-kindergarten-class-7/
LOCATION:UUFCC – Gathering Space and Room D\, 780 Waupelani Drive\, State College\, PA\, 16801\, United States
CATEGORIES:Lifespan Religious Exploration,RE Kids & Youth,Young Kids
ATTACH;FMTTYPE=image/png:https://uufcc.com/wp-content/uploads/2024/01/RE-Pre-KK-Kids.png
ORGANIZER;CN="Unitarian Universalist Fellowship of Centre County":MAILTO:office@uufcc.com
END:VEVENT
BEGIN:VEVENT
DTSTART;TZID=America/New_York:20250223T100000
DTEND;TZID=America/New_York:20250223T110000
DTSTAMP:20260421T093550
CREATED:20250119T152903Z
LAST-MODIFIED:20250119T153353Z
UID:10007727-1740304800-1740308400@uufcc.com
SUMMARY:RE Pre-K/K: "I Was a Baby Once"
DESCRIPTION:Each week our kids will gather to explore our world in light of our UU values. \nPre-K/K friends will engage in guided exploration of various topics with their wonderful teachers. Sue Smith and Rocky Landers\, downstairs in Room D.
URL:https://uufcc.com/event/re-pre-k-kindergarten-class-6/
LOCATION:UUFCC – Gathering Space and Room D\, 780 Waupelani Drive\, State College\, PA\, 16801\, United States
CATEGORIES:Lifespan Religious Exploration,RE Kids & Youth,Young Kids
ATTACH;FMTTYPE=image/png:https://uufcc.com/wp-content/uploads/2024/01/RE-Pre-KK-Kids.png
ORGANIZER;CN="Unitarian Universalist Fellowship of Centre County":MAILTO:office@uufcc.com
END:VEVENT
BEGIN:VEVENT
DTSTART;TZID=America/New_York:20250216T100000
DTEND;TZID=America/New_York:20250216T110000
DTSTAMP:20260421T093550
CREATED:20250119T152827Z
LAST-MODIFIED:20250119T153332Z
UID:10007726-1739700000-1739703600@uufcc.com
SUMMARY:RE Pre-K/K: "Differences Are Important"
DESCRIPTION:Each week our kids will gather to explore our world in light of our UU values. \nPre-K/K friends will engage in guided exploration of various topics with their wonderful teachers. Sue Smith and Rocky Landers\, downstairs in Room D.
URL:https://uufcc.com/event/re-pre-k-kindergarten-class-5/
LOCATION:UUFCC – Gathering Space and Room D\, 780 Waupelani Drive\, State College\, PA\, 16801\, United States
CATEGORIES:Lifespan Religious Exploration,RE Kids & Youth,Young Kids
ATTACH;FMTTYPE=image/png:https://uufcc.com/wp-content/uploads/2024/01/RE-Pre-KK-Kids.png
ORGANIZER;CN="Unitarian Universalist Fellowship of Centre County":MAILTO:office@uufcc.com
END:VEVENT
BEGIN:VEVENT
DTSTART;TZID=America/New_York:20250209T100000
DTEND;TZID=America/New_York:20250209T110000
DTSTAMP:20260421T093550
CREATED:20250119T152059Z
LAST-MODIFIED:20250119T153306Z
UID:10007725-1739095200-1739098800@uufcc.com
SUMMARY:RE Pre-K/K: "I Can Love\, How We Show Love"
DESCRIPTION:Each week our kids will gather to explore our world in light of our UU values. \nPre-K/K friends will engage in guided exploration of various topics with their wonderful teachers. Sue Smith and Rocky Landers\, downstairs in Room D.
URL:https://uufcc.com/event/re-pre-k-kindergarten-class-4/
LOCATION:UUFCC – Gathering Space and Room D\, 780 Waupelani Drive\, State College\, PA\, 16801\, United States
CATEGORIES:Lifespan Religious Exploration,RE Kids & Youth,Young Kids
ATTACH;FMTTYPE=image/png:https://uufcc.com/wp-content/uploads/2024/01/RE-Pre-KK-Kids.png
ORGANIZER;CN="Unitarian Universalist Fellowship of Centre County":MAILTO:office@uufcc.com
END:VEVENT
BEGIN:VEVENT
DTSTART;TZID=America/New_York:20250202T100000
DTEND;TZID=America/New_York:20250202T110000
DTSTAMP:20260421T093550
CREATED:20250119T152259Z
LAST-MODIFIED:20250119T153249Z
UID:10008157-1738490400-1738494000@uufcc.com
SUMMARY:RE Pre-K/K: "I Can Pretend"
DESCRIPTION:Each week our kids will gather to explore our world in light of our UU values. \nPre-K/K friends will engage in guided exploration of various topics with their wonderful teachers. Sue Smith and Rocky Landers\, downstairs in Room D.
URL:https://uufcc.com/event/re-pre-k-kindergarten-class-i-can-pretend/
LOCATION:UUFCC – Gathering Space and Room D\, 780 Waupelani Drive\, State College\, PA\, 16801\, United States
CATEGORIES:Lifespan Religious Exploration,RE Kids & Youth,Young Kids
ATTACH;FMTTYPE=image/png:https://uufcc.com/wp-content/uploads/2024/01/RE-Pre-KK-Kids.png
ORGANIZER;CN="Unitarian Universalist Fellowship of Centre County":MAILTO:office@uufcc.com
END:VEVENT
BEGIN:VEVENT
DTSTART;TZID=America/New_York:20250126T100000
DTEND;TZID=America/New_York:20250126T110000
DTSTAMP:20260421T093550
CREATED:20250119T151913Z
LAST-MODIFIED:20250119T153215Z
UID:10007720-1737885600-1737889200@uufcc.com
SUMMARY:RE Pre-K/K - "Friendship"
DESCRIPTION:Each week our kids will gather to explore our world in light of our UU values. \nPre-K/K friends will engage in guided exploration of various topics with their wonderful teachers. Sue Smith and Rocky Landers\, downstairs in Room D.
URL:https://uufcc.com/event/re-pre-k-kindergarten-class-3/
LOCATION:UUFCC – Gathering Space and Room D\, 780 Waupelani Drive\, State College\, PA\, 16801\, United States
CATEGORIES:Lifespan Religious Exploration,RE Kids & Youth,Young Kids
ATTACH;FMTTYPE=image/png:https://uufcc.com/wp-content/uploads/2024/01/RE-Pre-KK-Kids.png
ORGANIZER;CN="Unitarian Universalist Fellowship of Centre County":MAILTO:office@uufcc.com
END:VEVENT
END:VCALENDAR