BEGIN:VCALENDAR
VERSION:2.0
PRODID:-//UUFCC - ECPv6.15.17//NONSGML v1.0//EN
CALSCALE:GREGORIAN
METHOD:PUBLISH
X-ORIGINAL-URL:https://uufcc.com
X-WR-CALDESC:Events for UUFCC
REFRESH-INTERVAL;VALUE=DURATION:PT1H
X-Robots-Tag:noindex
X-PUBLISHED-TTL:PT1H
BEGIN:VTIMEZONE
TZID:America/New_York
BEGIN:DAYLIGHT
TZOFFSETFROM:-0500
TZOFFSETTO:-0400
TZNAME:EDT
DTSTART:20220313T070000
END:DAYLIGHT
BEGIN:STANDARD
TZOFFSETFROM:-0400
TZOFFSETTO:-0500
TZNAME:EST
DTSTART:20221106T060000
END:STANDARD
BEGIN:DAYLIGHT
TZOFFSETFROM:-0500
TZOFFSETTO:-0400
TZNAME:EDT
DTSTART:20230312T070000
END:DAYLIGHT
BEGIN:STANDARD
TZOFFSETFROM:-0400
TZOFFSETTO:-0500
TZNAME:EST
DTSTART:20231105T060000
END:STANDARD
BEGIN:DAYLIGHT
TZOFFSETFROM:-0500
TZOFFSETTO:-0400
TZNAME:EDT
DTSTART:20240310T070000
END:DAYLIGHT
BEGIN:STANDARD
TZOFFSETFROM:-0400
TZOFFSETTO:-0500
TZNAME:EST
DTSTART:20241103T060000
END:STANDARD
BEGIN:DAYLIGHT
TZOFFSETFROM:-0500
TZOFFSETTO:-0400
TZNAME:EDT
DTSTART:20250309T070000
END:DAYLIGHT
BEGIN:STANDARD
TZOFFSETFROM:-0400
TZOFFSETTO:-0500
TZNAME:EST
DTSTART:20251102T060000
END:STANDARD
END:VTIMEZONE
BEGIN:VEVENT
DTSTART;TZID=America/New_York:20240414T100000
DTEND;TZID=America/New_York:20240414T111500
DTSTAMP:20260421T002145
CREATED:20240312T200741Z
LAST-MODIFIED:20240318T200100Z
UID:10004822-1713088800-1713093300@uufcc.com
SUMMARY:RE 1st - 5th Grade Kids - Family Chapel: Freedom Seder!
DESCRIPTION:Join us this week for Family Chapel in which we will explore the Jewish holiday of Passover and our UUFCC Freedom Seder.
URL:https://uufcc.com/event/re-1st-5th-grade-kids-14/
LOCATION:UUFCC – Gathering Space\, 780 Waupelani Drive\, State College\, PA\, 16801\, United States
CATEGORIES:Lifespan Religious Exploration,RE Kids & Youth,Young Kids
ORGANIZER;CN="Unitarian Universalist Fellowship of Centre County":MAILTO:office@uufcc.com
END:VEVENT
BEGIN:VEVENT
DTSTART;TZID=America/New_York:20240407T100000
DTEND;TZID=America/New_York:20240407T110000
DTSTAMP:20260421T002145
CREATED:20240312T184837Z
LAST-MODIFIED:20240318T200012Z
UID:10004821-1712484000-1712487600@uufcc.com
SUMMARY:RE 1st - 5th Grade Kids - Prince of Egypt
DESCRIPTION:Join us this week to watch the Dreamworks film: The Prince of Egypt as we prepare for our upcoming Freedom Seder.
URL:https://uufcc.com/event/re-1st-5th-grade-kids-13/
LOCATION:UUFCC – Gathering Space\, 780 Waupelani Drive\, State College\, PA\, 16801\, United States
CATEGORIES:Lifespan Religious Exploration,RE Kids & Youth,Young Kids
ORGANIZER;CN="Unitarian Universalist Fellowship of Centre County":MAILTO:office@uufcc.com
END:VEVENT
BEGIN:VEVENT
DTSTART;TZID=America/New_York:20240324T113000
DTEND;TZID=America/New_York:20240324T123000
DTSTAMP:20260421T002145
CREATED:20240129T201413Z
LAST-MODIFIED:20240321T173547Z
UID:10005040-1711279800-1711283400@uufcc.com
SUMMARY:Intergenerational Music program
DESCRIPTION:Join Colleen and Ashley as we have fun learning new songs to sing for our Multi-generational Sunday services: Earth Day Service on April 21\, Lifespan RE Service on May 19\, and Flower Celebration Service on June 2. We’ll continue our journey of Social Justice Music through the span of Black American history as well as add new songs for Earth Day and Flower Celebration. Please register to join! https://uufcc.breezechms.com/form/Music2024
URL:https://uufcc.com/event/intergenerational-music-program/2024-03-24/
LOCATION:UUFCC – Gathering Space\, 780 Waupelani Drive\, State College\, PA\, 16801\, United States
CATEGORIES:Intergenerational RE,Lifespan Religious Exploration,Middle School Youth,RE Kids & Youth,Young Kids
ATTACH;FMTTYPE=image/png:https://uufcc.com/wp-content/uploads/2024/01/Music-program-Social-Justice-Music-for-Kids.png
ORGANIZER;CN="Unitarian Universalist Fellowship of Centre County":MAILTO:office@uufcc.com
END:VEVENT
BEGIN:VEVENT
DTSTART;TZID=America/New_York:20240324T100000
DTEND;TZID=America/New_York:20240324T110000
DTSTAMP:20260421T002145
CREATED:20240312T184007Z
LAST-MODIFIED:20240318T195811Z
UID:10004819-1711274400-1711278000@uufcc.com
SUMMARY:RE 1st - 5th Grade Kids - Giving Our Talents\, Time\, and Treasure
DESCRIPTION:Please start in the sanctuary for a Wisdom Lesson today. Then we will go downstairs to talk about what our pledge drive means for us as kids. \nParent sign-in at the Welcome Table.
URL:https://uufcc.com/event/re-1st-5th-grade-kids-11/
LOCATION:UUFCC – Gathering Space\, 780 Waupelani Drive\, State College\, PA\, 16801\, United States
CATEGORIES:Lifespan Religious Exploration,RE Kids & Youth,Young Kids
END:VEVENT
BEGIN:VEVENT
DTSTART;TZID=America/New_York:20240317T100000
DTEND;TZID=America/New_York:20240317T110000
DTSTAMP:20260421T002145
CREATED:20240312T183626Z
LAST-MODIFIED:20240314T184857Z
UID:10004818-1710669600-1710673200@uufcc.com
SUMMARY:RE 1st - 5th Grade Kids
DESCRIPTION:Join us this week for our next Anti-Racism Lesson. We will start in the sanctuary for a Wisdom Lesson. \n1st-2nd Grade friends will explore My City\, My Community \n3rd-5th Grade friends will explore Segregation
URL:https://uufcc.com/event/re-1st-5th-grade-kids-10/
LOCATION:UUFCC – Gathering Space\, 780 Waupelani Drive\, State College\, PA\, 16801\, United States
CATEGORIES:Lifespan Religious Exploration,RE Kids & Youth,Young Kids
END:VEVENT
BEGIN:VEVENT
DTSTART;TZID=America/New_York:20240107T100000
DTEND;TZID=America/New_York:20240107T110000
DTSTAMP:20260421T002145
CREATED:20240102T215816Z
LAST-MODIFIED:20240102T215817Z
UID:10003741-1704621600-1704625200@uufcc.com
SUMMARY:Family Chapel
DESCRIPTION:Join us this Sunday for Family Chapel open to our RE Elementary kids and parents. We’ll explore Liberating Love and how we can swim upstream to fight systems of oppression. A fun\, engaging\, and interactive time for everyone.
URL:https://uufcc.com/event/family-chapel-3/
LOCATION:UUFCC – Gathering Space\, 780 Waupelani Drive\, State College\, PA\, 16801\, United States
CATEGORIES:Lifespan Religious Exploration,RE Kids & Youth,Young Kids
ORGANIZER;CN="Unitarian Universalist Fellowship of Centre County":MAILTO:office@uufcc.com
END:VEVENT
BEGIN:VEVENT
DTSTART;TZID=America/New_York:20231203T113000
DTEND;TZID=America/New_York:20231203T123000
DTSTAMP:20260421T002145
CREATED:20231023T232442Z
LAST-MODIFIED:20231023T232442Z
UID:10001474-1701603000-1701606600@uufcc.com
SUMMARY:Drum Circle
DESCRIPTION:led by Tim and Rachel Summers \nJoin together to experience communal drumming and learn various rhythms and have fun!
URL:https://uufcc.com/event/drum-circle/2023-12-03/
LOCATION:UUFCC – Gathering Space\, 780 Waupelani Drive\, State College\, PA\, 16801\, United States
CATEGORIES:Lifespan Religious Exploration
ATTACH;FMTTYPE=image/png:https://uufcc.com/wp-content/uploads/2023/10/Drum-Circle.png
ORGANIZER;CN="Unitarian Universalist Fellowship of Centre County":MAILTO:office@uufcc.com
END:VEVENT
BEGIN:VEVENT
DTSTART;TZID=America/New_York:20231203T100000
DTEND;TZID=America/New_York:20231203T110000
DTSTAMP:20260421T002145
CREATED:20231129T034330Z
LAST-MODIFIED:20231129T034759Z
UID:10003740-1701597600-1701601200@uufcc.com
SUMMARY:Family Chapel
DESCRIPTION:Join Family Chapel this week as we explore our monthly theme of Mystery. Sometimes we see other people as a mystery\, but what if looking at another person is like looking in a mirror in many ways? How do we see others as part of us and not strangers? What if each person in the world looked at all other people as part of themselves?
URL:https://uufcc.com/event/family-chapel-2/
LOCATION:UUFCC – Gathering Space\, 780 Waupelani Drive\, State College\, PA\, 16801\, United States
CATEGORIES:Lifespan Religious Exploration,RE Kids & Youth,Young Kids
ATTACH;FMTTYPE=image/png:https://uufcc.com/wp-content/uploads/2023/11/Family-Chapel-1.png
ORGANIZER;CN="Unitarian Universalist Fellowship of Centre County":MAILTO:office@uufcc.com
END:VEVENT
BEGIN:VEVENT
DTSTART;TZID=America/New_York:20231112T113000
DTEND;TZID=America/New_York:20231112T123000
DTSTAMP:20260421T002145
CREATED:20231021T021006Z
LAST-MODIFIED:20231023T232225Z
UID:10001472-1699788600-1699792200@uufcc.com
SUMMARY:Social Justice Music Program - for all ages
DESCRIPTION:Join Colleen and Ashley as we journey across the history of African Americans’ struggle for freedom and equality through music in this special offering for Parents/Caregivers\, kids\, and all ages during RE Hour! We will explore the history of the songs as well as learn to sing them in preparation for our MLK service in January. Kindergarten through Middle School youth are invited to participate!
URL:https://uufcc.com/event/social-justice-music-program-for-all-ages/2023-11-12/
LOCATION:UUFCC – Gathering Space\, 780 Waupelani Drive\, State College\, PA\, 16801\, United States
CATEGORIES:Lifespan Religious Exploration
ATTACH;FMTTYPE=image/png:https://uufcc.com/wp-content/uploads/2023/10/Social-Justice-Music-for-Kids.png
END:VEVENT
BEGIN:VEVENT
DTSTART;TZID=America/New_York:20231022T113000
DTEND;TZID=America/New_York:20231022T123000
DTSTAMP:20260421T002145
CREATED:20231021T021006Z
LAST-MODIFIED:20231023T232225Z
UID:10000013-1697974200-1697977800@uufcc.com
SUMMARY:Social Justice Music Program - for all ages
DESCRIPTION:Join Colleen and Ashley as we journey across the history of African Americans’ struggle for freedom and equality through music in this special offering for Parents/Caregivers\, kids\, and all ages during RE Hour! We will explore the history of the songs as well as learn to sing them in preparation for our MLK service in January. Kindergarten through Middle School youth are invited to participate!
URL:https://uufcc.com/event/social-justice-music-program-for-all-ages/2023-10-22/
LOCATION:UUFCC – Gathering Space\, 780 Waupelani Drive\, State College\, PA\, 16801\, United States
CATEGORIES:Lifespan Religious Exploration
ATTACH;FMTTYPE=image/png:https://uufcc.com/wp-content/uploads/2023/10/Social-Justice-Music-for-Kids.png
END:VEVENT
BEGIN:VEVENT
DTSTART;TZID=America/New_York:20231015T113000
DTEND;TZID=America/New_York:20231015T123000
DTSTAMP:20260421T002145
CREATED:20231021T021006Z
LAST-MODIFIED:20231023T232225Z
UID:10001471-1697369400-1697373000@uufcc.com
SUMMARY:Social Justice Music Program - for all ages
DESCRIPTION:Join Colleen and Ashley as we journey across the history of African Americans’ struggle for freedom and equality through music in this special offering for Parents/Caregivers\, kids\, and all ages during RE Hour! We will explore the history of the songs as well as learn to sing them in preparation for our MLK service in January. Kindergarten through Middle School youth are invited to participate!
URL:https://uufcc.com/event/social-justice-music-program-for-all-ages/2023-10-15/
LOCATION:UUFCC – Gathering Space\, 780 Waupelani Drive\, State College\, PA\, 16801\, United States
CATEGORIES:Lifespan Religious Exploration
ATTACH;FMTTYPE=image/png:https://uufcc.com/wp-content/uploads/2023/10/Social-Justice-Music-for-Kids.png
END:VEVENT
BEGIN:VEVENT
DTSTART;TZID=America/New_York:20230924T113000
DTEND;TZID=America/New_York:20230924T123000
DTSTAMP:20260421T002145
CREATED:20231021T021006Z
LAST-MODIFIED:20231023T232225Z
UID:10001470-1695555000-1695558600@uufcc.com
SUMMARY:Social Justice Music Program - for all ages
DESCRIPTION:Join Colleen and Ashley as we journey across the history of African Americans’ struggle for freedom and equality through music in this special offering for Parents/Caregivers\, kids\, and all ages during RE Hour! We will explore the history of the songs as well as learn to sing them in preparation for our MLK service in January. Kindergarten through Middle School youth are invited to participate!
URL:https://uufcc.com/event/social-justice-music-program-for-all-ages/2023-09-24/
LOCATION:UUFCC – Gathering Space\, 780 Waupelani Drive\, State College\, PA\, 16801\, United States
CATEGORIES:Lifespan Religious Exploration
ATTACH;FMTTYPE=image/png:https://uufcc.com/wp-content/uploads/2023/10/Social-Justice-Music-for-Kids.png
END:VEVENT
BEGIN:VEVENT
DTSTART;TZID=America/New_York:20230917T113000
DTEND;TZID=America/New_York:20230917T123000
DTSTAMP:20260421T002145
CREATED:20231023T232442Z
LAST-MODIFIED:20231023T232442Z
UID:10001473-1694950200-1694953800@uufcc.com
SUMMARY:Drum Circle
DESCRIPTION:led by Tim and Rachel Summers \nJoin together to experience communal drumming and learn various rhythms and have fun!
URL:https://uufcc.com/event/drum-circle/2023-09-17/
LOCATION:UUFCC – Gathering Space\, 780 Waupelani Drive\, State College\, PA\, 16801\, United States
CATEGORIES:Lifespan Religious Exploration
ATTACH;FMTTYPE=image/png:https://uufcc.com/wp-content/uploads/2023/10/Drum-Circle.png
ORGANIZER;CN="Unitarian Universalist Fellowship of Centre County":MAILTO:office@uufcc.com
END:VEVENT
END:VCALENDAR