BEGIN:VCALENDAR
VERSION:2.0
PRODID:-//UUFCC - ECPv6.15.17//NONSGML v1.0//EN
CALSCALE:GREGORIAN
METHOD:PUBLISH
X-ORIGINAL-URL:https://uufcc.com
X-WR-CALDESC:Events for UUFCC
REFRESH-INTERVAL;VALUE=DURATION:PT1H
X-Robots-Tag:noindex
X-PUBLISHED-TTL:PT1H
BEGIN:VTIMEZONE
TZID:America/New_York
BEGIN:DAYLIGHT
TZOFFSETFROM:-0500
TZOFFSETTO:-0400
TZNAME:EDT
DTSTART:20230312T070000
END:DAYLIGHT
BEGIN:STANDARD
TZOFFSETFROM:-0400
TZOFFSETTO:-0500
TZNAME:EST
DTSTART:20231105T060000
END:STANDARD
BEGIN:DAYLIGHT
TZOFFSETFROM:-0500
TZOFFSETTO:-0400
TZNAME:EDT
DTSTART:20240310T070000
END:DAYLIGHT
BEGIN:STANDARD
TZOFFSETFROM:-0400
TZOFFSETTO:-0500
TZNAME:EST
DTSTART:20241103T060000
END:STANDARD
BEGIN:DAYLIGHT
TZOFFSETFROM:-0500
TZOFFSETTO:-0400
TZNAME:EDT
DTSTART:20250309T070000
END:DAYLIGHT
BEGIN:STANDARD
TZOFFSETFROM:-0400
TZOFFSETTO:-0500
TZNAME:EST
DTSTART:20251102T060000
END:STANDARD
END:VTIMEZONE
BEGIN:VEVENT
DTSTART;TZID=America/New_York:20240310T100000
DTEND;TZID=America/New_York:20240310T111500
DTSTAMP:20260421T042611
CREATED:20240129T165758Z
LAST-MODIFIED:20240307T175028Z
UID:10004154-1710064800-1710069300@uufcc.com
SUMMARY:RE Pre-K/Kindergarten Kids - All Ages RE
DESCRIPTION:This week our Pre-K/K friends are invited to an All Ages RE time to play and explore with our UU values in mind.
URL:https://uufcc.com/event/re-pre-k-kindergarten-kids-9/
LOCATION:UUFCC – Kitchen\, 780 Waupelani Dr. Ext.\, State College\, 16801\, United States
CATEGORIES:Lifespan Religious Exploration,Young Kids
ATTACH;FMTTYPE=image/png:https://uufcc.com/wp-content/uploads/2024/01/RE-Pre-KK-Kids.png
END:VEVENT
BEGIN:VEVENT
DTSTART;TZID=America/New_York:20240310T100000
DTEND;TZID=America/New_York:20240310T110000
DTSTAMP:20260421T042611
CREATED:20240129T170017Z
LAST-MODIFIED:20240307T175000Z
UID:10004817-1710064800-1710068400@uufcc.com
SUMMARY:RE 1st - 5th Grade Kids - All Ages RE
DESCRIPTION:This week our 1st – 5th grade friends are invited to an All Ages RE time to play and explore with our UU values in mind.
URL:https://uufcc.com/event/re-1st-5th-grade-kids-6/
LOCATION:UUFCC – Kitchen\, 780 Waupelani Dr. Ext.\, State College\, 16801\, United States
CATEGORIES:Lifespan Religious Exploration,RE Kids & Youth,Young Kids
ATTACH;FMTTYPE=image/png:https://uufcc.com/wp-content/uploads/2024/01/RE-Kids.png
ORGANIZER;CN="Unitarian Universalist Fellowship of Centre County":MAILTO:office@uufcc.com
END:VEVENT
END:VCALENDAR