BEGIN:VCALENDAR
VERSION:2.0
PRODID:-//UUFCC - ECPv6.15.17//NONSGML v1.0//EN
CALSCALE:GREGORIAN
METHOD:PUBLISH
X-WR-CALNAME:UUFCC
X-ORIGINAL-URL:https://uufcc.com
X-WR-CALDESC:Events for UUFCC
REFRESH-INTERVAL;VALUE=DURATION:PT1H
X-Robots-Tag:noindex
X-PUBLISHED-TTL:PT1H
BEGIN:VTIMEZONE
TZID:America/New_York
BEGIN:DAYLIGHT
TZOFFSETFROM:-0500
TZOFFSETTO:-0400
TZNAME:EDT
DTSTART:20230312T070000
END:DAYLIGHT
BEGIN:STANDARD
TZOFFSETFROM:-0400
TZOFFSETTO:-0500
TZNAME:EST
DTSTART:20231105T060000
END:STANDARD
BEGIN:DAYLIGHT
TZOFFSETFROM:-0500
TZOFFSETTO:-0400
TZNAME:EDT
DTSTART:20240310T070000
END:DAYLIGHT
BEGIN:STANDARD
TZOFFSETFROM:-0400
TZOFFSETTO:-0500
TZNAME:EST
DTSTART:20241103T060000
END:STANDARD
BEGIN:DAYLIGHT
TZOFFSETFROM:-0500
TZOFFSETTO:-0400
TZNAME:EDT
DTSTART:20250309T070000
END:DAYLIGHT
BEGIN:STANDARD
TZOFFSETFROM:-0400
TZOFFSETTO:-0500
TZNAME:EST
DTSTART:20251102T060000
END:STANDARD
BEGIN:DAYLIGHT
TZOFFSETFROM:-0500
TZOFFSETTO:-0400
TZNAME:EDT
DTSTART:20260308T070000
END:DAYLIGHT
BEGIN:STANDARD
TZOFFSETFROM:-0400
TZOFFSETTO:-0500
TZNAME:EST
DTSTART:20261101T060000
END:STANDARD
END:VTIMEZONE
BEGIN:VEVENT
DTSTART;TZID=America/New_York:20250302T111500
DTEND;TZID=America/New_York:20250302T120000
DTSTAMP:20260421T212847
CREATED:20240430T181159Z
LAST-MODIFIED:20240430T181159Z
UID:10005458-1740914100-1740916800@uufcc.com
SUMMARY:Getting to Know UU
DESCRIPTION:If you’re new or have questions\, come to the library and chat and learn!
URL:https://uufcc.com/event/getting-to-know-uu/2025-03-02/
LOCATION:UUFCC – Library\, 780 Waupelani Drive\, State College\, PA\, 16801\, United States
CATEGORIES:Event,Interfaith
ORGANIZER;CN="Unitarian Universalist Fellowship of Centre County":MAILTO:office@uufcc.com
END:VEVENT
BEGIN:VEVENT
DTSTART;TZID=America/New_York:20250202T111500
DTEND;TZID=America/New_York:20250202T120000
DTSTAMP:20260421T212847
CREATED:20240430T181159Z
LAST-MODIFIED:20240430T181159Z
UID:10005457-1738494900-1738497600@uufcc.com
SUMMARY:Getting to Know UU
DESCRIPTION:If you’re new or have questions\, come to the library and chat and learn!
URL:https://uufcc.com/event/getting-to-know-uu/2025-02-02/
LOCATION:UUFCC – Library\, 780 Waupelani Drive\, State College\, PA\, 16801\, United States
CATEGORIES:Event,Interfaith
ORGANIZER;CN="Unitarian Universalist Fellowship of Centre County":MAILTO:office@uufcc.com
END:VEVENT
BEGIN:VEVENT
DTSTART;TZID=America/New_York:20250105T111500
DTEND;TZID=America/New_York:20250105T120000
DTSTAMP:20260421T212847
CREATED:20240430T181159Z
LAST-MODIFIED:20240430T181159Z
UID:10005456-1736075700-1736078400@uufcc.com
SUMMARY:Getting to Know UU
DESCRIPTION:If you’re new or have questions\, come to the library and chat and learn!
URL:https://uufcc.com/event/getting-to-know-uu/2025-01-05/
LOCATION:UUFCC – Library\, 780 Waupelani Drive\, State College\, PA\, 16801\, United States
CATEGORIES:Event,Interfaith
ORGANIZER;CN="Unitarian Universalist Fellowship of Centre County":MAILTO:office@uufcc.com
END:VEVENT
BEGIN:VEVENT
DTSTART;TZID=America/New_York:20241201T111500
DTEND;TZID=America/New_York:20241201T120000
DTSTAMP:20260421T212847
CREATED:20240430T181159Z
LAST-MODIFIED:20240430T181159Z
UID:10005455-1733051700-1733054400@uufcc.com
SUMMARY:Getting to Know UU
DESCRIPTION:If you’re new or have questions\, come to the library and chat and learn!
URL:https://uufcc.com/event/getting-to-know-uu/2024-12-01/
LOCATION:UUFCC – Library\, 780 Waupelani Drive\, State College\, PA\, 16801\, United States
CATEGORIES:Event,Interfaith
ORGANIZER;CN="Unitarian Universalist Fellowship of Centre County":MAILTO:office@uufcc.com
END:VEVENT
BEGIN:VEVENT
DTSTART;TZID=America/New_York:20241006T111500
DTEND;TZID=America/New_York:20241006T120000
DTSTAMP:20260421T212847
CREATED:20240430T181159Z
LAST-MODIFIED:20240430T181159Z
UID:10005453-1728213300-1728216000@uufcc.com
SUMMARY:Getting to Know UU
DESCRIPTION:If you’re new or have questions\, come to the library and chat and learn!
URL:https://uufcc.com/event/getting-to-know-uu/2024-10-06/
LOCATION:UUFCC – Library\, 780 Waupelani Drive\, State College\, PA\, 16801\, United States
CATEGORIES:Event,Interfaith
ORGANIZER;CN="Unitarian Universalist Fellowship of Centre County":MAILTO:office@uufcc.com
END:VEVENT
BEGIN:VEVENT
DTSTART;TZID=America/New_York:20240901T111500
DTEND;TZID=America/New_York:20240901T120000
DTSTAMP:20260421T212847
CREATED:20240430T181159Z
LAST-MODIFIED:20240430T181159Z
UID:10005452-1725189300-1725192000@uufcc.com
SUMMARY:Getting to Know UU
DESCRIPTION:If you’re new or have questions\, come to the library and chat and learn!
URL:https://uufcc.com/event/getting-to-know-uu/2024-09-01/
LOCATION:UUFCC – Library\, 780 Waupelani Drive\, State College\, PA\, 16801\, United States
CATEGORIES:Event,Interfaith
ORGANIZER;CN="Unitarian Universalist Fellowship of Centre County":MAILTO:office@uufcc.com
END:VEVENT
BEGIN:VEVENT
DTSTART;TZID=America/New_York:20240804T111500
DTEND;TZID=America/New_York:20240804T120000
DTSTAMP:20260421T212847
CREATED:20240430T181159Z
LAST-MODIFIED:20240430T181159Z
UID:10005451-1722770100-1722772800@uufcc.com
SUMMARY:Getting to Know UU
DESCRIPTION:If you’re new or have questions\, come to the library and chat and learn!
URL:https://uufcc.com/event/getting-to-know-uu/2024-08-04/
LOCATION:UUFCC – Library\, 780 Waupelani Drive\, State College\, PA\, 16801\, United States
CATEGORIES:Event,Interfaith
ORGANIZER;CN="Unitarian Universalist Fellowship of Centre County":MAILTO:office@uufcc.com
END:VEVENT
BEGIN:VEVENT
DTSTART;TZID=America/New_York:20240707T111500
DTEND;TZID=America/New_York:20240707T120000
DTSTAMP:20260421T212847
CREATED:20240430T181159Z
LAST-MODIFIED:20240430T181159Z
UID:10005450-1720350900-1720353600@uufcc.com
SUMMARY:Getting to Know UU
DESCRIPTION:If you’re new or have questions\, come to the library and chat and learn!
URL:https://uufcc.com/event/getting-to-know-uu/2024-07-07/
LOCATION:UUFCC – Library\, 780 Waupelani Drive\, State College\, PA\, 16801\, United States
CATEGORIES:Event,Interfaith
ORGANIZER;CN="Unitarian Universalist Fellowship of Centre County":MAILTO:office@uufcc.com
END:VEVENT
BEGIN:VEVENT
DTSTART;TZID=America/New_York:20240505T111500
DTEND;TZID=America/New_York:20240505T120000
DTSTAMP:20260421T212847
CREATED:20240430T181159Z
LAST-MODIFIED:20240430T181159Z
UID:10005448-1714907700-1714910400@uufcc.com
SUMMARY:Getting to Know UU
DESCRIPTION:If you’re new or have questions\, come to the library and chat and learn!
URL:https://uufcc.com/event/getting-to-know-uu/2024-05-05/
LOCATION:UUFCC – Library\, 780 Waupelani Drive\, State College\, PA\, 16801\, United States
CATEGORIES:Event,Interfaith
ORGANIZER;CN="Unitarian Universalist Fellowship of Centre County":MAILTO:office@uufcc.com
END:VEVENT
END:VCALENDAR