BEGIN:VCALENDAR
VERSION:2.0
PRODID:-//UUFCC - ECPv6.15.17//NONSGML v1.0//EN
CALSCALE:GREGORIAN
METHOD:PUBLISH
X-WR-CALNAME:UUFCC
X-ORIGINAL-URL:https://uufcc.com
X-WR-CALDESC:Events for UUFCC
REFRESH-INTERVAL;VALUE=DURATION:PT1H
X-Robots-Tag:noindex
X-PUBLISHED-TTL:PT1H
BEGIN:VTIMEZONE
TZID:America/New_York
BEGIN:DAYLIGHT
TZOFFSETFROM:-0500
TZOFFSETTO:-0400
TZNAME:EDT
DTSTART:20230312T070000
END:DAYLIGHT
BEGIN:STANDARD
TZOFFSETFROM:-0400
TZOFFSETTO:-0500
TZNAME:EST
DTSTART:20231105T060000
END:STANDARD
BEGIN:DAYLIGHT
TZOFFSETFROM:-0500
TZOFFSETTO:-0400
TZNAME:EDT
DTSTART:20240310T070000
END:DAYLIGHT
BEGIN:STANDARD
TZOFFSETFROM:-0400
TZOFFSETTO:-0500
TZNAME:EST
DTSTART:20241103T060000
END:STANDARD
BEGIN:DAYLIGHT
TZOFFSETFROM:-0500
TZOFFSETTO:-0400
TZNAME:EDT
DTSTART:20250309T070000
END:DAYLIGHT
BEGIN:STANDARD
TZOFFSETFROM:-0400
TZOFFSETTO:-0500
TZNAME:EST
DTSTART:20251102T060000
END:STANDARD
END:VTIMEZONE
BEGIN:VEVENT
DTSTART;TZID=America/New_York:20240523T190000
DTEND;TZID=America/New_York:20240523T210000
DTSTAMP:20260421T000808
CREATED:20231021T021850Z
LAST-MODIFIED:20231021T021850Z
UID:10000305-1716490800-1716498000@uufcc.com
SUMMARY:UUFCC Choir Rehearsal
DESCRIPTION:Performs for hymns and extra music during Sunday Services three times a month. \nDirected by Colleen Kennedy.
URL:https://uufcc.com/event/uufcc-choir-rehearsal/2024-05-23/
LOCATION:UUFCC – Sanctuary\, 780 Waupelani Drive\, State College\, PA\, 16801\, United States
CATEGORIES:Music
END:VEVENT
BEGIN:VEVENT
DTSTART;TZID=America/New_York:20240519T113000
DTEND;TZID=America/New_York:20240519T130000
DTSTAMP:20260421T000808
CREATED:20240109T160344Z
LAST-MODIFIED:20240109T160344Z
UID:10004425-1716118200-1716123600@uufcc.com
SUMMARY:UUFCC Jazz Band Rehearsal
DESCRIPTION:The UUFCC Jazz Band is open to all. Rehearsals occur on Sundays in the Sanctuary\, although occasionally the band may rehearse in Room 6 due to major church events. \nContact David Morris if interested.
URL:https://uufcc.com/event/uufcc-jazz-band-rehearsal/2024-05-19/
LOCATION:UUFCC – Sanctuary\, 780 Waupelani Drive\, State College\, PA\, 16801\, United States
CATEGORIES:Meeting,Music
ORGANIZER;CN="Unitarian Universalist Fellowship of Centre County":MAILTO:office@uufcc.com
END:VEVENT
BEGIN:VEVENT
DTSTART;TZID=America/New_York:20240519T100000
DTEND;TZID=America/New_York:20240519T110000
DTSTAMP:20260421T000808
CREATED:20240510T160241Z
LAST-MODIFIED:20240510T160804Z
UID:10005600-1716112800-1716116400@uufcc.com
SUMMARY:Sunday Service (Multigenerational) - "Our Journey Together This Year"
DESCRIPTION:…with Rev. Tracy Sprowls and Ashley Hamlin\, DLRE \nJoin us as we celebrate the wonder\, growth\, and joy we’ve encountered over this past year and celebrate two new babies\, two HS graduates\, and all of our families\, kids\, and adults as we’ve traveled together to learn\, love\, and be transformed.
URL:https://uufcc.com/event/sunday-service-multigenerational-our-journey-together-this-year/
LOCATION:UUFCC – Sanctuary\, 780 Waupelani Drive\, State College\, PA\, 16801\, United States
CATEGORIES:Sunday Worship Service,Worship Service
ATTACH;FMTTYPE=image/png:https://uufcc.com/wp-content/uploads/2024/05/May-19-Journeys.png
ORGANIZER;CN="Unitarian Universalist Fellowship of Centre County":MAILTO:office@uufcc.com
END:VEVENT
BEGIN:VEVENT
DTSTART;TZID=America/New_York:20240519T100000
DTEND;TZID=America/New_York:20240519T110000
DTSTAMP:20260421T000808
CREATED:20240506T214111Z
LAST-MODIFIED:20240506T214429Z
UID:10004827-1716112800-1716116400@uufcc.com
SUMMARY:RE 1st - 5th Grade Kids - Multi-gen Lifespan Religious Education Service
DESCRIPTION:This Sunday is our Multi-generational Lifespan Religious Education Sunday. All children are invited into the service! No sign-in required.
URL:https://uufcc.com/event/re-1st-5th-grade-kids-19/
LOCATION:UUFCC – Sanctuary\, 780 Waupelani Drive\, State College\, PA\, 16801\, United States
CATEGORIES:Lifespan Religious Exploration,RE Kids & Youth,Young Kids
ATTACH;FMTTYPE=image/png:https://uufcc.com/wp-content/uploads/2024/01/RE-Kids.png
END:VEVENT
BEGIN:VEVENT
DTSTART;TZID=America/New_York:20240519T100000
DTEND;TZID=America/New_York:20240519T110000
DTSTAMP:20260421T000808
CREATED:20240506T214011Z
LAST-MODIFIED:20240506T214359Z
UID:10004164-1716112800-1716116400@uufcc.com
SUMMARY:RE Pre-K/Kindergarten Kids - Multi-gen Lifespan Religious Education Service
DESCRIPTION:This Sunday is our Multi-generational Lifespan Religious Education Sunday. All children are invited into the service! No sign-in required.
URL:https://uufcc.com/event/re-pre-k-kindergarten-kids-19-2/
LOCATION:UUFCC – Sanctuary\, 780 Waupelani Drive\, State College\, PA\, 16801\, United States
CATEGORIES:Lifespan Religious Exploration,Young Kids
ATTACH;FMTTYPE=image/png:https://uufcc.com/wp-content/uploads/2024/01/RE-Pre-KK-Kids.png
END:VEVENT
BEGIN:VEVENT
DTSTART;TZID=America/New_York:20240516T190000
DTEND;TZID=America/New_York:20240516T210000
DTSTAMP:20260421T000808
CREATED:20231021T021850Z
LAST-MODIFIED:20231021T021850Z
UID:10000304-1715886000-1715893200@uufcc.com
SUMMARY:UUFCC Choir Rehearsal
DESCRIPTION:Performs for hymns and extra music during Sunday Services three times a month. \nDirected by Colleen Kennedy.
URL:https://uufcc.com/event/uufcc-choir-rehearsal/2024-05-16/
LOCATION:UUFCC – Sanctuary\, 780 Waupelani Drive\, State College\, PA\, 16801\, United States
CATEGORIES:Music
END:VEVENT
BEGIN:VEVENT
DTSTART;TZID=America/New_York:20240512T113000
DTEND;TZID=America/New_York:20240512T130000
DTSTAMP:20260421T000808
CREATED:20240109T160344Z
LAST-MODIFIED:20240109T160344Z
UID:10004424-1715513400-1715518800@uufcc.com
SUMMARY:UUFCC Jazz Band Rehearsal
DESCRIPTION:The UUFCC Jazz Band is open to all. Rehearsals occur on Sundays in the Sanctuary\, although occasionally the band may rehearse in Room 6 due to major church events. \nContact David Morris if interested.
URL:https://uufcc.com/event/uufcc-jazz-band-rehearsal/2024-05-12/
LOCATION:UUFCC – Sanctuary\, 780 Waupelani Drive\, State College\, PA\, 16801\, United States
CATEGORIES:Meeting,Music
ORGANIZER;CN="Unitarian Universalist Fellowship of Centre County":MAILTO:office@uufcc.com
END:VEVENT
BEGIN:VEVENT
DTSTART;TZID=America/New_York:20240512T100000
DTEND;TZID=America/New_York:20240512T110000
DTSTAMP:20260421T000808
CREATED:20240425T162642Z
LAST-MODIFIED:20240508T174347Z
UID:10005434-1715508000-1715511600@uufcc.com
SUMMARY:Sunday Service - "The Legacy of Care - Mother’s Day"
DESCRIPTION:…with Rev. Tracy Sprowls.  \nMother’s Day was originally a proclamation against war and for mothers around the world to claim peace as a moral right for all people. We will honor and celebrate all those who mother today and revisit the original intention of the day.
URL:https://uufcc.com/event/sunday-service-the-legacy-of-care-mothers-day/
LOCATION:UUFCC – Sanctuary\, 780 Waupelani Drive\, State College\, PA\, 16801\, United States
CATEGORIES:Sunday Worship Service,Worship Service
ATTACH;FMTTYPE=image/png:https://uufcc.com/wp-content/uploads/2024/04/The-Legacy-of-Care-May-12.png
ORGANIZER;CN="Unitarian Universalist Fellowship of Centre County":MAILTO:office@uufcc.com
END:VEVENT
BEGIN:VEVENT
DTSTART;TZID=America/New_York:20240511T113000
DTEND;TZID=America/New_York:20240511T130000
DTSTAMP:20260421T000808
CREATED:20240425T144035Z
LAST-MODIFIED:20240425T145357Z
UID:10005431-1715427000-1715432400@uufcc.com
SUMMARY:Memorial Service - Michal Keune
DESCRIPTION:To read Michal’s obituary\, please click here.
URL:https://uufcc.com/event/memorial-service-michal-keune/
LOCATION:UUFCC – Sanctuary\, 780 Waupelani Drive\, State College\, PA\, 16801\, United States
CATEGORIES:Memorial
ATTACH;FMTTYPE=image/png:https://uufcc.com/wp-content/uploads/2024/04/Memorial-image.png
END:VEVENT
BEGIN:VEVENT
DTSTART;TZID=America/New_York:20240510T190000
DTEND;TZID=America/New_York:20240510T210000
DTSTAMP:20260421T000808
CREATED:20240403T152945Z
LAST-MODIFIED:20240403T153038Z
UID:10002709-1715367600-1715374800@uufcc.com
SUMMARY:Song Circle
DESCRIPTION:The UUFCC Song Circle offers a fun\, monthly opportunity to make music together with voices\, guitars\, banjos\, ukuleles\, drums\, kazoos\, etc. Anyone from the Fellowship or local community can join us to play\, sing\, or listen. We go around the circle with each person choosing the next song\, either from our song-books or a song they brought to share. \nContact Pam Short for more information.
URL:https://uufcc.com/event/song-circle-5/2024-05-10/
LOCATION:UUFCC – Sanctuary\, 780 Waupelani Drive\, State College\, PA\, 16801\, United States
CATEGORIES:Music
ATTACH;FMTTYPE=image/jpeg:https://uufcc.com/wp-content/uploads/2024/04/song-circle-in-a-circle-scaled.jpg
ORGANIZER;CN="Unitarian Universalist Fellowship of Centre County":MAILTO:office@uufcc.com
END:VEVENT
BEGIN:VEVENT
DTSTART;TZID=America/New_York:20240509T190000
DTEND;TZID=America/New_York:20240509T210000
DTSTAMP:20260421T000808
CREATED:20231021T021850Z
LAST-MODIFIED:20231021T021850Z
UID:10000303-1715281200-1715288400@uufcc.com
SUMMARY:UUFCC Choir Rehearsal
DESCRIPTION:Performs for hymns and extra music during Sunday Services three times a month. \nDirected by Colleen Kennedy.
URL:https://uufcc.com/event/uufcc-choir-rehearsal/2024-05-09/
LOCATION:UUFCC – Sanctuary\, 780 Waupelani Drive\, State College\, PA\, 16801\, United States
CATEGORIES:Music
END:VEVENT
BEGIN:VEVENT
DTSTART;TZID=America/New_York:20240505T150000
DTEND;TZID=America/New_York:20240505T170000
DTSTAMP:20260421T000808
CREATED:20240410T154621Z
LAST-MODIFIED:20240417T155729Z
UID:10005358-1714921200-1714928400@uufcc.com
SUMMARY:UUFCC Music Series - "Flutist Cathy Herrera presents "Piazzolla\, Pixinguinha and Premieres"
DESCRIPTION:For this event\, Cathy will be joined by several friends and family members. They are Cecilia Blackwell\, flute\, Brent Register\, guitar; Gabriel Herrera\, trombone; Jacob Herrera\, trumpet and ukelele\, and Jim Latten\, percussion. Cathy will be playing five different flutes during this program\, which will include Baroque music featuring traverso flute and music by the Argentinian composer Astor Pizzolla and the Brazilian composer Pixinguinha. In addition\, she will premiere some of her original works and compositions by Brent Register that highlight the alto flute and piccolo. The Native American pocket flute will be featured in some free improvisation.\n\nCathy holds a Doctorate in Flute Performance and a Certificate in World Music. As a Fulbright scholar in Peru\, she was a founder of the Latin American Flute Festival scene. She is also the founder of the Flutopia Initiative charitable organization\, for which she organizes benefit concerts for charities locally and in the host city of each National Flute Association convention. She is a Rostered Artist for the Pennsylvania Council on the Arts\, the Flute Lecturer at Juniata College\, and a member of the Nittany Valley\, Altoona\, and Penn’s Woods Symphony orchestras.
URL:https://uufcc.com/event/uufcc-music-series-flutist-cathy-herrera-presents-piazzolla-pixinguinha-and-premieres/
LOCATION:UUFCC – Sanctuary\, 780 Waupelani Drive\, State College\, PA\, 16801\, United States
CATEGORIES:Music
ATTACH;FMTTYPE=image/jpeg:https://uufcc.com/wp-content/uploads/2024/04/woodwinds.jpg
ORGANIZER;CN="Unitarian Universalist Fellowship of Centre County":MAILTO:office@uufcc.com
END:VEVENT
BEGIN:VEVENT
DTSTART;TZID=America/New_York:20240505T113000
DTEND;TZID=America/New_York:20240505T130000
DTSTAMP:20260421T000808
CREATED:20240109T160344Z
LAST-MODIFIED:20240109T160344Z
UID:10004423-1714908600-1714914000@uufcc.com
SUMMARY:UUFCC Jazz Band Rehearsal
DESCRIPTION:The UUFCC Jazz Band is open to all. Rehearsals occur on Sundays in the Sanctuary\, although occasionally the band may rehearse in Room 6 due to major church events. \nContact David Morris if interested.
URL:https://uufcc.com/event/uufcc-jazz-band-rehearsal/2024-05-05/
LOCATION:UUFCC – Sanctuary\, 780 Waupelani Drive\, State College\, PA\, 16801\, United States
CATEGORIES:Meeting,Music
ORGANIZER;CN="Unitarian Universalist Fellowship of Centre County":MAILTO:office@uufcc.com
END:VEVENT
BEGIN:VEVENT
DTSTART;TZID=America/New_York:20240505T100000
DTEND;TZID=America/New_York:20240505T110000
DTSTAMP:20260421T000808
CREATED:20240425T162415Z
LAST-MODIFIED:20240425T162415Z
UID:10005433-1714903200-1714906800@uufcc.com
SUMMARY:Sunday Service - "Love Grows Here - Founder’s Day"
DESCRIPTION:…with Rev. Tracy Sprowls. \nWe celebrate our history through the people that created and continue to create our community. We will honor long time members\, share stories\, and a few more surprises!
URL:https://uufcc.com/event/sunday-service-love-grows-here-founders-day/
LOCATION:UUFCC – Sanctuary\, 780 Waupelani Drive\, State College\, PA\, 16801\, United States
CATEGORIES:Sunday Worship Service,Worship Service
ATTACH;FMTTYPE=image/png:https://uufcc.com/wp-content/uploads/2024/04/Love-Grows-Here-May-5.png
ORGANIZER;CN="Unitarian Universalist Fellowship of Centre County":MAILTO:office@uufcc.com
END:VEVENT
BEGIN:VEVENT
DTSTART;TZID=America/New_York:20240502T190000
DTEND;TZID=America/New_York:20240502T210000
DTSTAMP:20260421T000808
CREATED:20231021T021850Z
LAST-MODIFIED:20231021T021850Z
UID:10000302-1714676400-1714683600@uufcc.com
SUMMARY:UUFCC Choir Rehearsal
DESCRIPTION:Performs for hymns and extra music during Sunday Services three times a month. \nDirected by Colleen Kennedy.
URL:https://uufcc.com/event/uufcc-choir-rehearsal/2024-05-02/
LOCATION:UUFCC – Sanctuary\, 780 Waupelani Drive\, State College\, PA\, 16801\, United States
CATEGORIES:Music
END:VEVENT
BEGIN:VEVENT
DTSTART;TZID=America/New_York:20240428T113000
DTEND;TZID=America/New_York:20240428T130000
DTSTAMP:20260421T000808
CREATED:20240109T160344Z
LAST-MODIFIED:20240109T160344Z
UID:10004422-1714303800-1714309200@uufcc.com
SUMMARY:UUFCC Jazz Band Rehearsal
DESCRIPTION:The UUFCC Jazz Band is open to all. Rehearsals occur on Sundays in the Sanctuary\, although occasionally the band may rehearse in Room 6 due to major church events. \nContact David Morris if interested.
URL:https://uufcc.com/event/uufcc-jazz-band-rehearsal/2024-04-28/
LOCATION:UUFCC – Sanctuary\, 780 Waupelani Drive\, State College\, PA\, 16801\, United States
CATEGORIES:Meeting,Music
ORGANIZER;CN="Unitarian Universalist Fellowship of Centre County":MAILTO:office@uufcc.com
END:VEVENT
BEGIN:VEVENT
DTSTART;TZID=America/New_York:20240428T100000
DTEND;TZID=America/New_York:20240428T110000
DTSTAMP:20260421T000808
CREATED:20240415T155941Z
LAST-MODIFIED:20240416T162744Z
UID:10005360-1714298400-1714302000@uufcc.com
SUMMARY:Sunday Service - "The Emotional Impact of Being Scammed and How to Avoid It"
DESCRIPTION:…with Penny Eifrig. \nScams are becoming more and more prevalent\, yet people are still often too embarrassed to talk about it. But a scam is a violent crime\, not unlike getting mugged. What can we learn about ourselves when we begin to learn about how your reptile brain functions\, than when manipulated\, can make you (and others) do things that seem inconceivable? Penny Eifrig shares her recent experience with amygdala hijack\, and how it can explain many behaviors in today’s world.
URL:https://uufcc.com/event/sunday-service-the-emotional-impact-of-being-scammed-and-how-to-avoid-it/
LOCATION:UUFCC – Sanctuary\, 780 Waupelani Drive\, State College\, PA\, 16801\, United States
CATEGORIES:Sunday Worship Service,Worship Service
ATTACH;FMTTYPE=image/png:https://uufcc.com/wp-content/uploads/2024/04/scamming.png
ORGANIZER;CN="Unitarian Universalist Fellowship of Centre County":MAILTO:office@uufcc.com
END:VEVENT
BEGIN:VEVENT
DTSTART;TZID=America/New_York:20240426T180000
DTEND;TZID=America/New_York:20240426T210000
DTSTAMP:20260421T000808
CREATED:20231021T172754Z
LAST-MODIFIED:20240320T165225Z
UID:10000667-1714154400-1714165200@uufcc.com
SUMMARY:Freedom Seder 2024
DESCRIPTION:Come to hear the Passover story\, celebrate freedom\, and eat a great meal. Come to affirm our first principle\, a belief in the inherent worth and dignity of every person. Come with your family and friends to share fellowship. \n\nReserve your spot at the Seder now (last day to RSVP is April 15)! RSVP link: https://uufcc.breezechms.com/form/seder24\nWant to contribute to the Seder? Sign up to help here: https://bit.ly/sederhelp24
URL:https://uufcc.com/event/freedom-seder-2024/
LOCATION:UUFCC – Sanctuary\, 780 Waupelani Drive\, State College\, PA\, 16801\, United States
CATEGORIES:Event
ATTACH;FMTTYPE=image/png:https://uufcc.com/wp-content/uploads/2023/10/Freedom-Seder-2024-half-sheet.png
ORGANIZER;CN="Unitarian Universalist Fellowship of Centre County":MAILTO:office@uufcc.com
END:VEVENT
BEGIN:VEVENT
DTSTART;TZID=America/New_York:20240425T190000
DTEND;TZID=America/New_York:20240425T210000
DTSTAMP:20260421T000808
CREATED:20231021T021850Z
LAST-MODIFIED:20231021T021850Z
UID:10000301-1714071600-1714078800@uufcc.com
SUMMARY:UUFCC Choir Rehearsal
DESCRIPTION:Performs for hymns and extra music during Sunday Services three times a month. \nDirected by Colleen Kennedy.
URL:https://uufcc.com/event/uufcc-choir-rehearsal/2024-04-25/
LOCATION:UUFCC – Sanctuary\, 780 Waupelani Drive\, State College\, PA\, 16801\, United States
CATEGORIES:Music
END:VEVENT
BEGIN:VEVENT
DTSTART;TZID=America/New_York:20240421T113000
DTEND;TZID=America/New_York:20240421T130000
DTSTAMP:20260421T000808
CREATED:20240109T160344Z
LAST-MODIFIED:20240109T160344Z
UID:10004421-1713699000-1713704400@uufcc.com
SUMMARY:UUFCC Jazz Band Rehearsal
DESCRIPTION:The UUFCC Jazz Band is open to all. Rehearsals occur on Sundays in the Sanctuary\, although occasionally the band may rehearse in Room 6 due to major church events. \nContact David Morris if interested.
URL:https://uufcc.com/event/uufcc-jazz-band-rehearsal/2024-04-21/
LOCATION:UUFCC – Sanctuary\, 780 Waupelani Drive\, State College\, PA\, 16801\, United States
CATEGORIES:Meeting,Music
ORGANIZER;CN="Unitarian Universalist Fellowship of Centre County":MAILTO:office@uufcc.com
END:VEVENT
BEGIN:VEVENT
DTSTART;TZID=America/New_York:20240421T100000
DTEND;TZID=America/New_York:20240421T110000
DTSTAMP:20260421T000808
CREATED:20240328T150654Z
LAST-MODIFIED:20240417T150257Z
UID:10005278-1713693600-1713697200@uufcc.com
SUMMARY:Sunday Service (Multigenerational) - "The Cloud Spinner"
DESCRIPTION:...with Rev. Tracy Sprowls and Ashley Hamlin\, DLRE \nEnough is enough and not one stitch more! Come share in story and song with us as we explore our relationship to our earth and pledge to transform ourselves more deeply into people of loving connection with all things. We welcome our guest musician\, Hannah Bingman\, and our UUFCC kids who have prepared a special song for us!
URL:https://uufcc.com/event/sunday-service-the-cloud-spinner/
LOCATION:UUFCC – Sanctuary\, 780 Waupelani Drive\, State College\, PA\, 16801\, United States
CATEGORIES:Sunday Worship Service,Worship Service
ATTACH;FMTTYPE=image/png:https://uufcc.com/wp-content/uploads/2024/03/April-21-The-Cloud-Spinner-An-Earth-Day-Service.png
ORGANIZER;CN="Unitarian Universalist Fellowship of Centre County":MAILTO:office@uufcc.com
END:VEVENT
BEGIN:VEVENT
DTSTART;TZID=America/New_York:20240421T100000
DTEND;TZID=America/New_York:20240421T110000
DTSTAMP:20260421T000808
CREATED:20240312T201206Z
LAST-MODIFIED:20240318T200141Z
UID:10004823-1713693600-1713697200@uufcc.com
SUMMARY:RE 1st - 5th Grade Kids - Multi-generational Service
DESCRIPTION:Our RE Elementary kids are invited to join our Multi-generational Earth Day service\, The Cloud Spinner.
URL:https://uufcc.com/event/re-1st-5th-grade-kids-15/
LOCATION:UUFCC – Sanctuary\, 780 Waupelani Drive\, State College\, PA\, 16801\, United States
CATEGORIES:Lifespan Religious Exploration,RE Kids & Youth,Young Kids
ORGANIZER;CN="Unitarian Universalist Fellowship of Centre County":MAILTO:office@uufcc.com
END:VEVENT
BEGIN:VEVENT
DTSTART;TZID=America/New_York:20240421T100000
DTEND;TZID=America/New_York:20240421T110000
DTSTAMP:20260421T000808
CREATED:20240312T201054Z
LAST-MODIFIED:20240318T200127Z
UID:10004160-1713693600-1713697200@uufcc.com
SUMMARY:RE Pre-K/Kindergarten Kids - Multi-generational Service
DESCRIPTION:This week our Pre-K/K friends are invited to join our Multi-generational Earth Day service\, The Cloud Spinner.
URL:https://uufcc.com/event/re-pre-k-kindergarten-kids-15/
LOCATION:UUFCC – Sanctuary\, 780 Waupelani Drive\, State College\, PA\, 16801\, United States
CATEGORIES:Lifespan Religious Exploration,Young Kids
ATTACH;FMTTYPE=image/png:https://uufcc.com/wp-content/uploads/2024/01/RE-Pre-KK-Kids.png
ORGANIZER;CN="Unitarian Universalist Fellowship of Centre County":MAILTO:office@uufcc.com
END:VEVENT
BEGIN:VEVENT
DTSTART;TZID=America/New_York:20240419T190000
DTEND;TZID=America/New_York:20240419T210000
DTSTAMP:20260421T000808
CREATED:20240403T142134Z
LAST-MODIFIED:20240403T142149Z
UID:10002708-1713553200-1713560400@uufcc.com
SUMMARY:Song Circle
DESCRIPTION:A regular\, informal opportunity to make music together with voices\, guitars\, banjos\, ukuleles\, harmonicas\, spoons\, etc.
URL:https://uufcc.com/event/song-circle-4/
LOCATION:UUFCC – Sanctuary\, 780 Waupelani Drive\, State College\, PA\, 16801\, United States
CATEGORIES:Music
ORGANIZER;CN="Unitarian Universalist Fellowship of Centre County":MAILTO:office@uufcc.com
END:VEVENT
BEGIN:VEVENT
DTSTART;TZID=America/New_York:20240416T190000
DTEND;TZID=America/New_York:20240416T210000
DTSTAMP:20260421T000808
CREATED:20240129T173735Z
LAST-MODIFIED:20240129T173828Z
UID:10000300-1713294000-1713301200@uufcc.com
SUMMARY:UUFCC Choir Rehearsal
DESCRIPTION:Performs for hymns and extra music during Sunday Services three times a month. \nDirected by Colleen Kennedy.
URL:https://uufcc.com/event/uufcc-choir-rehearsal-5/
LOCATION:UUFCC – Sanctuary\, 780 Waupelani Drive\, State College\, PA\, 16801\, United States
CATEGORIES:Music
END:VEVENT
BEGIN:VEVENT
DTSTART;TZID=America/New_York:20240414T113000
DTEND;TZID=America/New_York:20240414T130000
DTSTAMP:20260421T000808
CREATED:20240109T160344Z
LAST-MODIFIED:20240109T160344Z
UID:10004420-1713094200-1713099600@uufcc.com
SUMMARY:UUFCC Jazz Band Rehearsal
DESCRIPTION:The UUFCC Jazz Band is open to all. Rehearsals occur on Sundays in the Sanctuary\, although occasionally the band may rehearse in Room 6 due to major church events. \nContact David Morris if interested.
URL:https://uufcc.com/event/uufcc-jazz-band-rehearsal/2024-04-14/
LOCATION:UUFCC – Sanctuary\, 780 Waupelani Drive\, State College\, PA\, 16801\, United States
CATEGORIES:Meeting,Music
ORGANIZER;CN="Unitarian Universalist Fellowship of Centre County":MAILTO:office@uufcc.com
END:VEVENT
BEGIN:VEVENT
DTSTART;TZID=America/New_York:20240414T100000
DTEND;TZID=America/New_York:20240414T110000
DTSTAMP:20260421T000808
CREATED:20240328T150525Z
LAST-MODIFIED:20240328T151225Z
UID:10005277-1713088800-1713092400@uufcc.com
SUMMARY:Sunday Service - "OUUR History Through Hymns"
DESCRIPTION:…with Rev. Tracy Sprowls.  \nRev. Kimberley Debus suggests there is a clear arc of our Unitarian Universalist values seen in our hymns throughout our history. Where have we come from and where are we today\, especially as we vote on Article II at General Assembly in June? \nMore information about Article II here.
URL:https://uufcc.com/event/sunday-service-ouur-history-through-hymns/
LOCATION:UUFCC – Sanctuary\, 780 Waupelani Drive\, State College\, PA\, 16801\, United States
CATEGORIES:Sunday Worship Service,Worship Service
ATTACH;FMTTYPE=image/png:https://uufcc.com/wp-content/uploads/2024/03/April-14-OUUR-History-Through-Hymns.png
ORGANIZER;CN="Unitarian Universalist Fellowship of Centre County":MAILTO:office@uufcc.com
END:VEVENT
BEGIN:VEVENT
DTSTART;TZID=America/New_York:20240411T190000
DTEND;TZID=America/New_York:20240411T210000
DTSTAMP:20260421T000808
CREATED:20231021T021850Z
LAST-MODIFIED:20231021T021850Z
UID:10000299-1712862000-1712869200@uufcc.com
SUMMARY:UUFCC Choir Rehearsal
DESCRIPTION:Performs for hymns and extra music during Sunday Services three times a month. \nDirected by Colleen Kennedy.
URL:https://uufcc.com/event/uufcc-choir-rehearsal/2024-04-11/
LOCATION:UUFCC – Sanctuary\, 780 Waupelani Drive\, State College\, PA\, 16801\, United States
CATEGORIES:Music
END:VEVENT
BEGIN:VEVENT
DTSTART;TZID=America/New_York:20240407T113000
DTEND;TZID=America/New_York:20240407T130000
DTSTAMP:20260421T000808
CREATED:20240109T160344Z
LAST-MODIFIED:20240109T160344Z
UID:10004419-1712489400-1712494800@uufcc.com
SUMMARY:UUFCC Jazz Band Rehearsal
DESCRIPTION:The UUFCC Jazz Band is open to all. Rehearsals occur on Sundays in the Sanctuary\, although occasionally the band may rehearse in Room 6 due to major church events. \nContact David Morris if interested.
URL:https://uufcc.com/event/uufcc-jazz-band-rehearsal/2024-04-07/
LOCATION:UUFCC – Sanctuary\, 780 Waupelani Drive\, State College\, PA\, 16801\, United States
CATEGORIES:Meeting,Music
ORGANIZER;CN="Unitarian Universalist Fellowship of Centre County":MAILTO:office@uufcc.com
END:VEVENT
BEGIN:VEVENT
DTSTART;TZID=America/New_York:20240407T100000
DTEND;TZID=America/New_York:20240407T110000
DTSTAMP:20260421T000808
CREATED:20240328T150346Z
LAST-MODIFIED:20240328T151149Z
UID:10005276-1712484000-1712487600@uufcc.com
SUMMARY:Sunday Service - "Finding Focus"
DESCRIPTION:…with Rev. Tracy Sprowls.  \nAttention spans are shorter\, young children exposed to screens are less verbal\, and teenagers struggle with mental illness or isolation. Is technology and social media the culprit? How does technology change our brains? How does it affect our ability to relate as humans? What about our spiritual lives? \nThis sermon idea comes from Peter Kemper who bought the sermon at the 2023 Service Auction.
URL:https://uufcc.com/event/sunday-service-finding-focus/
LOCATION:UUFCC – Sanctuary\, 780 Waupelani Drive\, State College\, PA\, 16801\, United States
CATEGORIES:Sunday Worship Service,Worship Service
ATTACH;FMTTYPE=image/png:https://uufcc.com/wp-content/uploads/2024/03/April-7-Finding-Focus.png
ORGANIZER;CN="Unitarian Universalist Fellowship of Centre County":MAILTO:office@uufcc.com
END:VEVENT
END:VCALENDAR