BEGIN:VCALENDAR
VERSION:2.0
PRODID:-//UUFCC - ECPv6.15.17//NONSGML v1.0//EN
CALSCALE:GREGORIAN
METHOD:PUBLISH
X-WR-CALNAME:UUFCC
X-ORIGINAL-URL:https://uufcc.com
X-WR-CALDESC:Events for UUFCC
REFRESH-INTERVAL;VALUE=DURATION:PT1H
X-Robots-Tag:noindex
X-PUBLISHED-TTL:PT1H
BEGIN:VTIMEZONE
TZID:America/New_York
BEGIN:DAYLIGHT
TZOFFSETFROM:-0500
TZOFFSETTO:-0400
TZNAME:EDT
DTSTART:20230312T070000
END:DAYLIGHT
BEGIN:STANDARD
TZOFFSETFROM:-0400
TZOFFSETTO:-0500
TZNAME:EST
DTSTART:20231105T060000
END:STANDARD
BEGIN:DAYLIGHT
TZOFFSETFROM:-0500
TZOFFSETTO:-0400
TZNAME:EDT
DTSTART:20240310T070000
END:DAYLIGHT
BEGIN:STANDARD
TZOFFSETFROM:-0400
TZOFFSETTO:-0500
TZNAME:EST
DTSTART:20241103T060000
END:STANDARD
BEGIN:DAYLIGHT
TZOFFSETFROM:-0500
TZOFFSETTO:-0400
TZNAME:EDT
DTSTART:20250309T070000
END:DAYLIGHT
BEGIN:STANDARD
TZOFFSETFROM:-0400
TZOFFSETTO:-0500
TZNAME:EST
DTSTART:20251102T060000
END:STANDARD
END:VTIMEZONE
BEGIN:VEVENT
DTSTART;TZID=America/New_York:20240421T100000
DTEND;TZID=America/New_York:20240421T110000
DTSTAMP:20260420T224234
CREATED:20240328T150654Z
LAST-MODIFIED:20240417T150257Z
UID:10005278-1713693600-1713697200@uufcc.com
SUMMARY:Sunday Service (Multigenerational) - "The Cloud Spinner"
DESCRIPTION:...with Rev. Tracy Sprowls and Ashley Hamlin\, DLRE \nEnough is enough and not one stitch more! Come share in story and song with us as we explore our relationship to our earth and pledge to transform ourselves more deeply into people of loving connection with all things. We welcome our guest musician\, Hannah Bingman\, and our UUFCC kids who have prepared a special song for us!
URL:https://uufcc.com/event/sunday-service-the-cloud-spinner/
LOCATION:UUFCC – Sanctuary\, 780 Waupelani Drive\, State College\, PA\, 16801\, United States
CATEGORIES:Sunday Worship Service,Worship Service
ATTACH;FMTTYPE=image/png:https://uufcc.com/wp-content/uploads/2024/03/April-21-The-Cloud-Spinner-An-Earth-Day-Service.png
ORGANIZER;CN="Unitarian Universalist Fellowship of Centre County":MAILTO:office@uufcc.com
END:VEVENT
BEGIN:VEVENT
DTSTART;TZID=America/New_York:20240421T100000
DTEND;TZID=America/New_York:20240421T110000
DTSTAMP:20260420T224234
CREATED:20240312T201206Z
LAST-MODIFIED:20240318T200141Z
UID:10004823-1713693600-1713697200@uufcc.com
SUMMARY:RE 1st - 5th Grade Kids - Multi-generational Service
DESCRIPTION:Our RE Elementary kids are invited to join our Multi-generational Earth Day service\, The Cloud Spinner.
URL:https://uufcc.com/event/re-1st-5th-grade-kids-15/
LOCATION:UUFCC – Sanctuary\, 780 Waupelani Drive\, State College\, PA\, 16801\, United States
CATEGORIES:Lifespan Religious Exploration,RE Kids & Youth,Young Kids
ORGANIZER;CN="Unitarian Universalist Fellowship of Centre County":MAILTO:office@uufcc.com
END:VEVENT
BEGIN:VEVENT
DTSTART;TZID=America/New_York:20240421T100000
DTEND;TZID=America/New_York:20240421T110000
DTSTAMP:20260420T224234
CREATED:20240312T201054Z
LAST-MODIFIED:20240318T200127Z
UID:10004160-1713693600-1713697200@uufcc.com
SUMMARY:RE Pre-K/Kindergarten Kids - Multi-generational Service
DESCRIPTION:This week our Pre-K/K friends are invited to join our Multi-generational Earth Day service\, The Cloud Spinner.
URL:https://uufcc.com/event/re-pre-k-kindergarten-kids-15/
LOCATION:UUFCC – Sanctuary\, 780 Waupelani Drive\, State College\, PA\, 16801\, United States
CATEGORIES:Lifespan Religious Exploration,Young Kids
ATTACH;FMTTYPE=image/png:https://uufcc.com/wp-content/uploads/2024/01/RE-Pre-KK-Kids.png
ORGANIZER;CN="Unitarian Universalist Fellowship of Centre County":MAILTO:office@uufcc.com
END:VEVENT
BEGIN:VEVENT
DTSTART;TZID=America/New_York:20240419T190000
DTEND;TZID=America/New_York:20240419T210000
DTSTAMP:20260420T224234
CREATED:20240403T142134Z
LAST-MODIFIED:20240403T142149Z
UID:10002708-1713553200-1713560400@uufcc.com
SUMMARY:Song Circle
DESCRIPTION:A regular\, informal opportunity to make music together with voices\, guitars\, banjos\, ukuleles\, harmonicas\, spoons\, etc.
URL:https://uufcc.com/event/song-circle-4/
LOCATION:UUFCC – Sanctuary\, 780 Waupelani Drive\, State College\, PA\, 16801\, United States
CATEGORIES:Music
ORGANIZER;CN="Unitarian Universalist Fellowship of Centre County":MAILTO:office@uufcc.com
END:VEVENT
BEGIN:VEVENT
DTSTART;TZID=America/New_York:20240416T190000
DTEND;TZID=America/New_York:20240416T210000
DTSTAMP:20260420T224234
CREATED:20240129T173735Z
LAST-MODIFIED:20240129T173828Z
UID:10000300-1713294000-1713301200@uufcc.com
SUMMARY:UUFCC Choir Rehearsal
DESCRIPTION:Performs for hymns and extra music during Sunday Services three times a month. \nDirected by Colleen Kennedy.
URL:https://uufcc.com/event/uufcc-choir-rehearsal-5/
LOCATION:UUFCC – Sanctuary\, 780 Waupelani Drive\, State College\, PA\, 16801\, United States
CATEGORIES:Music
END:VEVENT
BEGIN:VEVENT
DTSTART;TZID=America/New_York:20240414T113000
DTEND;TZID=America/New_York:20240414T130000
DTSTAMP:20260420T224234
CREATED:20240109T160344Z
LAST-MODIFIED:20240109T160344Z
UID:10004420-1713094200-1713099600@uufcc.com
SUMMARY:UUFCC Jazz Band Rehearsal
DESCRIPTION:The UUFCC Jazz Band is open to all. Rehearsals occur on Sundays in the Sanctuary\, although occasionally the band may rehearse in Room 6 due to major church events. \nContact David Morris if interested.
URL:https://uufcc.com/event/uufcc-jazz-band-rehearsal/2024-04-14/
LOCATION:UUFCC – Sanctuary\, 780 Waupelani Drive\, State College\, PA\, 16801\, United States
CATEGORIES:Meeting,Music
ORGANIZER;CN="Unitarian Universalist Fellowship of Centre County":MAILTO:office@uufcc.com
END:VEVENT
BEGIN:VEVENT
DTSTART;TZID=America/New_York:20240414T100000
DTEND;TZID=America/New_York:20240414T110000
DTSTAMP:20260420T224234
CREATED:20240328T150525Z
LAST-MODIFIED:20240328T151225Z
UID:10005277-1713088800-1713092400@uufcc.com
SUMMARY:Sunday Service - "OUUR History Through Hymns"
DESCRIPTION:…with Rev. Tracy Sprowls.  \nRev. Kimberley Debus suggests there is a clear arc of our Unitarian Universalist values seen in our hymns throughout our history. Where have we come from and where are we today\, especially as we vote on Article II at General Assembly in June? \nMore information about Article II here.
URL:https://uufcc.com/event/sunday-service-ouur-history-through-hymns/
LOCATION:UUFCC – Sanctuary\, 780 Waupelani Drive\, State College\, PA\, 16801\, United States
CATEGORIES:Sunday Worship Service,Worship Service
ATTACH;FMTTYPE=image/png:https://uufcc.com/wp-content/uploads/2024/03/April-14-OUUR-History-Through-Hymns.png
ORGANIZER;CN="Unitarian Universalist Fellowship of Centre County":MAILTO:office@uufcc.com
END:VEVENT
BEGIN:VEVENT
DTSTART;TZID=America/New_York:20240411T190000
DTEND;TZID=America/New_York:20240411T210000
DTSTAMP:20260420T224234
CREATED:20231021T021850Z
LAST-MODIFIED:20231021T021850Z
UID:10000299-1712862000-1712869200@uufcc.com
SUMMARY:UUFCC Choir Rehearsal
DESCRIPTION:Performs for hymns and extra music during Sunday Services three times a month. \nDirected by Colleen Kennedy.
URL:https://uufcc.com/event/uufcc-choir-rehearsal/2024-04-11/
LOCATION:UUFCC – Sanctuary\, 780 Waupelani Drive\, State College\, PA\, 16801\, United States
CATEGORIES:Music
END:VEVENT
BEGIN:VEVENT
DTSTART;TZID=America/New_York:20240407T113000
DTEND;TZID=America/New_York:20240407T130000
DTSTAMP:20260420T224234
CREATED:20240109T160344Z
LAST-MODIFIED:20240109T160344Z
UID:10004419-1712489400-1712494800@uufcc.com
SUMMARY:UUFCC Jazz Band Rehearsal
DESCRIPTION:The UUFCC Jazz Band is open to all. Rehearsals occur on Sundays in the Sanctuary\, although occasionally the band may rehearse in Room 6 due to major church events. \nContact David Morris if interested.
URL:https://uufcc.com/event/uufcc-jazz-band-rehearsal/2024-04-07/
LOCATION:UUFCC – Sanctuary\, 780 Waupelani Drive\, State College\, PA\, 16801\, United States
CATEGORIES:Meeting,Music
ORGANIZER;CN="Unitarian Universalist Fellowship of Centre County":MAILTO:office@uufcc.com
END:VEVENT
BEGIN:VEVENT
DTSTART;TZID=America/New_York:20240407T100000
DTEND;TZID=America/New_York:20240407T110000
DTSTAMP:20260420T224234
CREATED:20240328T150346Z
LAST-MODIFIED:20240328T151149Z
UID:10005276-1712484000-1712487600@uufcc.com
SUMMARY:Sunday Service - "Finding Focus"
DESCRIPTION:…with Rev. Tracy Sprowls.  \nAttention spans are shorter\, young children exposed to screens are less verbal\, and teenagers struggle with mental illness or isolation. Is technology and social media the culprit? How does technology change our brains? How does it affect our ability to relate as humans? What about our spiritual lives? \nThis sermon idea comes from Peter Kemper who bought the sermon at the 2023 Service Auction.
URL:https://uufcc.com/event/sunday-service-finding-focus/
LOCATION:UUFCC – Sanctuary\, 780 Waupelani Drive\, State College\, PA\, 16801\, United States
CATEGORIES:Sunday Worship Service,Worship Service
ATTACH;FMTTYPE=image/png:https://uufcc.com/wp-content/uploads/2024/03/April-7-Finding-Focus.png
ORGANIZER;CN="Unitarian Universalist Fellowship of Centre County":MAILTO:office@uufcc.com
END:VEVENT
BEGIN:VEVENT
DTSTART;TZID=America/New_York:20240406T160000
DTEND;TZID=America/New_York:20240406T173000
DTSTAMP:20260420T224234
CREATED:20231020T195652Z
LAST-MODIFIED:20240328T163515Z
UID:10000005-1712419200-1712424600@uufcc.com
SUMMARY:Pianist Seulki Yoo: Bringing Light Through Music
DESCRIPTION:Pianist Seulki Susie Yoo will perform a benefit recital for the Alzheimer’s Foundation at 4 p.m. on Saturday\, April 6\, at UUFCC.  Her program\,”Bringing Light through Music\,” will feature the Opus 10 and Opus 25 Etudes by Frederic Chopin. Seullki recently earned a Doctor of Musical Arts degree in Piano Performance from Penn State\, where she currently accompanies faculty and students.  Seulki was the Gold Prize winner in the 2021 Quebec International Competition and has been a prize winner or finalist in other international competitions. This program is sponsored by the UUFCC Music Committee. We invite you to enjoy a wonderful program and benefit a worthy cause. \nSee flyer. \n\nSeulki Susie Yoo is thrilled to present this Chopin recital at UUFCC to support the Alzheimer’s Foundation of America. She aims to raise essential funds for the Alzheimer’s Foundation’s critical efforts in enhancing the lives of those impacted by this challenging disease\, including her own family members. Since graduating from Penn State with a D.M.A. in 2022\, Seulki has been dedicated to promoting Paul Dukas’s piano repertoire at numerous conferences\, and her recording album\, “Paul Dukas Entire Piano Collection\,” will be released later this year. As a winner and finalist of multiple international competitions\, including the Quebec International Competition and the Brahms International Competition\, Seulki has been invited to perform as a soloist and in ensembles at many venues in the U.S. and abroad. She has collaborated with members of the Toronto Symphony Orchestra\, the Harrisburg Symphony Orchestra\, and the London Symphony Orchestra\, among others. Later this year she will be performing at the Carnegie Weill Hall in New York\, the Gilmore International Piano Festival\, and as a Fellow at the Aspen International Music Festival
URL:https://uufcc.com/event/bringing-light-through-music/
LOCATION:UUFCC – Sanctuary\, 780 Waupelani Drive\, State College\, PA\, 16801\, United States
CATEGORIES:Music
ATTACH;FMTTYPE=image/png:https://uufcc.com/wp-content/uploads/2023/10/Profile-Picture.Yoo_.png
END:VEVENT
BEGIN:VEVENT
DTSTART;TZID=America/New_York:20240404T190000
DTEND;TZID=America/New_York:20240404T210000
DTSTAMP:20260420T224234
CREATED:20231021T021850Z
LAST-MODIFIED:20231021T021850Z
UID:10000298-1712257200-1712264400@uufcc.com
SUMMARY:UUFCC Choir Rehearsal
DESCRIPTION:Performs for hymns and extra music during Sunday Services three times a month. \nDirected by Colleen Kennedy.
URL:https://uufcc.com/event/uufcc-choir-rehearsal/2024-04-04/
LOCATION:UUFCC – Sanctuary\, 780 Waupelani Drive\, State College\, PA\, 16801\, United States
CATEGORIES:Music
END:VEVENT
BEGIN:VEVENT
DTSTART;TZID=America/New_York:20240331T113000
DTEND;TZID=America/New_York:20240331T130000
DTSTAMP:20260420T224234
CREATED:20240109T160344Z
LAST-MODIFIED:20240109T160344Z
UID:10004418-1711884600-1711890000@uufcc.com
SUMMARY:UUFCC Jazz Band Rehearsal
DESCRIPTION:The UUFCC Jazz Band is open to all. Rehearsals occur on Sundays in the Sanctuary\, although occasionally the band may rehearse in Room 6 due to major church events. \nContact David Morris if interested.
URL:https://uufcc.com/event/uufcc-jazz-band-rehearsal/2024-03-31/
LOCATION:UUFCC – Sanctuary\, 780 Waupelani Drive\, State College\, PA\, 16801\, United States
CATEGORIES:Meeting,Music
ORGANIZER;CN="Unitarian Universalist Fellowship of Centre County":MAILTO:office@uufcc.com
END:VEVENT
BEGIN:VEVENT
DTSTART;TZID=America/New_York:20240331T100000
DTEND;TZID=America/New_York:20240331T110000
DTSTAMP:20260420T224234
CREATED:20240312T184328Z
LAST-MODIFIED:20240318T195902Z
UID:10004820-1711879200-1711882800@uufcc.com
SUMMARY:RE 1st - 5th Grade Kids - Multi-generational Service
DESCRIPTION:All of our RE Elementary Kids are invited to join us in the sanctuary for our Multi-generational Service\, What Gives Us Life?
URL:https://uufcc.com/event/re-1st-5th-grade-kids-12/
LOCATION:UUFCC – Sanctuary\, 780 Waupelani Drive\, State College\, PA\, 16801\, United States
CATEGORIES:Lifespan Religious Exploration,RE Kids & Youth,Young Kids
END:VEVENT
BEGIN:VEVENT
DTSTART;TZID=America/New_York:20240331T100000
DTEND;TZID=America/New_York:20240331T110000
DTSTAMP:20260420T224234
CREATED:20240221T175029Z
LAST-MODIFIED:20240328T151247Z
UID:10005198-1711879200-1711882800@uufcc.com
SUMMARY:Sunday Service (Multigenerational) - "What Gives Us Life?"
DESCRIPTION:…with Rev. Tracy Sprowls.  \nThis morning we look at other faith traditions\, including Christianity (And Easter)\, and their practices and rituals of honoring Spring.
URL:https://uufcc.com/event/sunday-service-multigenerational-what-gives-us-life/
LOCATION:UUFCC – Sanctuary\, 780 Waupelani Drive\, State College\, PA\, 16801\, United States
CATEGORIES:Sunday Worship Service,Worship Service
ATTACH;FMTTYPE=image/png:https://uufcc.com/wp-content/uploads/2024/02/Mar-31-Easter.png
END:VEVENT
BEGIN:VEVENT
DTSTART;TZID=America/New_York:20240328T190000
DTEND;TZID=America/New_York:20240328T210000
DTSTAMP:20260420T224234
CREATED:20231021T021850Z
LAST-MODIFIED:20231021T021850Z
UID:10000297-1711652400-1711659600@uufcc.com
SUMMARY:UUFCC Choir Rehearsal
DESCRIPTION:Performs for hymns and extra music during Sunday Services three times a month. \nDirected by Colleen Kennedy.
URL:https://uufcc.com/event/uufcc-choir-rehearsal/2024-03-28/
LOCATION:UUFCC – Sanctuary\, 780 Waupelani Drive\, State College\, PA\, 16801\, United States
CATEGORIES:Music
END:VEVENT
BEGIN:VEVENT
DTSTART;TZID=America/New_York:20240324T113000
DTEND;TZID=America/New_York:20240324T130000
DTSTAMP:20260420T224234
CREATED:20240109T160344Z
LAST-MODIFIED:20240109T160344Z
UID:10004417-1711279800-1711285200@uufcc.com
SUMMARY:UUFCC Jazz Band Rehearsal
DESCRIPTION:The UUFCC Jazz Band is open to all. Rehearsals occur on Sundays in the Sanctuary\, although occasionally the band may rehearse in Room 6 due to major church events. \nContact David Morris if interested.
URL:https://uufcc.com/event/uufcc-jazz-band-rehearsal/2024-03-24/
LOCATION:UUFCC – Sanctuary\, 780 Waupelani Drive\, State College\, PA\, 16801\, United States
CATEGORIES:Meeting,Music
ORGANIZER;CN="Unitarian Universalist Fellowship of Centre County":MAILTO:office@uufcc.com
END:VEVENT
BEGIN:VEVENT
DTSTART;TZID=America/New_York:20240324T100000
DTEND;TZID=America/New_York:20240324T110000
DTSTAMP:20260420T224234
CREATED:20240221T195207Z
LAST-MODIFIED:20240319T190138Z
UID:10005199-1711274400-1711278000@uufcc.com
SUMMARY:Sunday Service - "Committing to Community"
DESCRIPTION:Join us for Pledge Sunday – March 24\, 2024.  This year we are “Committing to Community.”  Our home at UUFCC makes it possible for this to happen\, because we know that together we can do more than what we can do alone!  What does commitment look like?  What does where we put our money say about us?  Why do we have to pledge anyway?  Rev. Tracy Sprowls will lead us for this very special service.
URL:https://uufcc.com/event/sunday-service-committing-to-community/
LOCATION:UUFCC – Sanctuary\, 780 Waupelani Drive\, State College\, PA\, 16801\, United States
CATEGORIES:Sunday Worship Service,Worship Service
ATTACH;FMTTYPE=image/png:https://uufcc.com/wp-content/uploads/2024/02/UUFCC-Pledge-2024-Logo.png
ORGANIZER;CN="Unitarian Universalist Fellowship of Centre County":MAILTO:office@uufcc.com
END:VEVENT
BEGIN:VEVENT
DTSTART;TZID=America/New_York:20240321T190000
DTEND;TZID=America/New_York:20240321T210000
DTSTAMP:20260420T224234
CREATED:20231021T021850Z
LAST-MODIFIED:20231021T021850Z
UID:10000296-1711047600-1711054800@uufcc.com
SUMMARY:UUFCC Choir Rehearsal
DESCRIPTION:Performs for hymns and extra music during Sunday Services three times a month. \nDirected by Colleen Kennedy.
URL:https://uufcc.com/event/uufcc-choir-rehearsal/2024-03-21/
LOCATION:UUFCC – Sanctuary\, 780 Waupelani Drive\, State College\, PA\, 16801\, United States
CATEGORIES:Music
END:VEVENT
BEGIN:VEVENT
DTSTART;TZID=America/New_York:20240317T113000
DTEND;TZID=America/New_York:20240317T130000
DTSTAMP:20260420T224234
CREATED:20240205T160422Z
LAST-MODIFIED:20240205T160422Z
UID:10005178-1710675000-1710680400@uufcc.com
SUMMARY:Pardon Project
DESCRIPTION:Across the United States\, 1 of 3 adults has a criminal record\, and 1 of every 2 children has a parent with a criminal record. Those histories are keeping people – our neighbors – from better jobs\, trades\, educations\, housing\, health care\, volunteering in their communities\, and more. They are keeping families – and whole neighborhoods – in poverty. People change. Records can too! It’s time we stopped letting history hold us back! Across the country\, people are now agreeing: If you paid your debt to society\, you should be allowed to work. \nJoin us for a presentation by Gopal Balachandran\, Associate Professor of Clinical Law at Penn State and current State College Borough Council memeber. Professor Balachandran directs the Externships Program as well as the Criminal Appellate & Post-Conviction Services Clinic at PSU while also maintaining an active presence in international legal education by teaching legal writing to LLM students. 
URL:https://uufcc.com/event/pardon-project/
LOCATION:UUFCC – Sanctuary\, 780 Waupelani Drive\, State College\, PA\, 16801\, United States
CATEGORIES:Adult RE,Event,Lifespan Religious Exploration
ATTACH;FMTTYPE=image/png:https://uufcc.com/wp-content/uploads/2024/02/Pardon-Project.png
ORGANIZER;CN="Unitarian Universalist Fellowship of Centre County":MAILTO:office@uufcc.com
END:VEVENT
BEGIN:VEVENT
DTSTART;TZID=America/New_York:20240317T113000
DTEND;TZID=America/New_York:20240317T130000
DTSTAMP:20260420T224234
CREATED:20240109T160344Z
LAST-MODIFIED:20240109T160344Z
UID:10004416-1710675000-1710680400@uufcc.com
SUMMARY:UUFCC Jazz Band Rehearsal
DESCRIPTION:The UUFCC Jazz Band is open to all. Rehearsals occur on Sundays in the Sanctuary\, although occasionally the band may rehearse in Room 6 due to major church events. \nContact David Morris if interested.
URL:https://uufcc.com/event/uufcc-jazz-band-rehearsal/2024-03-17/
LOCATION:UUFCC – Sanctuary\, 780 Waupelani Drive\, State College\, PA\, 16801\, United States
CATEGORIES:Meeting,Music
ORGANIZER;CN="Unitarian Universalist Fellowship of Centre County":MAILTO:office@uufcc.com
END:VEVENT
BEGIN:VEVENT
DTSTART;TZID=America/New_York:20240317T100000
DTEND;TZID=America/New_York:20240317T110000
DTSTAMP:20260420T224234
CREATED:20240313T160347Z
LAST-MODIFIED:20240313T160624Z
UID:10005227-1710669600-1710673200@uufcc.com
SUMMARY:Sunday Service - "Music Sunday"
DESCRIPTION:…with Colleen Kennedy.  \nThis year\, Music Sunday falls on St. Patrick’s Day. Join the Jazz Band and the Choir as we celebrate all things Celtic. And remember to wear your green!
URL:https://uufcc.com/event/sunday-service-music-sunday-03-17-2024/
LOCATION:UUFCC – Sanctuary\, 780 Waupelani Drive\, State College\, PA\, 16801\, United States
CATEGORIES:Sunday Worship Service,Worship Service
ATTACH;FMTTYPE=image/png:https://uufcc.com/wp-content/uploads/2024/03/music-sunday-mar17.png
ORGANIZER;CN="Unitarian Universalist Fellowship of Centre County":MAILTO:office@uufcc.com
END:VEVENT
BEGIN:VEVENT
DTSTART;TZID=America/New_York:20240314T190000
DTEND;TZID=America/New_York:20240314T210000
DTSTAMP:20260420T224234
CREATED:20231021T021850Z
LAST-MODIFIED:20231021T021850Z
UID:10000295-1710442800-1710450000@uufcc.com
SUMMARY:UUFCC Choir Rehearsal
DESCRIPTION:Performs for hymns and extra music during Sunday Services three times a month. \nDirected by Colleen Kennedy.
URL:https://uufcc.com/event/uufcc-choir-rehearsal/2024-03-14/
LOCATION:UUFCC – Sanctuary\, 780 Waupelani Drive\, State College\, PA\, 16801\, United States
CATEGORIES:Music
END:VEVENT
BEGIN:VEVENT
DTSTART;TZID=America/New_York:20240310T113000
DTEND;TZID=America/New_York:20240310T130000
DTSTAMP:20260420T224234
CREATED:20240117T153104Z
LAST-MODIFIED:20240302T134421Z
UID:10004887-1710070200-1710075600@uufcc.com
SUMMARY:Hot Topics: Housing Crisis in Centre County ~ Panel Discussion
DESCRIPTION:Join us for a dynamic panel discussion about the housing crisis in Centre County! We will use the 2023 Centre County Housing Needs Assessment and stories from people impacted to frame the problem. Then\, we will draw insights from local leaders who are on the front lines of the issue\, as well as a national perspective from the organization Strong Towns\, on how to best address the crisis. \nPanelists include: \nMatt Herndon\, State College Borough Council member \nMatt will share his considerable knowledge of the innovative ways housing is being addressed nationally. He will also convey his vision for how the State College area could become a place where people of all income levels have access to housing.   \n  \nRobert Zeigler\, Millheim Borough Council Member \nRobert is a community leader and working-class advocate. He is known for his willingness to engage with those who have differing views\, thinking outside the box\, and providing solutions to problems.   \n  \nMorgan Wasikonis\, Executive Director\, Housing Transitions and Home Foundation \nHousing Transitions helps those in a housing crisis with various services in Centre County. The HOME Foundation emphasizes affordable housing\, offering a first-time homebuyer program\, housing counseling\, and income-qualified rental units. Morgan will share her vast knowledge of homelessness and housing insecurity in the area that is often hidden and more widespread than people think.  \n  \nKrista Shawley\, Shelter Director\, CentreSafe \nCentreSafe offers an emergency shelter and other services for people in the area leaving situations of domestic violence or who are survivors of sexual assault. Krista will share her experiences working with and finding housing for some of our most vulnerable residents. \n  \nBlake Harper\, KTFG Real Estate \nBlake has eighteen (18) years of experience in residential rental property ownership and management. He’s an advocate for inclusive communities\, zoning reform\, walkable neighborhoods\, and preventative maintenance. \n  \nModerated by Jenna Henry\, Director\, Central Pennsylvania United \nJenna will share some of her personal experiences living in poverty in addition to guiding the conversation of the panel. She is a lifelong resident of Centre County who now advocates for the issues of poor and working class people. 
URL:https://uufcc.com/event/affordable-housing/
LOCATION:UUFCC – Sanctuary\, 780 Waupelani Drive\, State College\, PA\, 16801\, United States
CATEGORIES:Adult RE,Lifespan Religious Exploration
ATTACH;FMTTYPE=image/png:https://uufcc.com/wp-content/uploads/2024/01/Mar-10.png
ORGANIZER;CN="Unitarian Universalist Fellowship of Centre County":MAILTO:office@uufcc.com
END:VEVENT
BEGIN:VEVENT
DTSTART;TZID=America/New_York:20240310T113000
DTEND;TZID=America/New_York:20240310T130000
DTSTAMP:20260420T224234
CREATED:20240109T160344Z
LAST-MODIFIED:20240109T160344Z
UID:10004415-1710070200-1710075600@uufcc.com
SUMMARY:UUFCC Jazz Band Rehearsal
DESCRIPTION:The UUFCC Jazz Band is open to all. Rehearsals occur on Sundays in the Sanctuary\, although occasionally the band may rehearse in Room 6 due to major church events. \nContact David Morris if interested.
URL:https://uufcc.com/event/uufcc-jazz-band-rehearsal/2024-03-10/
LOCATION:UUFCC – Sanctuary\, 780 Waupelani Drive\, State College\, PA\, 16801\, United States
CATEGORIES:Meeting,Music
ORGANIZER;CN="Unitarian Universalist Fellowship of Centre County":MAILTO:office@uufcc.com
END:VEVENT
BEGIN:VEVENT
DTSTART;TZID=America/New_York:20240310T100000
DTEND;TZID=America/New_York:20240310T110000
DTSTAMP:20260420T224234
CREATED:20240228T193559Z
LAST-MODIFIED:20240228T193908Z
UID:10005202-1710064800-1710068400@uufcc.com
SUMMARY:Sunday Service - "Fair Trade: Changing Lives Through Conscientious Trade"
DESCRIPTION:…with Cathi Alloway.\n \nLearn about the global fair trade movement through the work of the Ten Thousand Villages store in State College. Fair trade strives to eliminate poverty by paying farmers and craftspeople a fair wage for their labor. A sale of fair trade goods will be held after the service
URL:https://uufcc.com/event/sunday-service-fair-trade-changing-lives-through-conscientious-trade/
LOCATION:UUFCC – Sanctuary\, 780 Waupelani Drive\, State College\, PA\, 16801\, United States
CATEGORIES:Sunday Worship Service,Worship Service
ATTACH;FMTTYPE=image/png:https://uufcc.com/wp-content/uploads/2024/02/fair-trade.png
ORGANIZER;CN="Unitarian Universalist Fellowship of Centre County":MAILTO:office@uufcc.com
END:VEVENT
BEGIN:VEVENT
DTSTART;TZID=America/New_York:20240308T190000
DTEND;TZID=America/New_York:20240308T210000
DTSTAMP:20260420T224234
CREATED:20231105T154116Z
LAST-MODIFIED:20231105T154116Z
UID:10002707-1709924400-1709931600@uufcc.com
SUMMARY:Song Circle
DESCRIPTION:A regular\, informal opportunity to make music together with voices\, guitars\, banjos\, ukuleles\, harmonicas\, spoons\, etc.
URL:https://uufcc.com/event/song-circle/2024-03-08/
LOCATION:UUFCC – Sanctuary\, 780 Waupelani Drive\, State College\, PA\, 16801\, United States
CATEGORIES:Music
ORGANIZER;CN="Unitarian Universalist Fellowship of Centre County":MAILTO:office@uufcc.com
END:VEVENT
BEGIN:VEVENT
DTSTART;TZID=America/New_York:20240307T190000
DTEND;TZID=America/New_York:20240307T210000
DTSTAMP:20260420T224234
CREATED:20231021T021850Z
LAST-MODIFIED:20231021T021850Z
UID:10000294-1709838000-1709845200@uufcc.com
SUMMARY:UUFCC Choir Rehearsal
DESCRIPTION:Performs for hymns and extra music during Sunday Services three times a month. \nDirected by Colleen Kennedy.
URL:https://uufcc.com/event/uufcc-choir-rehearsal/2024-03-07/
LOCATION:UUFCC – Sanctuary\, 780 Waupelani Drive\, State College\, PA\, 16801\, United States
CATEGORIES:Music
END:VEVENT
BEGIN:VEVENT
DTSTART;TZID=America/New_York:20240303T113000
DTEND;TZID=America/New_York:20240303T130000
DTSTAMP:20260420T224234
CREATED:20240109T160344Z
LAST-MODIFIED:20240109T160344Z
UID:10004414-1709465400-1709470800@uufcc.com
SUMMARY:UUFCC Jazz Band Rehearsal
DESCRIPTION:The UUFCC Jazz Band is open to all. Rehearsals occur on Sundays in the Sanctuary\, although occasionally the band may rehearse in Room 6 due to major church events. \nContact David Morris if interested.
URL:https://uufcc.com/event/uufcc-jazz-band-rehearsal/2024-03-03/
LOCATION:UUFCC – Sanctuary\, 780 Waupelani Drive\, State College\, PA\, 16801\, United States
CATEGORIES:Meeting,Music
ORGANIZER;CN="Unitarian Universalist Fellowship of Centre County":MAILTO:office@uufcc.com
END:VEVENT
BEGIN:VEVENT
DTSTART;TZID=America/New_York:20240303T100000
DTEND;TZID=America/New_York:20240303T110000
DTSTAMP:20260420T224234
CREATED:20240221T174907Z
LAST-MODIFIED:20240221T174907Z
UID:10005197-1709460000-1709463600@uufcc.com
SUMMARY:Sunday Service - "Poverty and the Moral Movement"
DESCRIPTION:…with Rev. Tracy Sprowls.  \nThe Poor People’s Campaign\, headed by Rev. William Barber\, is rallying in 32 capitals on March 2. The hope is to draw attention to poverty as the fourth leading cause of death in the USA and to mobilize poor people to vote.
URL:https://uufcc.com/event/sunday-service-poverty-and-the-moral-movement/
LOCATION:UUFCC – Sanctuary\, 780 Waupelani Drive\, State College\, PA\, 16801\, United States
CATEGORIES:Sunday Worship Service,Worship Service
ATTACH;FMTTYPE=image/png:https://uufcc.com/wp-content/uploads/2024/02/Poverty-and-the-Moral-Movement-Mar-3.png
END:VEVENT
END:VCALENDAR